BEGIN:VCALENDAR
VERSION:2.0
PRODID:-//SAN DIEGO ARCHAEOLOGICAL CENTER - ECPv6.15.20//NONSGML v1.0//EN
CALSCALE:GREGORIAN
METHOD:PUBLISH
X-WR-CALNAME:SAN DIEGO ARCHAEOLOGICAL CENTER
X-ORIGINAL-URL:https://sandiegoarchaeology.org
X-WR-CALDESC:Events for SAN DIEGO ARCHAEOLOGICAL CENTER
REFRESH-INTERVAL;VALUE=DURATION:PT1H
X-Robots-Tag:noindex
X-PUBLISHED-TTL:PT1H
BEGIN:VTIMEZONE
TZID:America/Los_Angeles
BEGIN:DAYLIGHT
TZOFFSETFROM:-0800
TZOFFSETTO:-0700
TZNAME:PDT
DTSTART:20250309T100000
END:DAYLIGHT
BEGIN:STANDARD
TZOFFSETFROM:-0700
TZOFFSETTO:-0800
TZNAME:PST
DTSTART:20251102T090000
END:STANDARD
BEGIN:DAYLIGHT
TZOFFSETFROM:-0800
TZOFFSETTO:-0700
TZNAME:PDT
DTSTART:20260308T100000
END:DAYLIGHT
BEGIN:STANDARD
TZOFFSETFROM:-0700
TZOFFSETTO:-0800
TZNAME:PST
DTSTART:20261101T090000
END:STANDARD
BEGIN:DAYLIGHT
TZOFFSETFROM:-0800
TZOFFSETTO:-0700
TZNAME:PDT
DTSTART:20270314T100000
END:DAYLIGHT
BEGIN:STANDARD
TZOFFSETFROM:-0700
TZOFFSETTO:-0800
TZNAME:PST
DTSTART:20271107T090000
END:STANDARD
END:VTIMEZONE
BEGIN:VEVENT
DTSTART;TZID=America/Los_Angeles:20260429T100000
DTEND;TZID=America/Los_Angeles:20260429T160000
DTSTAMP:20260423T045119
CREATED:20250107T213824Z
LAST-MODIFIED:20251119T000831Z
UID:10000489-1777456800-1777478400@sandiegoarchaeology.org
SUMMARY:Senior Wednesdays
DESCRIPTION:Seniors 65+ can enjoy free admission to the Center on Wednesdays. Discover the science of archaeology through our interactive Archaeology 101 exhibit\, explore the cultural periods of San Diego\, and uncover the Lives and Lifestyles on Block 112: The Untold Story of San Diego’s Working Class.
URL:https://sandiegoarchaeology.org/event/senior-wednesdays-2/2026-04-29/
LOCATION:San Diego Archaeological Center\, 16666 San Pasqual Valley Road\, Escondido\, CA\, 92027\, United States
CATEGORIES:SDAC Events
ORGANIZER;CN="San Diego Archaeological Center":MAILTO:aniesley@sandiegoarchaeology.org
END:VEVENT
END:VCALENDAR