BEGIN:VCALENDAR
VERSION:2.0
PRODID:-//SAN DIEGO ARCHAEOLOGICAL CENTER - ECPv6.15.20//NONSGML v1.0//EN
CALSCALE:GREGORIAN
METHOD:PUBLISH
X-WR-CALNAME:SAN DIEGO ARCHAEOLOGICAL CENTER
X-ORIGINAL-URL:https://sandiegoarchaeology.org
X-WR-CALDESC:Events for SAN DIEGO ARCHAEOLOGICAL CENTER
REFRESH-INTERVAL;VALUE=DURATION:PT1H
X-Robots-Tag:noindex
X-PUBLISHED-TTL:PT1H
BEGIN:VTIMEZONE
TZID:America/Los_Angeles
BEGIN:DAYLIGHT
TZOFFSETFROM:-0800
TZOFFSETTO:-0700
TZNAME:PDT
DTSTART:20230312T100000
END:DAYLIGHT
BEGIN:STANDARD
TZOFFSETFROM:-0700
TZOFFSETTO:-0800
TZNAME:PST
DTSTART:20231105T090000
END:STANDARD
BEGIN:DAYLIGHT
TZOFFSETFROM:-0800
TZOFFSETTO:-0700
TZNAME:PDT
DTSTART:20240310T100000
END:DAYLIGHT
BEGIN:STANDARD
TZOFFSETFROM:-0700
TZOFFSETTO:-0800
TZNAME:PST
DTSTART:20241103T090000
END:STANDARD
BEGIN:DAYLIGHT
TZOFFSETFROM:-0800
TZOFFSETTO:-0700
TZNAME:PDT
DTSTART:20250309T100000
END:DAYLIGHT
BEGIN:STANDARD
TZOFFSETFROM:-0700
TZOFFSETTO:-0800
TZNAME:PST
DTSTART:20251102T090000
END:STANDARD
END:VTIMEZONE
BEGIN:VEVENT
DTSTART;TZID=America/Los_Angeles:20240810T033000
DTEND;TZID=America/Los_Angeles:20240810T070000
DTSTAMP:20260424T091147
CREATED:20240822T004945Z
LAST-MODIFIED:20240823T192257Z
UID:10000044-1723260600-1723273200@sandiegoarchaeology.org
SUMMARY:2nd Saturday Lecture Screenings
DESCRIPTION:Join us every 2nd Saturday of the month for two screenings of our Living Room Lectures by archaeologists\, experts\, and authors. Lecture screenings start at 10:30 AM and 12:30 PM and are included with museum admission. No reservations needed. Seating is first come\, first served. \n10:30 AM – It’s Grind Time! Recent Investigations of the Ancestral Maya Ground Stone Tool Industry in the Mountain Pine Ridge Forest Reserve\, Belize by Dr. Jon Spenard\nWhile conducting opportunistic regional survey in summer 2022 in the Mountain Pine Ridge Forest Reserve\, Belize\, Dr. Jon Spenard’s Rio Frio Regional Archaeological Project was informed of a series of granitic rock debitage piles nearby. Investigations revealed them to be ancestral Maya quarries and ground stone tool workshops\, the first of their kind recorded anywhere in the Maya region. Naming the site the Buffalo Hill Quarries\, the project mapped over a dozen extraction features (quarry pits and cut faces) surrounded by debitage piles spread over an area of approximately 16 hectares (40 acres). Aided by data from an aerial LiDAR survey of the region\, the project returned in summer 2023 to finish mapping the site and conduct test excavations on an extraction locus to investigate ancestral Maya quarrying methods and techniques. In this talk\, Dr. Spenard will present the results of those two field seasons\, introduce more results from the LiDAR survey\, and discuss the next stages of the project\, including examining who the quarry workers were and how their products may have been distributed. \n12:30 PM – The Skeletons of La Consentida\, Oaxaca\, Mexico by José “Pepe” Aguilar\nTwelve burials\, comprising 14 individuals\, were excavated from an Early Formative Period (1950–1525 BC) site called La Consentida\, in Oaxaca\, Mexico in 2009 and in 2012. These burials were later analyzed in 2012 and 2019. Collectively\, they represent the earliest formal cemetery in the Mesoamerican west coast. Note: this presentation will show photographs of human skeletal remains.
URL:https://sandiegoarchaeology.org/event/2nd-saturday-lecture-screenings-4/
CATEGORIES:Arch Collective,SDAC Events
END:VEVENT
BEGIN:VEVENT
DTSTART;TZID=America/Los_Angeles:20240810T040000
DTEND;TZID=America/Los_Angeles:20240810T050000
DTSTAMP:20260424T091147
CREATED:20240822T004856Z
LAST-MODIFIED:20240823T192235Z
UID:10000033-1723262400-1723266000@sandiegoarchaeology.org
SUMMARY:Save Our Heritage Organization: Penning the Past Zoom Lecture - La Mesa
DESCRIPTION:Join the Save Our Heritage Organization to learn about the unique character of San Diego’s historic neighborhoods through the eyes of impassioned writers and historians. Brought to life by esteemed local authors\, Penning the Past promises to be an enriching exploration of San Diego’s architectural legacy and historical tapestry.  The series is free for SOHO members\, $10 per lecture for non-members. Your participation supports SOHO’s mission of education and advocacy to preserve the historic architecture\, sites\, and cultural landscapes that surround us and add meaning to our daily lives. \nLa Mesa by James Newland\n \nOn February 16\, 1912\, La Mesa Springs\, a community of 700 citrus farmers\, home seekers\, developers\, and businessmen\, incorporated into the City of La Mesa. Located among the rolling hills and mesa lands between San Diego and El Cajon\, today’s suburban city of over 56\,000 is still renowned for its small-town character\, featuring its historic village business district\, family-friendly neighborhoods\, good schools\, and ample retail and recreational amenities. The area’s centuries-old prehistory and history can be traced to the natural springs that attracted stockman Robert Allison in 1869. Allison Springs\, later renamed\, prospered and grew after the arrival of the railroad in 1889. After incorporation\, the young city grew steadily\, reaching 3\,925 residents by 1940. Post World War II La Mesa exemplified the exponential suburban growth of the region\, expanding to the north and west of the old downtown to accommodate 50\,000-plus residents by 1980—all were attracted\, as today\, to the “Jewel of the Hills.” \nAuthor bio Historian and planner for the California State Parks Department\, James Newland has been a stalwart in the field of historic preservation since 1991\, and is past president of the La Mesa History Center. He has an MA in public history from San Diego State\, has authored four insightful books on local history—Cleveland National Forest\, Grossmont Hospital: A Legacy of Community Service\, Around Mt. Helix\, and La Mesa—and has made countless contributions to our community’s heritage. \nThis event is hosted by the Save Our Heritage Organization. For more information\, questions\, and registration\, please contact the event organizer.
URL:https://sandiegoarchaeology.org/event/save-our-heritage-organization-penning-the-past-zoom-lecture-la-mesa/
CATEGORIES:Arch Collective,Other Events of Interest
END:VEVENT
BEGIN:VEVENT
DTSTART;TZID=America/Los_Angeles:20240817T110000
DTEND;TZID=America/Los_Angeles:20240817T130000
DTSTAMP:20260424T091147
CREATED:20240822T004912Z
LAST-MODIFIED:20240824T174346Z
UID:10000036-1723892400-1723899600@sandiegoarchaeology.org
SUMMARY:Lecture: Geology of San Diego County – The Formative Years
DESCRIPTION:This talk will focus on amazing geological forces and events from the last 200 million years that have shaped the San Diego County we see today. From regional tectonics to massive volcanism\, uplift and erosion\, and the many current infrastructure challenges San Diego currently faces\, Mike Thacker will tell the story behind our broad mesas\, dramatic coastlines\, canyons\, and wide valleys. Attendees will be sure to come away with a deepened understanding of and appreciation for the geological history of our unique region. \nCost: Pay what you wish \nAdvance registration is closed. Please pay at door. \n\nAbout the Presenter \nMike Thacker is a retired Senior Staff Research and Development Scientist at Thermo Fisher Scientific. He has a B.S. in zoology from San Diego State University and studied anthropology and archaeology at University of California Santa Barbara\, Palomar College\, and San Diego State University. He has been a member of the Board of Trustees for the San Diego Archaeological Center since 2018 and is a volunteer teaching assistant for Palomar College archaeological excavation field school and survey programs. Mike is passionate about his home of San Diego and leads interpretive hikes for the San Dieguito River Park and San Dieguito River Valley Conservancy. His interest in geology has motivated his study of the geology of the San Diego region for the last 14 years.
URL:https://sandiegoarchaeology.org/event/lecture-geology-of-san-diego-county-the-formative-years/
CATEGORIES:Arch Collective,SDAC Events
ATTACH;FMTTYPE=image/png:https://sandiegoarchaeology.org/wp-content/uploads/2024/08/Lecture_Geology-Event-Banner.png
END:VEVENT
END:VCALENDAR