BEGIN:VCALENDAR
VERSION:2.0
PRODID:-//SAN DIEGO ARCHAEOLOGICAL CENTER - ECPv6.15.20//NONSGML v1.0//EN
CALSCALE:GREGORIAN
METHOD:PUBLISH
X-WR-CALNAME:SAN DIEGO ARCHAEOLOGICAL CENTER
X-ORIGINAL-URL:https://sandiegoarchaeology.org
X-WR-CALDESC:Events for SAN DIEGO ARCHAEOLOGICAL CENTER
REFRESH-INTERVAL;VALUE=DURATION:PT1H
X-Robots-Tag:noindex
X-PUBLISHED-TTL:PT1H
BEGIN:VTIMEZONE
TZID:America/Los_Angeles
BEGIN:DAYLIGHT
TZOFFSETFROM:-0800
TZOFFSETTO:-0700
TZNAME:PDT
DTSTART:20230312T100000
END:DAYLIGHT
BEGIN:STANDARD
TZOFFSETFROM:-0700
TZOFFSETTO:-0800
TZNAME:PST
DTSTART:20231105T090000
END:STANDARD
BEGIN:DAYLIGHT
TZOFFSETFROM:-0800
TZOFFSETTO:-0700
TZNAME:PDT
DTSTART:20240310T100000
END:DAYLIGHT
BEGIN:STANDARD
TZOFFSETFROM:-0700
TZOFFSETTO:-0800
TZNAME:PST
DTSTART:20241103T090000
END:STANDARD
BEGIN:DAYLIGHT
TZOFFSETFROM:-0800
TZOFFSETTO:-0700
TZNAME:PDT
DTSTART:20250309T100000
END:DAYLIGHT
BEGIN:STANDARD
TZOFFSETFROM:-0700
TZOFFSETTO:-0800
TZNAME:PST
DTSTART:20251102T090000
END:STANDARD
END:VTIMEZONE
BEGIN:VEVENT
DTSTART;TZID=America/Los_Angeles:20240704T100000
DTEND;TZID=America/Los_Angeles:20240704T110000
DTSTAMP:20260424T062940
CREATED:20240823T171951Z
LAST-MODIFIED:20250530T211457Z
UID:10000393-1720087200-1720090800@sandiegoarchaeology.org
SUMMARY:Story Time with an Archaeologist
DESCRIPTION:Join us on select Thursday mornings for archaeology-themed story time at the Center. Stay afterwards to explore the museum with family-friendly activities like our Archaeology Quest and Field Lab.
URL:https://sandiegoarchaeology.org/event/story-time-with-an-archaeologist/2024-07-04/
LOCATION:San Diego Archaeological Center\, 16666 San Pasqual Valley Road\, Escondido\, CA\, 92027\, United States
CATEGORIES:Kids Dig Archaeology,SDAC Events
ATTACH;FMTTYPE=image/png:https://sandiegoarchaeology.org/wp-content/uploads/2024/06/Storytime-10am.png
ORGANIZER;CN="San Diego Archaeological Center":MAILTO:aniesley@sandiegoarchaeology.org
END:VEVENT
BEGIN:VEVENT
DTSTART;TZID=America/Los_Angeles:20240711T100000
DTEND;TZID=America/Los_Angeles:20240711T110000
DTSTAMP:20260424T062940
CREATED:20240823T171951Z
LAST-MODIFIED:20250530T211457Z
UID:10000394-1720692000-1720695600@sandiegoarchaeology.org
SUMMARY:Story Time with an Archaeologist
DESCRIPTION:Join us on select Thursday mornings for archaeology-themed story time at the Center. Stay afterwards to explore the museum with family-friendly activities like our Archaeology Quest and Field Lab.
URL:https://sandiegoarchaeology.org/event/story-time-with-an-archaeologist/2024-07-11/
LOCATION:San Diego Archaeological Center\, 16666 San Pasqual Valley Road\, Escondido\, CA\, 92027\, United States
CATEGORIES:Kids Dig Archaeology,SDAC Events
ATTACH;FMTTYPE=image/png:https://sandiegoarchaeology.org/wp-content/uploads/2024/06/Storytime-10am.png
ORGANIZER;CN="San Diego Archaeological Center":MAILTO:aniesley@sandiegoarchaeology.org
END:VEVENT
BEGIN:VEVENT
DTSTART;TZID=America/Los_Angeles:20240713T103000
DTEND;TZID=America/Los_Angeles:20240713T140000
DTSTAMP:20260424T062940
CREATED:20240822T004929Z
LAST-MODIFIED:20240824T174446Z
UID:10000039-1720866600-1720879200@sandiegoarchaeology.org
SUMMARY:2nd Saturday Lecture Screenings
DESCRIPTION:Join us every 2nd Saturday of the month for two screenings of our Living Room Lectures by archaeologists\, experts\, and authors. Lecture screenings start at 10:30 AM and 12:30 PM and are included with museum admission. No reservations needed. Seating is first come\, first served. \n10:30 AM – Ethnozoology of the Kumeyaay People by Richard Carrico\nFor the Kumeyaay people of San Diego County\, animals\, birds\, insects\, and other creatures hold a special place in the cosmos and played a variety of important roles. Their embodiment is not always easily visualized because some creatures\, large and small\, exist in worlds not always seen by most humans\, and rarely acknowledged by archaeologists. For many of the native people\, there was a time when animals were actually human. In the mythic\, ancient time what we now know as humans\, or more correctly as mortals\, did not exist. The world was inhabited by animals and by animals who were humans but not mortals—these were the Early People and some creatures could embody traits of what came to be known as the mortal humans and animals. Only later in time did the separation grow between animals and humans\, and at that time the humans became mortal. This presentation will provide an analysis and discussion of the role and place of non-human creatures within the world and cosmos of the Kumeyaay people of San Diego County. \n12:30 PM – The First Chicken Burrito in Western North America: Zooarchaeology of Avian Remains for the San Diego Royal Presidio by Dr. Aharon Sasson\nThe San Diego Presidio\, established in AD 1769\, was the first European settlement in Upper California. Very little is known about chicken husbandry in colonial America\, which makes this study the first comprehensive analysis of chicken remains in North America. Chickens are scarcely mentioned in historical accounts describing early California\, and information on their sex\, age\, or management is rare. Small-scale poultry production\, likely managed by women and children\, provided California presidios with a form of subsistence independence.
URL:https://sandiegoarchaeology.org/event/2nd-saturday-lecture-screenings-3/
LOCATION:San Diego Archaeological Center\, 16666 San Pasqual Valley Road\, Escondido\, CA\, 92027\, United States
CATEGORIES:Arch Collective,SDAC Events
ORGANIZER;CN="San Diego Archaeological Center":MAILTO:aniesley@sandiegoarchaeology.org
END:VEVENT
BEGIN:VEVENT
DTSTART;TZID=America/Los_Angeles:20240718T100000
DTEND;TZID=America/Los_Angeles:20240718T110000
DTSTAMP:20260424T062940
CREATED:20240823T171951Z
LAST-MODIFIED:20250530T211457Z
UID:10000395-1721296800-1721300400@sandiegoarchaeology.org
SUMMARY:Story Time with an Archaeologist
DESCRIPTION:Join us on select Thursday mornings for archaeology-themed story time at the Center. Stay afterwards to explore the museum with family-friendly activities like our Archaeology Quest and Field Lab.
URL:https://sandiegoarchaeology.org/event/story-time-with-an-archaeologist/2024-07-18/
LOCATION:San Diego Archaeological Center\, 16666 San Pasqual Valley Road\, Escondido\, CA\, 92027\, United States
CATEGORIES:Kids Dig Archaeology,SDAC Events
ATTACH;FMTTYPE=image/png:https://sandiegoarchaeology.org/wp-content/uploads/2024/06/Storytime-10am.png
ORGANIZER;CN="San Diego Archaeological Center":MAILTO:aniesley@sandiegoarchaeology.org
END:VEVENT
BEGIN:VEVENT
DTSTART;TZID=America/Los_Angeles:20240720T090000
DTEND;TZID=America/Los_Angeles:20240720T120000
DTSTAMP:20260424T062940
CREATED:20240822T004910Z
LAST-MODIFIED:20240824T174425Z
UID:10000034-1721466000-1721476800@sandiegoarchaeology.org
SUMMARY:Historic Archery at the Center
DESCRIPTION:We’re stringing our bows for a spot of archery right here at the San Diego Archaeological Center! \nShoot some rounds\, make some new friends\,  and learn about how different cultures around the world crafted\, hunted\, and fought with bows and arrows. We’ll be showcasing handmade traditional bows\, arrows\, quivers\, and cordage\, and demonstrating how to craft them out of natural materials. \nNo previous experience required. Please bring your own gear if possible. A limited amount of gear will be available to borrow – first come\, first served. \nFamily-friendly range time: 9 AM to 10 AM\nAdults only: 10 AM to 12 PM \nCost: $10 (includes museum admission); SDAC Members Free
URL:https://sandiegoarchaeology.org/event/historic-archery-at-the-center/
LOCATION:San Diego Archaeological Center\, 16666 San Pasqual Valley Road\, Escondido\, CA\, 92027\, United States
CATEGORIES:SDAC Events,Trekking Club
ATTACH;FMTTYPE=image/png:https://sandiegoarchaeology.org/wp-content/uploads/2024/08/Archery-July_Calendar-Banner.png
ORGANIZER;CN="San Diego Archaeological Center":MAILTO:aniesley@sandiegoarchaeology.org
END:VEVENT
BEGIN:VEVENT
DTSTART;TZID=America/Los_Angeles:20240722T020000
DTEND;TZID=America/Los_Angeles:20240722T080000
DTSTAMP:20260424T062940
CREATED:20240822T004827Z
LAST-MODIFIED:20240823T193307Z
UID:10000025-1721613600-1721635200@sandiegoarchaeology.org
SUMMARY:Archaeology Summer Camp Session 2
DESCRIPTION:Join us for an unforgettable week at the San Diego Archaeological Center’s KIDS DIG Archaeology Summer Camp! Kids will embark on a journey through time as you explore the rich history and culture of our shared human past through a variety of hands-on activities\, including basketry\, local hiking\, honing your archery and atlatl skills\, crafting pottery\, ancient games\, and decoding Ice Age rock art from around the world. \nWhether your child or grandchild is a budding archaeologist or just eager to experience the past in a whole new way\, our summer camp offers something for everyone. Get ready for a week filled with adventure\, discovery\, and endless fun! Space is limited to 25 campers per session. Ages: 6-12. Sign up now and let the adventure begin! \nView our Archaeology Summer Camp page for more details and registration.
URL:https://sandiegoarchaeology.org/event/archaeology-summer-camp-session-2/2024-07-22/
LOCATION:San Diego Archaeological Center\, 16666 San Pasqual Valley Road\, Escondido\, CA\, 92027\, United States
CATEGORIES:Kids Dig Archaeology,SDAC Events
ATTACH;FMTTYPE=image/png:https://sandiegoarchaeology.org/wp-content/uploads/2024/08/Kids-Summer-Camp.png
ORGANIZER;CN="San Diego Archaeological Center":MAILTO:aniesley@sandiegoarchaeology.org
END:VEVENT
BEGIN:VEVENT
DTSTART;TZID=America/Los_Angeles:20240723T020000
DTEND;TZID=America/Los_Angeles:20240723T080000
DTSTAMP:20260424T062940
CREATED:20240822T004827Z
LAST-MODIFIED:20240823T193307Z
UID:10000389-1721700000-1721721600@sandiegoarchaeology.org
SUMMARY:Archaeology Summer Camp Session 2
DESCRIPTION:Join us for an unforgettable week at the San Diego Archaeological Center’s KIDS DIG Archaeology Summer Camp! Kids will embark on a journey through time as you explore the rich history and culture of our shared human past through a variety of hands-on activities\, including basketry\, local hiking\, honing your archery and atlatl skills\, crafting pottery\, ancient games\, and decoding Ice Age rock art from around the world. \nWhether your child or grandchild is a budding archaeologist or just eager to experience the past in a whole new way\, our summer camp offers something for everyone. Get ready for a week filled with adventure\, discovery\, and endless fun! Space is limited to 25 campers per session. Ages: 6-12. Sign up now and let the adventure begin! \nView our Archaeology Summer Camp page for more details and registration.
URL:https://sandiegoarchaeology.org/event/archaeology-summer-camp-session-2/2024-07-23/
LOCATION:San Diego Archaeological Center\, 16666 San Pasqual Valley Road\, Escondido\, CA\, 92027\, United States
CATEGORIES:Kids Dig Archaeology,SDAC Events
ATTACH;FMTTYPE=image/png:https://sandiegoarchaeology.org/wp-content/uploads/2024/08/Kids-Summer-Camp.png
ORGANIZER;CN="San Diego Archaeological Center":MAILTO:aniesley@sandiegoarchaeology.org
END:VEVENT
BEGIN:VEVENT
DTSTART;TZID=America/Los_Angeles:20240724T020000
DTEND;TZID=America/Los_Angeles:20240724T080000
DTSTAMP:20260424T062940
CREATED:20240822T004827Z
LAST-MODIFIED:20240823T193307Z
UID:10000390-1721786400-1721808000@sandiegoarchaeology.org
SUMMARY:Archaeology Summer Camp Session 2
DESCRIPTION:Join us for an unforgettable week at the San Diego Archaeological Center’s KIDS DIG Archaeology Summer Camp! Kids will embark on a journey through time as you explore the rich history and culture of our shared human past through a variety of hands-on activities\, including basketry\, local hiking\, honing your archery and atlatl skills\, crafting pottery\, ancient games\, and decoding Ice Age rock art from around the world. \nWhether your child or grandchild is a budding archaeologist or just eager to experience the past in a whole new way\, our summer camp offers something for everyone. Get ready for a week filled with adventure\, discovery\, and endless fun! Space is limited to 25 campers per session. Ages: 6-12. Sign up now and let the adventure begin! \nView our Archaeology Summer Camp page for more details and registration.
URL:https://sandiegoarchaeology.org/event/archaeology-summer-camp-session-2/2024-07-24/
LOCATION:San Diego Archaeological Center\, 16666 San Pasqual Valley Road\, Escondido\, CA\, 92027\, United States
CATEGORIES:Kids Dig Archaeology,SDAC Events
ATTACH;FMTTYPE=image/png:https://sandiegoarchaeology.org/wp-content/uploads/2024/08/Kids-Summer-Camp.png
ORGANIZER;CN="San Diego Archaeological Center":MAILTO:aniesley@sandiegoarchaeology.org
END:VEVENT
BEGIN:VEVENT
DTSTART;TZID=America/Los_Angeles:20240725T020000
DTEND;TZID=America/Los_Angeles:20240725T080000
DTSTAMP:20260424T062940
CREATED:20240822T004827Z
LAST-MODIFIED:20240823T193307Z
UID:10000391-1721872800-1721894400@sandiegoarchaeology.org
SUMMARY:Archaeology Summer Camp Session 2
DESCRIPTION:Join us for an unforgettable week at the San Diego Archaeological Center’s KIDS DIG Archaeology Summer Camp! Kids will embark on a journey through time as you explore the rich history and culture of our shared human past through a variety of hands-on activities\, including basketry\, local hiking\, honing your archery and atlatl skills\, crafting pottery\, ancient games\, and decoding Ice Age rock art from around the world. \nWhether your child or grandchild is a budding archaeologist or just eager to experience the past in a whole new way\, our summer camp offers something for everyone. Get ready for a week filled with adventure\, discovery\, and endless fun! Space is limited to 25 campers per session. Ages: 6-12. Sign up now and let the adventure begin! \nView our Archaeology Summer Camp page for more details and registration.
URL:https://sandiegoarchaeology.org/event/archaeology-summer-camp-session-2/2024-07-25/
LOCATION:San Diego Archaeological Center\, 16666 San Pasqual Valley Road\, Escondido\, CA\, 92027\, United States
CATEGORIES:Kids Dig Archaeology,SDAC Events
ATTACH;FMTTYPE=image/png:https://sandiegoarchaeology.org/wp-content/uploads/2024/08/Kids-Summer-Camp.png
ORGANIZER;CN="San Diego Archaeological Center":MAILTO:aniesley@sandiegoarchaeology.org
END:VEVENT
BEGIN:VEVENT
DTSTART;TZID=America/Los_Angeles:20240725T100000
DTEND;TZID=America/Los_Angeles:20240725T110000
DTSTAMP:20260424T062940
CREATED:20240823T171951Z
LAST-MODIFIED:20250530T211457Z
UID:10000396-1721901600-1721905200@sandiegoarchaeology.org
SUMMARY:Story Time with an Archaeologist
DESCRIPTION:Join us on select Thursday mornings for archaeology-themed story time at the Center. Stay afterwards to explore the museum with family-friendly activities like our Archaeology Quest and Field Lab.
URL:https://sandiegoarchaeology.org/event/story-time-with-an-archaeologist/2024-07-25/
LOCATION:San Diego Archaeological Center\, 16666 San Pasqual Valley Road\, Escondido\, CA\, 92027\, United States
CATEGORIES:Kids Dig Archaeology,SDAC Events
ATTACH;FMTTYPE=image/png:https://sandiegoarchaeology.org/wp-content/uploads/2024/06/Storytime-10am.png
ORGANIZER;CN="San Diego Archaeological Center":MAILTO:aniesley@sandiegoarchaeology.org
END:VEVENT
BEGIN:VEVENT
DTSTART;TZID=America/Los_Angeles:20240726T020000
DTEND;TZID=America/Los_Angeles:20240726T080000
DTSTAMP:20260424T062940
CREATED:20240822T004827Z
LAST-MODIFIED:20240823T193307Z
UID:10000392-1721959200-1721980800@sandiegoarchaeology.org
SUMMARY:Archaeology Summer Camp Session 2
DESCRIPTION:Join us for an unforgettable week at the San Diego Archaeological Center’s KIDS DIG Archaeology Summer Camp! Kids will embark on a journey through time as you explore the rich history and culture of our shared human past through a variety of hands-on activities\, including basketry\, local hiking\, honing your archery and atlatl skills\, crafting pottery\, ancient games\, and decoding Ice Age rock art from around the world. \nWhether your child or grandchild is a budding archaeologist or just eager to experience the past in a whole new way\, our summer camp offers something for everyone. Get ready for a week filled with adventure\, discovery\, and endless fun! Space is limited to 25 campers per session. Ages: 6-12. Sign up now and let the adventure begin! \nView our Archaeology Summer Camp page for more details and registration.
URL:https://sandiegoarchaeology.org/event/archaeology-summer-camp-session-2/2024-07-26/
LOCATION:San Diego Archaeological Center\, 16666 San Pasqual Valley Road\, Escondido\, CA\, 92027\, United States
CATEGORIES:Kids Dig Archaeology,SDAC Events
ATTACH;FMTTYPE=image/png:https://sandiegoarchaeology.org/wp-content/uploads/2024/08/Kids-Summer-Camp.png
ORGANIZER;CN="San Diego Archaeological Center":MAILTO:aniesley@sandiegoarchaeology.org
END:VEVENT
END:VCALENDAR