BEGIN:VCALENDAR
VERSION:2.0
PRODID:-//SAN DIEGO ARCHAEOLOGICAL CENTER - ECPv6.15.20//NONSGML v1.0//EN
CALSCALE:GREGORIAN
METHOD:PUBLISH
X-ORIGINAL-URL:https://sandiegoarchaeology.org
X-WR-CALDESC:Events for SAN DIEGO ARCHAEOLOGICAL CENTER
REFRESH-INTERVAL;VALUE=DURATION:PT1H
X-Robots-Tag:noindex
X-PUBLISHED-TTL:PT1H
BEGIN:VTIMEZONE
TZID:America/Los_Angeles
BEGIN:DAYLIGHT
TZOFFSETFROM:-0800
TZOFFSETTO:-0700
TZNAME:PDT
DTSTART:20230312T100000
END:DAYLIGHT
BEGIN:STANDARD
TZOFFSETFROM:-0700
TZOFFSETTO:-0800
TZNAME:PST
DTSTART:20231105T090000
END:STANDARD
BEGIN:DAYLIGHT
TZOFFSETFROM:-0800
TZOFFSETTO:-0700
TZNAME:PDT
DTSTART:20240310T100000
END:DAYLIGHT
BEGIN:STANDARD
TZOFFSETFROM:-0700
TZOFFSETTO:-0800
TZNAME:PST
DTSTART:20241103T090000
END:STANDARD
BEGIN:DAYLIGHT
TZOFFSETFROM:-0800
TZOFFSETTO:-0700
TZNAME:PDT
DTSTART:20250309T100000
END:DAYLIGHT
BEGIN:STANDARD
TZOFFSETFROM:-0700
TZOFFSETTO:-0800
TZNAME:PST
DTSTART:20251102T090000
END:STANDARD
END:VTIMEZONE
BEGIN:VEVENT
DTSTART;TZID=America/Los_Angeles:20240905T100000
DTEND;TZID=America/Los_Angeles:20240905T110000
DTSTAMP:20260424T033948
CREATED:20240823T171951Z
LAST-MODIFIED:20250530T211457Z
UID:10000087-1725530400-1725534000@sandiegoarchaeology.org
SUMMARY:Story Time with an Archaeologist
DESCRIPTION:Join us on select Thursday mornings for archaeology-themed story time at the Center. Stay afterwards to explore the museum with family-friendly activities like our Archaeology Quest and Field Lab.
URL:https://sandiegoarchaeology.org/event/story-time-with-an-archaeologist/2024-09-05/
LOCATION:San Diego Archaeological Center\, 16666 San Pasqual Valley Road\, Escondido\, CA\, 92027\, United States
CATEGORIES:Kids Dig Archaeology,SDAC Events
ATTACH;FMTTYPE=image/png:https://sandiegoarchaeology.org/wp-content/uploads/2024/06/Storytime-10am.png
ORGANIZER;CN="San Diego Archaeological Center":MAILTO:aniesley@sandiegoarchaeology.org
END:VEVENT
BEGIN:VEVENT
DTSTART;TZID=America/Los_Angeles:20240907T090000
DTEND;TZID=America/Los_Angeles:20240907T130000
DTSTAMP:20260424T033948
CREATED:20240822T004927Z
LAST-MODIFIED:20240824T173155Z
UID:10000038-1725699600-1725714000@sandiegoarchaeology.org
SUMMARY:Art with an Archaeologist
DESCRIPTION:Free admission for kids on select Saturdays! Join us for family-friendly activities in our classroom\, where you can create your own art with an archaeologist\, become a junior archaeologist with our miniature excavation units\, and curl up with a book on our cozy reading rug. Families can also explore the museum on an Archaeology Quest and check out our Excavation Station and Field Lab. \nKids 12 & under: Free; Adults: $5 (includes museum admission)
URL:https://sandiegoarchaeology.org/event/art-with-an-archaeologist-2/
LOCATION:San Diego Archaeological Center\, 16666 San Pasqual Valley Road\, Escondido\, CA\, 92027\, United States
CATEGORIES:Kids Dig Archaeology,SDAC Events
ATTACH;FMTTYPE=image/png:https://sandiegoarchaeology.org/wp-content/uploads/2024/06/Art-with-an-Archaeologist-rev.png
ORGANIZER;CN="San Diego Archaeological Center":MAILTO:aniesley@sandiegoarchaeology.org
END:VEVENT
BEGIN:VEVENT
DTSTART;TZID=America/Los_Angeles:20240912T100000
DTEND;TZID=America/Los_Angeles:20240912T110000
DTSTAMP:20260424T033948
CREATED:20240823T171951Z
LAST-MODIFIED:20250530T211457Z
UID:10000088-1726135200-1726138800@sandiegoarchaeology.org
SUMMARY:Story Time with an Archaeologist
DESCRIPTION:Join us on select Thursday mornings for archaeology-themed story time at the Center. Stay afterwards to explore the museum with family-friendly activities like our Archaeology Quest and Field Lab.
URL:https://sandiegoarchaeology.org/event/story-time-with-an-archaeologist/2024-09-12/
LOCATION:San Diego Archaeological Center\, 16666 San Pasqual Valley Road\, Escondido\, CA\, 92027\, United States
CATEGORIES:Kids Dig Archaeology,SDAC Events
ATTACH;FMTTYPE=image/png:https://sandiegoarchaeology.org/wp-content/uploads/2024/06/Storytime-10am.png
ORGANIZER;CN="San Diego Archaeological Center":MAILTO:aniesley@sandiegoarchaeology.org
END:VEVENT
BEGIN:VEVENT
DTSTART;TZID=America/Los_Angeles:20240914T100000
DTEND;TZID=America/Los_Angeles:20240914T130000
DTSTAMP:20260424T033948
CREATED:20240928T160049Z
LAST-MODIFIED:20260423T170006Z
UID:10002106-1726308000-1726318800@sandiegoarchaeology.org
SUMMARY:Art with an Archaeologist
DESCRIPTION:Free admission for kids on select Saturdays! Join us for family-friendly activities in our classroom\, where you can create your own art with an archaeologist\, become a junior archaeologist with our miniature excavation units\, and curl up with a book on our cozy reading rug. Families can also explore the museum on an Archaeology Quest and check out our Excavation Station and Field Lab. \nKids 12 & under: Free; Adults: $5 (includes museum admission)
URL:https://sandiegoarchaeology.org/event/art-with-an-archaeologist-3/2024-09-14/
LOCATION:San Diego Archaeological Center\, 16666 San Pasqual Valley Road\, Escondido\, CA\, 92027\, United States
CATEGORIES:Kids Dig Archaeology,SDAC Events
ATTACH;FMTTYPE=image/png:https://sandiegoarchaeology.org/wp-content/uploads/2024/06/Art-with-an-Archaeologist-rev.png
ORGANIZER;CN="San Diego Archaeological Center":MAILTO:aniesley@sandiegoarchaeology.org
END:VEVENT
BEGIN:VEVENT
DTSTART;TZID=America/Los_Angeles:20240919T100000
DTEND;TZID=America/Los_Angeles:20240919T110000
DTSTAMP:20260424T033948
CREATED:20240823T171951Z
LAST-MODIFIED:20250530T211457Z
UID:10000089-1726740000-1726743600@sandiegoarchaeology.org
SUMMARY:Story Time with an Archaeologist
DESCRIPTION:Join us on select Thursday mornings for archaeology-themed story time at the Center. Stay afterwards to explore the museum with family-friendly activities like our Archaeology Quest and Field Lab.
URL:https://sandiegoarchaeology.org/event/story-time-with-an-archaeologist/2024-09-19/
LOCATION:San Diego Archaeological Center\, 16666 San Pasqual Valley Road\, Escondido\, CA\, 92027\, United States
CATEGORIES:Kids Dig Archaeology,SDAC Events
ATTACH;FMTTYPE=image/png:https://sandiegoarchaeology.org/wp-content/uploads/2024/06/Storytime-10am.png
ORGANIZER;CN="San Diego Archaeological Center":MAILTO:aniesley@sandiegoarchaeology.org
END:VEVENT
BEGIN:VEVENT
DTSTART;TZID=America/Los_Angeles:20240921T100000
DTEND;TZID=America/Los_Angeles:20240921T130000
DTSTAMP:20260424T033948
CREATED:20240904T170653Z
LAST-MODIFIED:20240921T161658Z
UID:10000401-1726912800-1726923600@sandiegoarchaeology.org
SUMMARY:Ancient Echoes: Pints & Pigments
DESCRIPTION:In this installment of our Ancient Echoes\, you’ll make art the ancient way! Using natural pigments and a little human creativity\, you’ll produce a one-of-a-kind paleolithic art piece (no cave required). \nAll art materials will be provided. Tickets include two drinks per person (alcoholic and non-alcoholic options available). This event is 21+. \nAbout Ancient Echoes\nIn our adult friendly Ancient Echoes series\, we look back into the archaeological record at the origins of many of our favorite things and breaking the conceptions of their modernity. Have you ever wondered about the roots of mead\, chocolate\, or beer? What about the importance of art\, dance\, and music to Ice Age hunter-gatherers? Ancient Echoes explores these topics and more\, offering an interactive experience aimed at connecting us back with our deep past. \nCost: $40; SDAC Members $35 \nOnline Registration is closed. Please pay at door. \nPlease note: Tickets are non-refundable. If you are unable to attend\, your ticket(s) will be converted into a tax-deductible donation. \n 
URL:https://sandiegoarchaeology.org/event/pints-pigments/
LOCATION:San Diego Archaeological Center\, 16666 San Pasqual Valley Road\, Escondido\, CA\, 92027\, United States
CATEGORIES:SDAC Events,Trekking Club
ATTACH;FMTTYPE=image/png:https://sandiegoarchaeology.org/wp-content/uploads/2024/09/Ancient-Echos-Pints-and-Pigments-Fall-2024.png
ORGANIZER;CN="San Diego Archaeological Center":MAILTO:aniesley@sandiegoarchaeology.org
END:VEVENT
BEGIN:VEVENT
DTSTART;TZID=America/Los_Angeles:20240926T100000
DTEND;TZID=America/Los_Angeles:20240926T110000
DTSTAMP:20260424T033948
CREATED:20240823T171951Z
LAST-MODIFIED:20250530T211457Z
UID:10000090-1727344800-1727348400@sandiegoarchaeology.org
SUMMARY:Story Time with an Archaeologist
DESCRIPTION:Join us on select Thursday mornings for archaeology-themed story time at the Center. Stay afterwards to explore the museum with family-friendly activities like our Archaeology Quest and Field Lab.
URL:https://sandiegoarchaeology.org/event/story-time-with-an-archaeologist/2024-09-26/
LOCATION:San Diego Archaeological Center\, 16666 San Pasqual Valley Road\, Escondido\, CA\, 92027\, United States
CATEGORIES:Kids Dig Archaeology,SDAC Events
ATTACH;FMTTYPE=image/png:https://sandiegoarchaeology.org/wp-content/uploads/2024/06/Storytime-10am.png
ORGANIZER;CN="San Diego Archaeological Center":MAILTO:aniesley@sandiegoarchaeology.org
END:VEVENT
END:VCALENDAR