BEGIN:VCALENDAR
VERSION:2.0
PRODID:-//SAN DIEGO ARCHAEOLOGICAL CENTER - ECPv6.15.20//NONSGML v1.0//EN
CALSCALE:GREGORIAN
METHOD:PUBLISH
X-WR-CALNAME:SAN DIEGO ARCHAEOLOGICAL CENTER
X-ORIGINAL-URL:https://sandiegoarchaeology.org
X-WR-CALDESC:Events for SAN DIEGO ARCHAEOLOGICAL CENTER
REFRESH-INTERVAL;VALUE=DURATION:PT1H
X-Robots-Tag:noindex
X-PUBLISHED-TTL:PT1H
BEGIN:VTIMEZONE
TZID:America/Los_Angeles
BEGIN:DAYLIGHT
TZOFFSETFROM:-0800
TZOFFSETTO:-0700
TZNAME:PDT
DTSTART:20230312T100000
END:DAYLIGHT
BEGIN:STANDARD
TZOFFSETFROM:-0700
TZOFFSETTO:-0800
TZNAME:PST
DTSTART:20231105T090000
END:STANDARD
BEGIN:DAYLIGHT
TZOFFSETFROM:-0800
TZOFFSETTO:-0700
TZNAME:PDT
DTSTART:20240310T100000
END:DAYLIGHT
BEGIN:STANDARD
TZOFFSETFROM:-0700
TZOFFSETTO:-0800
TZNAME:PST
DTSTART:20241103T090000
END:STANDARD
BEGIN:DAYLIGHT
TZOFFSETFROM:-0800
TZOFFSETTO:-0700
TZNAME:PDT
DTSTART:20250309T100000
END:DAYLIGHT
BEGIN:STANDARD
TZOFFSETFROM:-0700
TZOFFSETTO:-0800
TZNAME:PST
DTSTART:20251102T090000
END:STANDARD
END:VTIMEZONE
BEGIN:VEVENT
DTSTART;TZID=America/Los_Angeles:20241107T100000
DTEND;TZID=America/Los_Angeles:20241107T110000
DTSTAMP:20260424T004502
CREATED:20240823T171951Z
LAST-MODIFIED:20250530T211457Z
UID:10000096-1730973600-1730977200@sandiegoarchaeology.org
SUMMARY:Story Time with an Archaeologist
DESCRIPTION:Join us on select Thursday mornings for archaeology-themed story time at the Center. Stay afterwards to explore the museum with family-friendly activities like our Archaeology Quest and Field Lab.
URL:https://sandiegoarchaeology.org/event/story-time-with-an-archaeologist/2024-11-07/
LOCATION:San Diego Archaeological Center\, 16666 San Pasqual Valley Road\, Escondido\, CA\, 92027\, United States
CATEGORIES:Kids Dig Archaeology,SDAC Events
ATTACH;FMTTYPE=image/png:https://sandiegoarchaeology.org/wp-content/uploads/2024/06/Storytime-10am.png
ORGANIZER;CN="San Diego Archaeological Center":MAILTO:aniesley@sandiegoarchaeology.org
END:VEVENT
BEGIN:VEVENT
DTSTART;TZID=America/Los_Angeles:20241109T100000
DTEND;TZID=America/Los_Angeles:20241109T130000
DTSTAMP:20260424T004502
CREATED:20240928T160049Z
LAST-MODIFIED:20260423T170006Z
UID:10002108-1731146400-1731157200@sandiegoarchaeology.org
SUMMARY:Art with an Archaeologist
DESCRIPTION:Free admission for kids on select Saturdays! Join us for family-friendly activities in our classroom\, where you can create your own art with an archaeologist\, become a junior archaeologist with our miniature excavation units\, and curl up with a book on our cozy reading rug. Families can also explore the museum on an Archaeology Quest and check out our Excavation Station and Field Lab. \nKids 12 & under: Free; Adults: $5 (includes museum admission)
URL:https://sandiegoarchaeology.org/event/art-with-an-archaeologist-3/2024-11-09/
LOCATION:San Diego Archaeological Center\, 16666 San Pasqual Valley Road\, Escondido\, CA\, 92027\, United States
CATEGORIES:Kids Dig Archaeology,SDAC Events
ATTACH;FMTTYPE=image/png:https://sandiegoarchaeology.org/wp-content/uploads/2024/06/Art-with-an-Archaeologist-rev.png
ORGANIZER;CN="San Diego Archaeological Center":MAILTO:aniesley@sandiegoarchaeology.org
END:VEVENT
BEGIN:VEVENT
DTSTART;TZID=America/Los_Angeles:20241109T150000
DTEND;TZID=America/Los_Angeles:20241109T183000
DTSTAMP:20260424T004502
CREATED:20240921T152007Z
LAST-MODIFIED:20241106T001205Z
UID:10000405-1731164400-1731177000@sandiegoarchaeology.org
SUMMARY:Ancient Echoes: 10\,000 Years of Beer
DESCRIPTION:Come join the San Diego Archaeological Center and celebrate San Diego Beer Week at BattleMage Brewing with a free presentation delving into the murky\, storied archaeological past of our favorite malted beverage. From ancient Sumerian hymns to Egyptian tombs\, to the secretive monasteries of old Bavaria\, we’ll uncover how archaeological findings\, such as brewing tools and ancient recipes\, reveal beer’s influence on culture\, economy\, and social life throughout history. Presentations start at 3:30 PM and 5:30 PM. \nAbout Ancient Echoes\nIn our adult friendly Ancient Echoes series\, we look back into the archaeological record at the origins of many of our favorite things and breaking the conceptions of their modernity. Have you ever wondered about the roots of mead\, chocolate\, or beer? What about the importance of art\, dance\, and music to Ice Age hunter-gatherers? Ancient Echoes explores these topics and more\, offering an interactive experience aimed at connecting us back with our deep past.
URL:https://sandiegoarchaeology.org/event/ancient-echoes-beer/
LOCATION:BattleMage Brewing Company\, 2870 Scott St #102\, Vista\, CA\, 92081\, United States
CATEGORIES:SDAC Events,Trekking Club
ATTACH;FMTTYPE=image/png:https://sandiegoarchaeology.org/wp-content/uploads/2024/09/10000-Years-of-Beer-Banner.png
ORGANIZER;CN="San Diego Archaeological Center":MAILTO:aniesley@sandiegoarchaeology.org
END:VEVENT
BEGIN:VEVENT
DTSTART;TZID=America/Los_Angeles:20241114T100000
DTEND;TZID=America/Los_Angeles:20241114T110000
DTSTAMP:20260424T004502
CREATED:20240823T171951Z
LAST-MODIFIED:20250530T211457Z
UID:10000097-1731578400-1731582000@sandiegoarchaeology.org
SUMMARY:Story Time with an Archaeologist
DESCRIPTION:Join us on select Thursday mornings for archaeology-themed story time at the Center. Stay afterwards to explore the museum with family-friendly activities like our Archaeology Quest and Field Lab.
URL:https://sandiegoarchaeology.org/event/story-time-with-an-archaeologist/2024-11-14/
LOCATION:San Diego Archaeological Center\, 16666 San Pasqual Valley Road\, Escondido\, CA\, 92027\, United States
CATEGORIES:Kids Dig Archaeology,SDAC Events
ATTACH;FMTTYPE=image/png:https://sandiegoarchaeology.org/wp-content/uploads/2024/06/Storytime-10am.png
ORGANIZER;CN="San Diego Archaeological Center":MAILTO:aniesley@sandiegoarchaeology.org
END:VEVENT
BEGIN:VEVENT
DTSTART;TZID=America/Los_Angeles:20241121T100000
DTEND;TZID=America/Los_Angeles:20241121T110000
DTSTAMP:20260424T004502
CREATED:20240823T171951Z
LAST-MODIFIED:20250530T211457Z
UID:10000098-1732183200-1732186800@sandiegoarchaeology.org
SUMMARY:Story Time with an Archaeologist
DESCRIPTION:Join us on select Thursday mornings for archaeology-themed story time at the Center. Stay afterwards to explore the museum with family-friendly activities like our Archaeology Quest and Field Lab.
URL:https://sandiegoarchaeology.org/event/story-time-with-an-archaeologist/2024-11-21/
LOCATION:San Diego Archaeological Center\, 16666 San Pasqual Valley Road\, Escondido\, CA\, 92027\, United States
CATEGORIES:Kids Dig Archaeology,SDAC Events
ATTACH;FMTTYPE=image/png:https://sandiegoarchaeology.org/wp-content/uploads/2024/06/Storytime-10am.png
ORGANIZER;CN="San Diego Archaeological Center":MAILTO:aniesley@sandiegoarchaeology.org
END:VEVENT
BEGIN:VEVENT
DTSTART;TZID=America/Los_Angeles:20241125T083000
DTEND;TZID=America/Los_Angeles:20241125T160000
DTSTAMP:20260424T004502
CREATED:20241123T173914Z
LAST-MODIFIED:20241123T174144Z
UID:10000416-1732523400-1732550400@sandiegoarchaeology.org
SUMMARY:Fall Into Archaeology Day Camp
DESCRIPTION:We are excited to announce our brand-new autumn day camp for elementary school students! This a la carte style day camp will take place the week of Thanksgiving. Choose individual days or choose them all! \nWhether your child or grandchild is a budding archaeologist or just eager to experience the past in a whole new way\, our camp offers something for everyone. Get ready for a week filled with adventure\, discovery\, and endless fun! Space is limited to 30 campers per session. Sign up now and let the adventure begin! \nGrades: K-5 \nSchedule:\nMonday\, November 25: Archaeology and the Ancient World – Come discover what archaeology is\, is not\, and what is bad archaeology. Explore the museum\, get a behind-the-scenes tour of our collections laboratory\, make coil pots\, and practice your beadmaking skills.\nTuesday\, November 26: Ancient Games Day – Discover a world before video games\, as we explore the 5\,000-year-old Game of Twenty Squares\, and learn to make your own ancient Egyptian Senet board. Learn to play mancala\, backgammon\, and chess\, or try your hand at Apal Uumarr\, or the game of stones.\nWednesday\, November 27: Ice Age Extravaganza! – Enjoy our final camp day making your very own ice age rock art. Learn cordage weaving\, and basket making\, and hone your atlatl throwing and archery skills. \nSee our Archaeology Camp Page for more information.
URL:https://sandiegoarchaeology.org/event/fall-into-archaeology-day-camp/2024-11-25/
LOCATION:San Diego Archaeological Center\, 16666 San Pasqual Valley Road\, Escondido\, CA\, 92027\, United States
CATEGORIES:Kids Dig Archaeology,SDAC Events
ATTACH;FMTTYPE=image/png:https://sandiegoarchaeology.org/wp-content/uploads/2024/10/Fall-Camp-Web2.png
ORGANIZER;CN="San Diego Archaeological Center":MAILTO:aniesley@sandiegoarchaeology.org
END:VEVENT
BEGIN:VEVENT
DTSTART;TZID=America/Los_Angeles:20241126T083000
DTEND;TZID=America/Los_Angeles:20241126T160000
DTSTAMP:20260424T004502
CREATED:20241123T173914Z
LAST-MODIFIED:20241123T174144Z
UID:10000417-1732609800-1732636800@sandiegoarchaeology.org
SUMMARY:Fall Into Archaeology Day Camp
DESCRIPTION:We are excited to announce our brand-new autumn day camp for elementary school students! This a la carte style day camp will take place the week of Thanksgiving. Choose individual days or choose them all! \nWhether your child or grandchild is a budding archaeologist or just eager to experience the past in a whole new way\, our camp offers something for everyone. Get ready for a week filled with adventure\, discovery\, and endless fun! Space is limited to 30 campers per session. Sign up now and let the adventure begin! \nGrades: K-5 \nSchedule:\nMonday\, November 25: Archaeology and the Ancient World – Come discover what archaeology is\, is not\, and what is bad archaeology. Explore the museum\, get a behind-the-scenes tour of our collections laboratory\, make coil pots\, and practice your beadmaking skills.\nTuesday\, November 26: Ancient Games Day – Discover a world before video games\, as we explore the 5\,000-year-old Game of Twenty Squares\, and learn to make your own ancient Egyptian Senet board. Learn to play mancala\, backgammon\, and chess\, or try your hand at Apal Uumarr\, or the game of stones.\nWednesday\, November 27: Ice Age Extravaganza! – Enjoy our final camp day making your very own ice age rock art. Learn cordage weaving\, and basket making\, and hone your atlatl throwing and archery skills. \nSee our Archaeology Camp Page for more information.
URL:https://sandiegoarchaeology.org/event/fall-into-archaeology-day-camp/2024-11-26/
LOCATION:San Diego Archaeological Center\, 16666 San Pasqual Valley Road\, Escondido\, CA\, 92027\, United States
CATEGORIES:Kids Dig Archaeology,SDAC Events
ATTACH;FMTTYPE=image/png:https://sandiegoarchaeology.org/wp-content/uploads/2024/10/Fall-Camp-Web2.png
ORGANIZER;CN="San Diego Archaeological Center":MAILTO:aniesley@sandiegoarchaeology.org
END:VEVENT
BEGIN:VEVENT
DTSTART;TZID=America/Los_Angeles:20241127T083000
DTEND;TZID=America/Los_Angeles:20241127T160000
DTSTAMP:20260424T004502
CREATED:20241123T173914Z
LAST-MODIFIED:20241123T174144Z
UID:10000418-1732696200-1732723200@sandiegoarchaeology.org
SUMMARY:Fall Into Archaeology Day Camp
DESCRIPTION:We are excited to announce our brand-new autumn day camp for elementary school students! This a la carte style day camp will take place the week of Thanksgiving. Choose individual days or choose them all! \nWhether your child or grandchild is a budding archaeologist or just eager to experience the past in a whole new way\, our camp offers something for everyone. Get ready for a week filled with adventure\, discovery\, and endless fun! Space is limited to 30 campers per session. Sign up now and let the adventure begin! \nGrades: K-5 \nSchedule:\nMonday\, November 25: Archaeology and the Ancient World – Come discover what archaeology is\, is not\, and what is bad archaeology. Explore the museum\, get a behind-the-scenes tour of our collections laboratory\, make coil pots\, and practice your beadmaking skills.\nTuesday\, November 26: Ancient Games Day – Discover a world before video games\, as we explore the 5\,000-year-old Game of Twenty Squares\, and learn to make your own ancient Egyptian Senet board. Learn to play mancala\, backgammon\, and chess\, or try your hand at Apal Uumarr\, or the game of stones.\nWednesday\, November 27: Ice Age Extravaganza! – Enjoy our final camp day making your very own ice age rock art. Learn cordage weaving\, and basket making\, and hone your atlatl throwing and archery skills. \nSee our Archaeology Camp Page for more information.
URL:https://sandiegoarchaeology.org/event/fall-into-archaeology-day-camp/2024-11-27/
LOCATION:San Diego Archaeological Center\, 16666 San Pasqual Valley Road\, Escondido\, CA\, 92027\, United States
CATEGORIES:Kids Dig Archaeology,SDAC Events
ATTACH;FMTTYPE=image/png:https://sandiegoarchaeology.org/wp-content/uploads/2024/10/Fall-Camp-Web2.png
ORGANIZER;CN="San Diego Archaeological Center":MAILTO:aniesley@sandiegoarchaeology.org
END:VEVENT
BEGIN:VEVENT
DTSTART;TZID=America/Los_Angeles:20241130T110000
DTEND;TZID=America/Los_Angeles:20241130T130000
DTSTAMP:20260424T004502
CREATED:20241001T215033Z
LAST-MODIFIED:20241001T215033Z
UID:10000411-1732964400-1732971600@sandiegoarchaeology.org
SUMMARY:Beadmaking\, Cordage\, and Basketry Workshop for Girl Scouts
DESCRIPTION:Join us at the San Diego Archaeological Center for a beadmaking\, cordage\, and basketry workshop. Register now to save your spot. Program is $15 per scout\, pay at door.
URL:https://sandiegoarchaeology.org/event/beadmaking-cordage-and-basketry-workshop-for-girl-scouts/
LOCATION:San Diego Archaeological Center\, 16666 San Pasqual Valley Road\, Escondido\, CA\, 92027\, United States
CATEGORIES:Kids Dig Archaeology,SDAC Events
ORGANIZER;CN="San Diego Archaeological Center":MAILTO:aniesley@sandiegoarchaeology.org
END:VEVENT
END:VCALENDAR