BEGIN:VCALENDAR
VERSION:2.0
PRODID:-//SAN DIEGO ARCHAEOLOGICAL CENTER - ECPv6.15.20//NONSGML v1.0//EN
CALSCALE:GREGORIAN
METHOD:PUBLISH
X-WR-CALNAME:SAN DIEGO ARCHAEOLOGICAL CENTER
X-ORIGINAL-URL:https://sandiegoarchaeology.org
X-WR-CALDESC:Events for SAN DIEGO ARCHAEOLOGICAL CENTER
REFRESH-INTERVAL;VALUE=DURATION:PT1H
X-Robots-Tag:noindex
X-PUBLISHED-TTL:PT1H
BEGIN:VTIMEZONE
TZID:America/Los_Angeles
BEGIN:DAYLIGHT
TZOFFSETFROM:-0800
TZOFFSETTO:-0700
TZNAME:PDT
DTSTART:20240310T100000
END:DAYLIGHT
BEGIN:STANDARD
TZOFFSETFROM:-0700
TZOFFSETTO:-0800
TZNAME:PST
DTSTART:20241103T090000
END:STANDARD
BEGIN:DAYLIGHT
TZOFFSETFROM:-0800
TZOFFSETTO:-0700
TZNAME:PDT
DTSTART:20250309T100000
END:DAYLIGHT
BEGIN:STANDARD
TZOFFSETFROM:-0700
TZOFFSETTO:-0800
TZNAME:PST
DTSTART:20251102T090000
END:STANDARD
BEGIN:DAYLIGHT
TZOFFSETFROM:-0800
TZOFFSETTO:-0700
TZNAME:PDT
DTSTART:20260308T100000
END:DAYLIGHT
BEGIN:STANDARD
TZOFFSETFROM:-0700
TZOFFSETTO:-0800
TZNAME:PST
DTSTART:20261101T090000
END:STANDARD
END:VTIMEZONE
BEGIN:VEVENT
DTSTART;VALUE=DATE:20250201
DTEND;VALUE=DATE:20250202
DTSTAMP:20260423T202157
CREATED:20250205T182145Z
LAST-MODIFIED:20250212T195847Z
UID:10000963-1738368000-1738454399@sandiegoarchaeology.org
SUMMARY:Museum Month
DESCRIPTION:The San Diego Archaeological Center is proud to participate in San Diego Museum Month during the month of February. Presented by the San Diego Museum Council and the San Diego Foundation\, this month-long promotion offers fifty percent off admission for up to four people at over sixty museums and attractions throughout San Diego County. \nSan Diego Museum Month passes can be picked up for free at public libraries throughout the County or downloaded from the San Diego Museum Council website.
URL:https://sandiegoarchaeology.org/event/museum-month/2025-02-01/
LOCATION:San Diego Archaeological Center\, 16666 San Pasqual Valley Road\, Escondido\, CA\, 92027\, United States
CATEGORIES:SDAC Events
END:VEVENT
BEGIN:VEVENT
DTSTART;TZID=America/Los_Angeles:20250205T100000
DTEND;TZID=America/Los_Angeles:20250205T160000
DTSTAMP:20260423T202157
CREATED:20250107T213824Z
LAST-MODIFIED:20251119T000831Z
UID:10002207-1738749600-1738771200@sandiegoarchaeology.org
SUMMARY:Senior Wednesdays
DESCRIPTION:Seniors 65+ can enjoy free admission to the Center on Wednesdays. Discover the science of archaeology through our interactive Archaeology 101 exhibit\, explore the cultural periods of San Diego\, and uncover the Lives and Lifestyles on Block 112: The Untold Story of San Diego’s Working Class.
URL:https://sandiegoarchaeology.org/event/senior-wednesdays-2/2025-02-05/
LOCATION:San Diego Archaeological Center\, 16666 San Pasqual Valley Road\, Escondido\, CA\, 92027\, United States
CATEGORIES:SDAC Events
ORGANIZER;CN="San Diego Archaeological Center":MAILTO:aniesley@sandiegoarchaeology.org
END:VEVENT
BEGIN:VEVENT
DTSTART;VALUE=DATE:20250206
DTEND;VALUE=DATE:20250207
DTSTAMP:20260423T202157
CREATED:20250205T182145Z
LAST-MODIFIED:20250212T195847Z
UID:10000965-1738800000-1738886399@sandiegoarchaeology.org
SUMMARY:Museum Month
DESCRIPTION:The San Diego Archaeological Center is proud to participate in San Diego Museum Month during the month of February. Presented by the San Diego Museum Council and the San Diego Foundation\, this month-long promotion offers fifty percent off admission for up to four people at over sixty museums and attractions throughout San Diego County. \nSan Diego Museum Month passes can be picked up for free at public libraries throughout the County or downloaded from the San Diego Museum Council website.
URL:https://sandiegoarchaeology.org/event/museum-month/2025-02-06/
LOCATION:San Diego Archaeological Center\, 16666 San Pasqual Valley Road\, Escondido\, CA\, 92027\, United States
CATEGORIES:SDAC Events
END:VEVENT
BEGIN:VEVENT
DTSTART;VALUE=DATE:20250207
DTEND;VALUE=DATE:20250208
DTSTAMP:20260423T202157
CREATED:20250205T182145Z
LAST-MODIFIED:20250212T195847Z
UID:10000966-1738886400-1738972799@sandiegoarchaeology.org
SUMMARY:Museum Month
DESCRIPTION:The San Diego Archaeological Center is proud to participate in San Diego Museum Month during the month of February. Presented by the San Diego Museum Council and the San Diego Foundation\, this month-long promotion offers fifty percent off admission for up to four people at over sixty museums and attractions throughout San Diego County. \nSan Diego Museum Month passes can be picked up for free at public libraries throughout the County or downloaded from the San Diego Museum Council website.
URL:https://sandiegoarchaeology.org/event/museum-month/2025-02-07/
LOCATION:San Diego Archaeological Center\, 16666 San Pasqual Valley Road\, Escondido\, CA\, 92027\, United States
CATEGORIES:SDAC Events
END:VEVENT
BEGIN:VEVENT
DTSTART;VALUE=DATE:20250208
DTEND;VALUE=DATE:20250209
DTSTAMP:20260423T202157
CREATED:20250205T182145Z
LAST-MODIFIED:20250212T195847Z
UID:10000967-1738972800-1739059199@sandiegoarchaeology.org
SUMMARY:Museum Month
DESCRIPTION:The San Diego Archaeological Center is proud to participate in San Diego Museum Month during the month of February. Presented by the San Diego Museum Council and the San Diego Foundation\, this month-long promotion offers fifty percent off admission for up to four people at over sixty museums and attractions throughout San Diego County. \nSan Diego Museum Month passes can be picked up for free at public libraries throughout the County or downloaded from the San Diego Museum Council website.
URL:https://sandiegoarchaeology.org/event/museum-month/2025-02-08/
LOCATION:San Diego Archaeological Center\, 16666 San Pasqual Valley Road\, Escondido\, CA\, 92027\, United States
CATEGORIES:SDAC Events
END:VEVENT
BEGIN:VEVENT
DTSTART;TZID=America/Los_Angeles:20250208T100000
DTEND;TZID=America/Los_Angeles:20250208T130000
DTSTAMP:20260423T202157
CREATED:20240928T160049Z
LAST-MODIFIED:20260423T170006Z
UID:10000955-1739008800-1739019600@sandiegoarchaeology.org
SUMMARY:Art with an Archaeologist
DESCRIPTION:Free admission for kids on select Saturdays! Join us for family-friendly activities in our classroom\, where you can create your own art with an archaeologist\, become a junior archaeologist with our miniature excavation units\, and curl up with a book on our cozy reading rug. Families can also explore the museum on an Archaeology Quest and check out our Excavation Station and Field Lab. \nKids 12 & under: Free; Adults: $5 (includes museum admission)
URL:https://sandiegoarchaeology.org/event/art-with-an-archaeologist-3/2025-02-08/
LOCATION:San Diego Archaeological Center\, 16666 San Pasqual Valley Road\, Escondido\, CA\, 92027\, United States
CATEGORIES:Kids Dig Archaeology,SDAC Events
ATTACH;FMTTYPE=image/png:https://sandiegoarchaeology.org/wp-content/uploads/2024/06/Art-with-an-Archaeologist-rev.png
ORGANIZER;CN="San Diego Archaeological Center":MAILTO:aniesley@sandiegoarchaeology.org
END:VEVENT
BEGIN:VEVENT
DTSTART;VALUE=DATE:20250212
DTEND;VALUE=DATE:20250213
DTSTAMP:20260423T202157
CREATED:20250205T182145Z
LAST-MODIFIED:20250212T195847Z
UID:10000968-1739318400-1739404799@sandiegoarchaeology.org
SUMMARY:Museum Month
DESCRIPTION:The San Diego Archaeological Center is proud to participate in San Diego Museum Month during the month of February. Presented by the San Diego Museum Council and the San Diego Foundation\, this month-long promotion offers fifty percent off admission for up to four people at over sixty museums and attractions throughout San Diego County. \nSan Diego Museum Month passes can be picked up for free at public libraries throughout the County or downloaded from the San Diego Museum Council website.
URL:https://sandiegoarchaeology.org/event/museum-month/2025-02-12/
LOCATION:San Diego Archaeological Center\, 16666 San Pasqual Valley Road\, Escondido\, CA\, 92027\, United States
CATEGORIES:SDAC Events
END:VEVENT
BEGIN:VEVENT
DTSTART;TZID=America/Los_Angeles:20250212T100000
DTEND;TZID=America/Los_Angeles:20250212T160000
DTSTAMP:20260423T202157
CREATED:20250107T213824Z
LAST-MODIFIED:20251119T000831Z
UID:10002208-1739354400-1739376000@sandiegoarchaeology.org
SUMMARY:Senior Wednesdays
DESCRIPTION:Seniors 65+ can enjoy free admission to the Center on Wednesdays. Discover the science of archaeology through our interactive Archaeology 101 exhibit\, explore the cultural periods of San Diego\, and uncover the Lives and Lifestyles on Block 112: The Untold Story of San Diego’s Working Class.
URL:https://sandiegoarchaeology.org/event/senior-wednesdays-2/2025-02-12/
LOCATION:San Diego Archaeological Center\, 16666 San Pasqual Valley Road\, Escondido\, CA\, 92027\, United States
CATEGORIES:SDAC Events
ORGANIZER;CN="San Diego Archaeological Center":MAILTO:aniesley@sandiegoarchaeology.org
END:VEVENT
BEGIN:VEVENT
DTSTART;VALUE=DATE:20250213
DTEND;VALUE=DATE:20250214
DTSTAMP:20260423T202157
CREATED:20250205T182145Z
LAST-MODIFIED:20250212T195847Z
UID:10000969-1739404800-1739491199@sandiegoarchaeology.org
SUMMARY:Museum Month
DESCRIPTION:The San Diego Archaeological Center is proud to participate in San Diego Museum Month during the month of February. Presented by the San Diego Museum Council and the San Diego Foundation\, this month-long promotion offers fifty percent off admission for up to four people at over sixty museums and attractions throughout San Diego County. \nSan Diego Museum Month passes can be picked up for free at public libraries throughout the County or downloaded from the San Diego Museum Council website.
URL:https://sandiegoarchaeology.org/event/museum-month/2025-02-13/
LOCATION:San Diego Archaeological Center\, 16666 San Pasqual Valley Road\, Escondido\, CA\, 92027\, United States
CATEGORIES:SDAC Events
END:VEVENT
BEGIN:VEVENT
DTSTART;TZID=America/Los_Angeles:20250213T100000
DTEND;TZID=America/Los_Angeles:20250213T110000
DTSTAMP:20260423T202157
CREATED:20240823T171951Z
LAST-MODIFIED:20250530T211457Z
UID:10000688-1739440800-1739444400@sandiegoarchaeology.org
SUMMARY:Story Time with an Archaeologist
DESCRIPTION:Join us on select Thursday mornings for archaeology-themed story time at the Center. Stay afterwards to explore the museum with family-friendly activities like our Archaeology Quest and Field Lab.
URL:https://sandiegoarchaeology.org/event/story-time-with-an-archaeologist/2025-02-13/
LOCATION:San Diego Archaeological Center\, 16666 San Pasqual Valley Road\, Escondido\, CA\, 92027\, United States
CATEGORIES:Kids Dig Archaeology,SDAC Events
ATTACH;FMTTYPE=image/png:https://sandiegoarchaeology.org/wp-content/uploads/2024/06/Storytime-10am.png
ORGANIZER;CN="San Diego Archaeological Center":MAILTO:aniesley@sandiegoarchaeology.org
END:VEVENT
BEGIN:VEVENT
DTSTART;VALUE=DATE:20250214
DTEND;VALUE=DATE:20250215
DTSTAMP:20260423T202157
CREATED:20250205T182145Z
LAST-MODIFIED:20250212T195847Z
UID:10000970-1739491200-1739577599@sandiegoarchaeology.org
SUMMARY:Museum Month
DESCRIPTION:The San Diego Archaeological Center is proud to participate in San Diego Museum Month during the month of February. Presented by the San Diego Museum Council and the San Diego Foundation\, this month-long promotion offers fifty percent off admission for up to four people at over sixty museums and attractions throughout San Diego County. \nSan Diego Museum Month passes can be picked up for free at public libraries throughout the County or downloaded from the San Diego Museum Council website.
URL:https://sandiegoarchaeology.org/event/museum-month/2025-02-14/
LOCATION:San Diego Archaeological Center\, 16666 San Pasqual Valley Road\, Escondido\, CA\, 92027\, United States
CATEGORIES:SDAC Events
END:VEVENT
BEGIN:VEVENT
DTSTART;VALUE=DATE:20250215
DTEND;VALUE=DATE:20250216
DTSTAMP:20260423T202157
CREATED:20250205T182145Z
LAST-MODIFIED:20250212T195847Z
UID:10000971-1739577600-1739663999@sandiegoarchaeology.org
SUMMARY:Museum Month
DESCRIPTION:The San Diego Archaeological Center is proud to participate in San Diego Museum Month during the month of February. Presented by the San Diego Museum Council and the San Diego Foundation\, this month-long promotion offers fifty percent off admission for up to four people at over sixty museums and attractions throughout San Diego County. \nSan Diego Museum Month passes can be picked up for free at public libraries throughout the County or downloaded from the San Diego Museum Council website.
URL:https://sandiegoarchaeology.org/event/museum-month/2025-02-15/
LOCATION:San Diego Archaeological Center\, 16666 San Pasqual Valley Road\, Escondido\, CA\, 92027\, United States
CATEGORIES:SDAC Events
END:VEVENT
BEGIN:VEVENT
DTSTART;TZID=America/Los_Angeles:20250215T090000
DTEND;TZID=America/Los_Angeles:20250215T130000
DTSTAMP:20260423T202157
CREATED:20241001T215538Z
LAST-MODIFIED:20250215T160035Z
UID:10000412-1739610000-1739624400@sandiegoarchaeology.org
SUMMARY:Historic Archery Day
DESCRIPTION:We’re stringing our bows for a spot of archery right here at the San Diego Archaeological Center! Shoot some rounds and learn about how different cultures around the world crafted\, hunted\, and fought with bows and arrows. Register now to save your spot. \nThis event is family friendly. Kids will enjoy a supervised range at the front of the museum all to themselves\, with an adults-only range for more powerful bows in the back. \nNo previous experience required. Please bring your own gear if possible. A limited amount of gear will be available to borrow – first come\, first served. \nCost: $15; GSUSA $10; SDAC Members Free\nTickets include museum admission. No registration needed for SDAC Members. \nRegistration is closed. Please pay at door.
URL:https://sandiegoarchaeology.org/event/historic-archery-day-for-girl-scouts/
LOCATION:San Diego Archaeological Center\, 16666 San Pasqual Valley Road\, Escondido\, CA\, 92027\, United States
CATEGORIES:SDAC Events
ATTACH;FMTTYPE=image/png:https://sandiegoarchaeology.org/wp-content/uploads/2024/10/Archery-Feb_new-Event-Banner.png
ORGANIZER;CN="San Diego Archaeological Center":MAILTO:aniesley@sandiegoarchaeology.org
END:VEVENT
BEGIN:VEVENT
DTSTART;VALUE=DATE:20250219
DTEND;VALUE=DATE:20250220
DTSTAMP:20260423T202157
CREATED:20250205T182145Z
LAST-MODIFIED:20250212T195847Z
UID:10000972-1739923200-1740009599@sandiegoarchaeology.org
SUMMARY:Museum Month
DESCRIPTION:The San Diego Archaeological Center is proud to participate in San Diego Museum Month during the month of February. Presented by the San Diego Museum Council and the San Diego Foundation\, this month-long promotion offers fifty percent off admission for up to four people at over sixty museums and attractions throughout San Diego County. \nSan Diego Museum Month passes can be picked up for free at public libraries throughout the County or downloaded from the San Diego Museum Council website.
URL:https://sandiegoarchaeology.org/event/museum-month/2025-02-19/
LOCATION:San Diego Archaeological Center\, 16666 San Pasqual Valley Road\, Escondido\, CA\, 92027\, United States
CATEGORIES:SDAC Events
END:VEVENT
BEGIN:VEVENT
DTSTART;TZID=America/Los_Angeles:20250219T100000
DTEND;TZID=America/Los_Angeles:20250219T160000
DTSTAMP:20260423T202157
CREATED:20250107T213824Z
LAST-MODIFIED:20251119T000831Z
UID:10002209-1739959200-1739980800@sandiegoarchaeology.org
SUMMARY:Senior Wednesdays
DESCRIPTION:Seniors 65+ can enjoy free admission to the Center on Wednesdays. Discover the science of archaeology through our interactive Archaeology 101 exhibit\, explore the cultural periods of San Diego\, and uncover the Lives and Lifestyles on Block 112: The Untold Story of San Diego’s Working Class.
URL:https://sandiegoarchaeology.org/event/senior-wednesdays-2/2025-02-19/
LOCATION:San Diego Archaeological Center\, 16666 San Pasqual Valley Road\, Escondido\, CA\, 92027\, United States
CATEGORIES:SDAC Events
ORGANIZER;CN="San Diego Archaeological Center":MAILTO:aniesley@sandiegoarchaeology.org
END:VEVENT
BEGIN:VEVENT
DTSTART;VALUE=DATE:20250220
DTEND;VALUE=DATE:20250221
DTSTAMP:20260423T202157
CREATED:20250205T182145Z
LAST-MODIFIED:20250212T195847Z
UID:10000973-1740009600-1740095999@sandiegoarchaeology.org
SUMMARY:Museum Month
DESCRIPTION:The San Diego Archaeological Center is proud to participate in San Diego Museum Month during the month of February. Presented by the San Diego Museum Council and the San Diego Foundation\, this month-long promotion offers fifty percent off admission for up to four people at over sixty museums and attractions throughout San Diego County. \nSan Diego Museum Month passes can be picked up for free at public libraries throughout the County or downloaded from the San Diego Museum Council website.
URL:https://sandiegoarchaeology.org/event/museum-month/2025-02-20/
LOCATION:San Diego Archaeological Center\, 16666 San Pasqual Valley Road\, Escondido\, CA\, 92027\, United States
CATEGORIES:SDAC Events
END:VEVENT
BEGIN:VEVENT
DTSTART;TZID=America/Los_Angeles:20250220T100000
DTEND;TZID=America/Los_Angeles:20250220T110000
DTSTAMP:20260423T202157
CREATED:20240823T171951Z
LAST-MODIFIED:20250530T211457Z
UID:10000689-1740045600-1740049200@sandiegoarchaeology.org
SUMMARY:Story Time with an Archaeologist
DESCRIPTION:Join us on select Thursday mornings for archaeology-themed story time at the Center. Stay afterwards to explore the museum with family-friendly activities like our Archaeology Quest and Field Lab.
URL:https://sandiegoarchaeology.org/event/story-time-with-an-archaeologist/2025-02-20/
LOCATION:San Diego Archaeological Center\, 16666 San Pasqual Valley Road\, Escondido\, CA\, 92027\, United States
CATEGORIES:Kids Dig Archaeology,SDAC Events
ATTACH;FMTTYPE=image/png:https://sandiegoarchaeology.org/wp-content/uploads/2024/06/Storytime-10am.png
ORGANIZER;CN="San Diego Archaeological Center":MAILTO:aniesley@sandiegoarchaeology.org
END:VEVENT
BEGIN:VEVENT
DTSTART;VALUE=DATE:20250221
DTEND;VALUE=DATE:20250222
DTSTAMP:20260423T202157
CREATED:20250205T182145Z
LAST-MODIFIED:20250212T195847Z
UID:10000974-1740096000-1740182399@sandiegoarchaeology.org
SUMMARY:Museum Month
DESCRIPTION:The San Diego Archaeological Center is proud to participate in San Diego Museum Month during the month of February. Presented by the San Diego Museum Council and the San Diego Foundation\, this month-long promotion offers fifty percent off admission for up to four people at over sixty museums and attractions throughout San Diego County. \nSan Diego Museum Month passes can be picked up for free at public libraries throughout the County or downloaded from the San Diego Museum Council website.
URL:https://sandiegoarchaeology.org/event/museum-month/2025-02-21/
LOCATION:San Diego Archaeological Center\, 16666 San Pasqual Valley Road\, Escondido\, CA\, 92027\, United States
CATEGORIES:SDAC Events
END:VEVENT
BEGIN:VEVENT
DTSTART;VALUE=DATE:20250222
DTEND;VALUE=DATE:20250223
DTSTAMP:20260423T202157
CREATED:20250205T182145Z
LAST-MODIFIED:20250212T195847Z
UID:10000975-1740182400-1740268799@sandiegoarchaeology.org
SUMMARY:Museum Month
DESCRIPTION:The San Diego Archaeological Center is proud to participate in San Diego Museum Month during the month of February. Presented by the San Diego Museum Council and the San Diego Foundation\, this month-long promotion offers fifty percent off admission for up to four people at over sixty museums and attractions throughout San Diego County. \nSan Diego Museum Month passes can be picked up for free at public libraries throughout the County or downloaded from the San Diego Museum Council website.
URL:https://sandiegoarchaeology.org/event/museum-month/2025-02-22/
LOCATION:San Diego Archaeological Center\, 16666 San Pasqual Valley Road\, Escondido\, CA\, 92027\, United States
CATEGORIES:SDAC Events
END:VEVENT
BEGIN:VEVENT
DTSTART;TZID=America/Los_Angeles:20250226T100000
DTEND;TZID=America/Los_Angeles:20250226T160000
DTSTAMP:20260423T202157
CREATED:20250107T213824Z
LAST-MODIFIED:20251119T000831Z
UID:10002210-1740564000-1740585600@sandiegoarchaeology.org
SUMMARY:Senior Wednesdays
DESCRIPTION:Seniors 65+ can enjoy free admission to the Center on Wednesdays. Discover the science of archaeology through our interactive Archaeology 101 exhibit\, explore the cultural periods of San Diego\, and uncover the Lives and Lifestyles on Block 112: The Untold Story of San Diego’s Working Class.
URL:https://sandiegoarchaeology.org/event/senior-wednesdays-2/2025-02-26/
LOCATION:San Diego Archaeological Center\, 16666 San Pasqual Valley Road\, Escondido\, CA\, 92027\, United States
CATEGORIES:SDAC Events
ORGANIZER;CN="San Diego Archaeological Center":MAILTO:aniesley@sandiegoarchaeology.org
END:VEVENT
BEGIN:VEVENT
DTSTART;TZID=America/Los_Angeles:20250226T100000
DTEND;TZID=America/Los_Angeles:20250227T160000
DTSTAMP:20260423T202157
CREATED:20250114T214541Z
LAST-MODIFIED:20250212T195910Z
UID:10000960-1740564000-1740672000@sandiegoarchaeology.org
SUMMARY:MUSEUM CLOSED for Private Event
DESCRIPTION:
URL:https://sandiegoarchaeology.org/event/museum-closed/
LOCATION:San Diego Archaeological Center\, 16666 San Pasqual Valley Road\, Escondido\, CA\, 92027\, United States
CATEGORIES:SDAC Events
ORGANIZER;CN="San Diego Archaeological Center":MAILTO:aniesley@sandiegoarchaeology.org
END:VEVENT
BEGIN:VEVENT
DTSTART;VALUE=DATE:20250228
DTEND;VALUE=DATE:20250301
DTSTAMP:20260423T202157
CREATED:20250205T182145Z
LAST-MODIFIED:20250212T195847Z
UID:10000978-1740700800-1740787199@sandiegoarchaeology.org
SUMMARY:Museum Month
DESCRIPTION:The San Diego Archaeological Center is proud to participate in San Diego Museum Month during the month of February. Presented by the San Diego Museum Council and the San Diego Foundation\, this month-long promotion offers fifty percent off admission for up to four people at over sixty museums and attractions throughout San Diego County. \nSan Diego Museum Month passes can be picked up for free at public libraries throughout the County or downloaded from the San Diego Museum Council website.
URL:https://sandiegoarchaeology.org/event/museum-month/2025-02-28/
LOCATION:San Diego Archaeological Center\, 16666 San Pasqual Valley Road\, Escondido\, CA\, 92027\, United States
CATEGORIES:SDAC Events
END:VEVENT
END:VCALENDAR