BEGIN:VCALENDAR
VERSION:2.0
PRODID:-//SAN DIEGO ARCHAEOLOGICAL CENTER - ECPv6.15.20//NONSGML v1.0//EN
CALSCALE:GREGORIAN
METHOD:PUBLISH
X-WR-CALNAME:SAN DIEGO ARCHAEOLOGICAL CENTER
X-ORIGINAL-URL:https://sandiegoarchaeology.org
X-WR-CALDESC:Events for SAN DIEGO ARCHAEOLOGICAL CENTER
REFRESH-INTERVAL;VALUE=DURATION:PT1H
X-Robots-Tag:noindex
X-PUBLISHED-TTL:PT1H
BEGIN:VTIMEZONE
TZID:America/Los_Angeles
BEGIN:DAYLIGHT
TZOFFSETFROM:-0800
TZOFFSETTO:-0700
TZNAME:PDT
DTSTART:20240310T100000
END:DAYLIGHT
BEGIN:STANDARD
TZOFFSETFROM:-0700
TZOFFSETTO:-0800
TZNAME:PST
DTSTART:20241103T090000
END:STANDARD
BEGIN:DAYLIGHT
TZOFFSETFROM:-0800
TZOFFSETTO:-0700
TZNAME:PDT
DTSTART:20250309T100000
END:DAYLIGHT
BEGIN:STANDARD
TZOFFSETFROM:-0700
TZOFFSETTO:-0800
TZNAME:PST
DTSTART:20251102T090000
END:STANDARD
BEGIN:DAYLIGHT
TZOFFSETFROM:-0800
TZOFFSETTO:-0700
TZNAME:PDT
DTSTART:20260308T100000
END:DAYLIGHT
BEGIN:STANDARD
TZOFFSETFROM:-0700
TZOFFSETTO:-0800
TZNAME:PST
DTSTART:20261101T090000
END:STANDARD
END:VTIMEZONE
BEGIN:VEVENT
DTSTART;VALUE=DATE:20250730
DTEND;VALUE=DATE:20250803
DTSTAMP:20260423T115926
CREATED:20251007T222028Z
LAST-MODIFIED:20251007T222709Z
UID:10002599-1753833600-1754179199@sandiegoarchaeology.org
SUMMARY:Museum Temporarily Closed for Construction
DESCRIPTION:Join us for pop-up programming throughout San Diego County this summer.
URL:https://sandiegoarchaeology.org/event/museum-temporarily-closed-for-construction-2-2/2025-07-30/
LOCATION:San Diego Archaeological Center\, 16666 San Pasqual Valley Road\, Escondido\, CA\, 92027\, United States
CATEGORIES:SDAC Events
ORGANIZER;CN="San Diego Archaeological Center":MAILTO:aniesley@sandiegoarchaeology.org
END:VEVENT
BEGIN:VEVENT
DTSTART;VALUE=DATE:20250806
DTEND;VALUE=DATE:20250810
DTSTAMP:20260423T115926
CREATED:20251007T222028Z
LAST-MODIFIED:20251007T222709Z
UID:10002600-1754438400-1754783999@sandiegoarchaeology.org
SUMMARY:Museum Temporarily Closed for Construction
DESCRIPTION:Join us for pop-up programming throughout San Diego County this summer.
URL:https://sandiegoarchaeology.org/event/museum-temporarily-closed-for-construction-2-2/2025-08-06/
LOCATION:San Diego Archaeological Center\, 16666 San Pasqual Valley Road\, Escondido\, CA\, 92027\, United States
CATEGORIES:SDAC Events
ORGANIZER;CN="San Diego Archaeological Center":MAILTO:aniesley@sandiegoarchaeology.org
END:VEVENT
BEGIN:VEVENT
DTSTART;VALUE=DATE:20250813
DTEND;VALUE=DATE:20250817
DTSTAMP:20260423T115926
CREATED:20251007T222028Z
LAST-MODIFIED:20251007T222709Z
UID:10002601-1755043200-1755388799@sandiegoarchaeology.org
SUMMARY:Museum Temporarily Closed for Construction
DESCRIPTION:Join us for pop-up programming throughout San Diego County this summer.
URL:https://sandiegoarchaeology.org/event/museum-temporarily-closed-for-construction-2-2/2025-08-13/
LOCATION:San Diego Archaeological Center\, 16666 San Pasqual Valley Road\, Escondido\, CA\, 92027\, United States
CATEGORIES:SDAC Events
ORGANIZER;CN="San Diego Archaeological Center":MAILTO:aniesley@sandiegoarchaeology.org
END:VEVENT
BEGIN:VEVENT
DTSTART;VALUE=DATE:20250820
DTEND;VALUE=DATE:20250824
DTSTAMP:20260423T115926
CREATED:20251007T222028Z
LAST-MODIFIED:20251007T222709Z
UID:10002602-1755648000-1755993599@sandiegoarchaeology.org
SUMMARY:Museum Temporarily Closed for Construction
DESCRIPTION:Join us for pop-up programming throughout San Diego County this summer.
URL:https://sandiegoarchaeology.org/event/museum-temporarily-closed-for-construction-2-2/2025-08-20/
LOCATION:San Diego Archaeological Center\, 16666 San Pasqual Valley Road\, Escondido\, CA\, 92027\, United States
CATEGORIES:SDAC Events
ORGANIZER;CN="San Diego Archaeological Center":MAILTO:aniesley@sandiegoarchaeology.org
END:VEVENT
BEGIN:VEVENT
DTSTART;VALUE=DATE:20250827
DTEND;VALUE=DATE:20250831
DTSTAMP:20260423T115926
CREATED:20251007T222028Z
LAST-MODIFIED:20251007T222709Z
UID:10002603-1756252800-1756598399@sandiegoarchaeology.org
SUMMARY:Museum Temporarily Closed for Construction
DESCRIPTION:Join us for pop-up programming throughout San Diego County this summer.
URL:https://sandiegoarchaeology.org/event/museum-temporarily-closed-for-construction-2-2/2025-08-27/
LOCATION:San Diego Archaeological Center\, 16666 San Pasqual Valley Road\, Escondido\, CA\, 92027\, United States
CATEGORIES:SDAC Events
ORGANIZER;CN="San Diego Archaeological Center":MAILTO:aniesley@sandiegoarchaeology.org
END:VEVENT
END:VCALENDAR