BEGIN:VCALENDAR
VERSION:2.0
PRODID:-//SAN DIEGO ARCHAEOLOGICAL CENTER - ECPv6.15.20//NONSGML v1.0//EN
CALSCALE:GREGORIAN
METHOD:PUBLISH
X-WR-CALNAME:SAN DIEGO ARCHAEOLOGICAL CENTER
X-ORIGINAL-URL:https://sandiegoarchaeology.org
X-WR-CALDESC:Events for SAN DIEGO ARCHAEOLOGICAL CENTER
REFRESH-INTERVAL;VALUE=DURATION:PT1H
X-Robots-Tag:noindex
X-PUBLISHED-TTL:PT1H
BEGIN:VTIMEZONE
TZID:America/Los_Angeles
BEGIN:DAYLIGHT
TZOFFSETFROM:-0800
TZOFFSETTO:-0700
TZNAME:PDT
DTSTART:20240310T100000
END:DAYLIGHT
BEGIN:STANDARD
TZOFFSETFROM:-0700
TZOFFSETTO:-0800
TZNAME:PST
DTSTART:20241103T090000
END:STANDARD
BEGIN:DAYLIGHT
TZOFFSETFROM:-0800
TZOFFSETTO:-0700
TZNAME:PDT
DTSTART:20250309T100000
END:DAYLIGHT
BEGIN:STANDARD
TZOFFSETFROM:-0700
TZOFFSETTO:-0800
TZNAME:PST
DTSTART:20251102T090000
END:STANDARD
BEGIN:DAYLIGHT
TZOFFSETFROM:-0800
TZOFFSETTO:-0700
TZNAME:PDT
DTSTART:20260308T100000
END:DAYLIGHT
BEGIN:STANDARD
TZOFFSETFROM:-0700
TZOFFSETTO:-0800
TZNAME:PST
DTSTART:20261101T090000
END:STANDARD
END:VTIMEZONE
BEGIN:VEVENT
DTSTART;VALUE=DATE:20251001
DTEND;VALUE=DATE:20251005
DTSTAMP:20260423T085957
CREATED:20251007T222028Z
LAST-MODIFIED:20251007T222709Z
UID:10002608-1759276800-1759622399@sandiegoarchaeology.org
SUMMARY:Museum Temporarily Closed for Construction
DESCRIPTION:Join us for pop-up programming throughout San Diego County this summer.
URL:https://sandiegoarchaeology.org/event/museum-temporarily-closed-for-construction-2-2/2025-10-01/
LOCATION:San Diego Archaeological Center\, 16666 San Pasqual Valley Road\, Escondido\, CA\, 92027\, United States
CATEGORIES:SDAC Events
ORGANIZER;CN="San Diego Archaeological Center":MAILTO:aniesley@sandiegoarchaeology.org
END:VEVENT
BEGIN:VEVENT
DTSTART;VALUE=DATE:20251008
DTEND;VALUE=DATE:20251012
DTSTAMP:20260423T085957
CREATED:20251007T222028Z
LAST-MODIFIED:20251007T222709Z
UID:10002609-1759881600-1760227199@sandiegoarchaeology.org
SUMMARY:Museum Temporarily Closed for Construction
DESCRIPTION:Join us for pop-up programming throughout San Diego County this summer.
URL:https://sandiegoarchaeology.org/event/museum-temporarily-closed-for-construction-2-2/2025-10-08/
LOCATION:San Diego Archaeological Center\, 16666 San Pasqual Valley Road\, Escondido\, CA\, 92027\, United States
CATEGORIES:SDAC Events
ORGANIZER;CN="San Diego Archaeological Center":MAILTO:aniesley@sandiegoarchaeology.org
END:VEVENT
BEGIN:VEVENT
DTSTART;VALUE=DATE:20251015
DTEND;VALUE=DATE:20251019
DTSTAMP:20260423T085957
CREATED:20251007T222028Z
LAST-MODIFIED:20251007T222709Z
UID:10002571-1760486400-1760831999@sandiegoarchaeology.org
SUMMARY:Museum Temporarily Closed for Construction
DESCRIPTION:Join us for pop-up programming throughout San Diego County this summer.
URL:https://sandiegoarchaeology.org/event/museum-temporarily-closed-for-construction-2-2/2025-10-15/
LOCATION:San Diego Archaeological Center\, 16666 San Pasqual Valley Road\, Escondido\, CA\, 92027\, United States
CATEGORIES:SDAC Events
ORGANIZER;CN="San Diego Archaeological Center":MAILTO:aniesley@sandiegoarchaeology.org
END:VEVENT
BEGIN:VEVENT
DTSTART;VALUE=DATE:20251022
DTEND;VALUE=DATE:20251026
DTSTAMP:20260423T085957
CREATED:20251007T222028Z
LAST-MODIFIED:20251007T222709Z
UID:10002572-1761091200-1761436799@sandiegoarchaeology.org
SUMMARY:Museum Temporarily Closed for Construction
DESCRIPTION:Join us for pop-up programming throughout San Diego County this summer.
URL:https://sandiegoarchaeology.org/event/museum-temporarily-closed-for-construction-2-2/2025-10-22/
LOCATION:San Diego Archaeological Center\, 16666 San Pasqual Valley Road\, Escondido\, CA\, 92027\, United States
CATEGORIES:SDAC Events
ORGANIZER;CN="San Diego Archaeological Center":MAILTO:aniesley@sandiegoarchaeology.org
END:VEVENT
BEGIN:VEVENT
DTSTART;VALUE=DATE:20251029
DTEND;VALUE=DATE:20251102
DTSTAMP:20260423T085957
CREATED:20251007T222028Z
LAST-MODIFIED:20251007T222709Z
UID:10002573-1761696000-1762041599@sandiegoarchaeology.org
SUMMARY:Museum Temporarily Closed for Construction
DESCRIPTION:Join us for pop-up programming throughout San Diego County this summer.
URL:https://sandiegoarchaeology.org/event/museum-temporarily-closed-for-construction-2-2/2025-10-29/
LOCATION:San Diego Archaeological Center\, 16666 San Pasqual Valley Road\, Escondido\, CA\, 92027\, United States
CATEGORIES:SDAC Events
ORGANIZER;CN="San Diego Archaeological Center":MAILTO:aniesley@sandiegoarchaeology.org
END:VEVENT
END:VCALENDAR