BEGIN:VCALENDAR
VERSION:2.0
PRODID:-//SAN DIEGO ARCHAEOLOGICAL CENTER - ECPv6.15.20//NONSGML v1.0//EN
CALSCALE:GREGORIAN
METHOD:PUBLISH
X-WR-CALNAME:SAN DIEGO ARCHAEOLOGICAL CENTER
X-ORIGINAL-URL:https://sandiegoarchaeology.org
X-WR-CALDESC:Events for SAN DIEGO ARCHAEOLOGICAL CENTER
REFRESH-INTERVAL;VALUE=DURATION:PT1H
X-Robots-Tag:noindex
X-PUBLISHED-TTL:PT1H
BEGIN:VTIMEZONE
TZID:America/Los_Angeles
BEGIN:DAYLIGHT
TZOFFSETFROM:-0800
TZOFFSETTO:-0700
TZNAME:PDT
DTSTART:20250309T100000
END:DAYLIGHT
BEGIN:STANDARD
TZOFFSETFROM:-0700
TZOFFSETTO:-0800
TZNAME:PST
DTSTART:20251102T090000
END:STANDARD
BEGIN:DAYLIGHT
TZOFFSETFROM:-0800
TZOFFSETTO:-0700
TZNAME:PDT
DTSTART:20260308T100000
END:DAYLIGHT
BEGIN:STANDARD
TZOFFSETFROM:-0700
TZOFFSETTO:-0800
TZNAME:PST
DTSTART:20261101T090000
END:STANDARD
BEGIN:DAYLIGHT
TZOFFSETFROM:-0800
TZOFFSETTO:-0700
TZNAME:PDT
DTSTART:20270314T100000
END:DAYLIGHT
BEGIN:STANDARD
TZOFFSETFROM:-0700
TZOFFSETTO:-0800
TZNAME:PST
DTSTART:20271107T090000
END:STANDARD
END:VTIMEZONE
BEGIN:VEVENT
DTSTART;TZID=America/Los_Angeles:20260701T100000
DTEND;TZID=America/Los_Angeles:20260701T160000
DTSTAMP:20260423T045300
CREATED:20250107T213824Z
LAST-MODIFIED:20251119T000831Z
UID:10000498-1782900000-1782921600@sandiegoarchaeology.org
SUMMARY:Senior Wednesdays
DESCRIPTION:Seniors 65+ can enjoy free admission to the Center on Wednesdays. Discover the science of archaeology through our interactive Archaeology 101 exhibit\, explore the cultural periods of San Diego\, and uncover the Lives and Lifestyles on Block 112: The Untold Story of San Diego’s Working Class.
URL:https://sandiegoarchaeology.org/event/senior-wednesdays-2/2026-07-01/
LOCATION:San Diego Archaeological Center\, 16666 San Pasqual Valley Road\, Escondido\, CA\, 92027\, United States
CATEGORIES:SDAC Events
ORGANIZER;CN="San Diego Archaeological Center":MAILTO:aniesley@sandiegoarchaeology.org
END:VEVENT
BEGIN:VEVENT
DTSTART;TZID=America/Los_Angeles:20260702T100000
DTEND;TZID=America/Los_Angeles:20260702T110000
DTSTAMP:20260423T045300
CREATED:20250702T211549Z
LAST-MODIFIED:20260212T000726Z
UID:10000760-1782986400-1782990000@sandiegoarchaeology.org
SUMMARY:Story Time with an Archaeologist
DESCRIPTION:Join us on select Thursday mornings for archaeology-themed story time at the Center. Stay afterwards to explore the museum with family-friendly activities like our Archaeology Quest and Field Lab.
URL:https://sandiegoarchaeology.org/event/story-time-with-an-archaeologist-2/2026-07-02/
LOCATION:San Diego Archaeological Center\, 16666 San Pasqual Valley Road\, Escondido\, CA\, 92027\, United States
CATEGORIES:Kids Dig Archaeology,SDAC Events
ATTACH;FMTTYPE=image/png:https://sandiegoarchaeology.org/wp-content/uploads/2024/06/Storytime-10am.png
ORGANIZER;CN="San Diego Archaeological Center":MAILTO:aniesley@sandiegoarchaeology.org
END:VEVENT
BEGIN:VEVENT
DTSTART;TZID=America/Los_Angeles:20260708T100000
DTEND;TZID=America/Los_Angeles:20260708T160000
DTSTAMP:20260423T045300
CREATED:20250107T213824Z
LAST-MODIFIED:20251119T000831Z
UID:10000499-1783504800-1783526400@sandiegoarchaeology.org
SUMMARY:Senior Wednesdays
DESCRIPTION:Seniors 65+ can enjoy free admission to the Center on Wednesdays. Discover the science of archaeology through our interactive Archaeology 101 exhibit\, explore the cultural periods of San Diego\, and uncover the Lives and Lifestyles on Block 112: The Untold Story of San Diego’s Working Class.
URL:https://sandiegoarchaeology.org/event/senior-wednesdays-2/2026-07-08/
LOCATION:San Diego Archaeological Center\, 16666 San Pasqual Valley Road\, Escondido\, CA\, 92027\, United States
CATEGORIES:SDAC Events
ORGANIZER;CN="San Diego Archaeological Center":MAILTO:aniesley@sandiegoarchaeology.org
END:VEVENT
BEGIN:VEVENT
DTSTART;TZID=America/Los_Angeles:20260709T100000
DTEND;TZID=America/Los_Angeles:20260709T110000
DTSTAMP:20260423T045300
CREATED:20250702T211549Z
LAST-MODIFIED:20260212T000726Z
UID:10000761-1783591200-1783594800@sandiegoarchaeology.org
SUMMARY:Story Time with an Archaeologist
DESCRIPTION:Join us on select Thursday mornings for archaeology-themed story time at the Center. Stay afterwards to explore the museum with family-friendly activities like our Archaeology Quest and Field Lab.
URL:https://sandiegoarchaeology.org/event/story-time-with-an-archaeologist-2/2026-07-09/
LOCATION:San Diego Archaeological Center\, 16666 San Pasqual Valley Road\, Escondido\, CA\, 92027\, United States
CATEGORIES:Kids Dig Archaeology,SDAC Events
ATTACH;FMTTYPE=image/png:https://sandiegoarchaeology.org/wp-content/uploads/2024/06/Storytime-10am.png
ORGANIZER;CN="San Diego Archaeological Center":MAILTO:aniesley@sandiegoarchaeology.org
END:VEVENT
BEGIN:VEVENT
DTSTART;TZID=America/Los_Angeles:20260711T100000
DTEND;TZID=America/Los_Angeles:20260711T130000
DTSTAMP:20260423T045300
CREATED:20240928T160049Z
LAST-MODIFIED:20260211T233535Z
UID:10002125-1783764000-1783774800@sandiegoarchaeology.org
SUMMARY:Art with an Archaeologist
DESCRIPTION:Free admission for kids on select Saturdays! Join us for family-friendly activities in our classroom\, where you can create your own art with an archaeologist\, become a junior archaeologist with our miniature excavation units\, and curl up with a book on our cozy reading rug. Families can also explore the museum on an Archaeology Quest and check out our Excavation Station and Field Lab. \nKids 12 & under: Free; Adults: $5 (includes museum admission)
URL:https://sandiegoarchaeology.org/event/art-with-an-archaeologist-3/2026-07-11/
LOCATION:San Diego Archaeological Center\, 16666 San Pasqual Valley Road\, Escondido\, CA\, 92027\, United States
CATEGORIES:Kids Dig Archaeology,SDAC Events
ATTACH;FMTTYPE=image/png:https://sandiegoarchaeology.org/wp-content/uploads/2024/06/Art-with-an-Archaeologist-rev.png
ORGANIZER;CN="San Diego Archaeological Center":MAILTO:aniesley@sandiegoarchaeology.org
END:VEVENT
BEGIN:VEVENT
DTSTART;TZID=America/Los_Angeles:20260715T100000
DTEND;TZID=America/Los_Angeles:20260715T160000
DTSTAMP:20260423T045300
CREATED:20250107T213824Z
LAST-MODIFIED:20251119T000831Z
UID:10000500-1784109600-1784131200@sandiegoarchaeology.org
SUMMARY:Senior Wednesdays
DESCRIPTION:Seniors 65+ can enjoy free admission to the Center on Wednesdays. Discover the science of archaeology through our interactive Archaeology 101 exhibit\, explore the cultural periods of San Diego\, and uncover the Lives and Lifestyles on Block 112: The Untold Story of San Diego’s Working Class.
URL:https://sandiegoarchaeology.org/event/senior-wednesdays-2/2026-07-15/
LOCATION:San Diego Archaeological Center\, 16666 San Pasqual Valley Road\, Escondido\, CA\, 92027\, United States
CATEGORIES:SDAC Events
ORGANIZER;CN="San Diego Archaeological Center":MAILTO:aniesley@sandiegoarchaeology.org
END:VEVENT
BEGIN:VEVENT
DTSTART;TZID=America/Los_Angeles:20260716T100000
DTEND;TZID=America/Los_Angeles:20260716T110000
DTSTAMP:20260423T045300
CREATED:20250702T211549Z
LAST-MODIFIED:20260212T000726Z
UID:10000762-1784196000-1784199600@sandiegoarchaeology.org
SUMMARY:Story Time with an Archaeologist
DESCRIPTION:Join us on select Thursday mornings for archaeology-themed story time at the Center. Stay afterwards to explore the museum with family-friendly activities like our Archaeology Quest and Field Lab.
URL:https://sandiegoarchaeology.org/event/story-time-with-an-archaeologist-2/2026-07-16/
LOCATION:San Diego Archaeological Center\, 16666 San Pasqual Valley Road\, Escondido\, CA\, 92027\, United States
CATEGORIES:Kids Dig Archaeology,SDAC Events
ATTACH;FMTTYPE=image/png:https://sandiegoarchaeology.org/wp-content/uploads/2024/06/Storytime-10am.png
ORGANIZER;CN="San Diego Archaeological Center":MAILTO:aniesley@sandiegoarchaeology.org
END:VEVENT
BEGIN:VEVENT
DTSTART;TZID=America/Los_Angeles:20260722T100000
DTEND;TZID=America/Los_Angeles:20260722T160000
DTSTAMP:20260423T045300
CREATED:20250107T213824Z
LAST-MODIFIED:20251119T000831Z
UID:10000501-1784714400-1784736000@sandiegoarchaeology.org
SUMMARY:Senior Wednesdays
DESCRIPTION:Seniors 65+ can enjoy free admission to the Center on Wednesdays. Discover the science of archaeology through our interactive Archaeology 101 exhibit\, explore the cultural periods of San Diego\, and uncover the Lives and Lifestyles on Block 112: The Untold Story of San Diego’s Working Class.
URL:https://sandiegoarchaeology.org/event/senior-wednesdays-2/2026-07-22/
LOCATION:San Diego Archaeological Center\, 16666 San Pasqual Valley Road\, Escondido\, CA\, 92027\, United States
CATEGORIES:SDAC Events
ORGANIZER;CN="San Diego Archaeological Center":MAILTO:aniesley@sandiegoarchaeology.org
END:VEVENT
BEGIN:VEVENT
DTSTART;TZID=America/Los_Angeles:20260723T100000
DTEND;TZID=America/Los_Angeles:20260723T110000
DTSTAMP:20260423T045300
CREATED:20250702T211549Z
LAST-MODIFIED:20260212T000726Z
UID:10000763-1784800800-1784804400@sandiegoarchaeology.org
SUMMARY:Story Time with an Archaeologist
DESCRIPTION:Join us on select Thursday mornings for archaeology-themed story time at the Center. Stay afterwards to explore the museum with family-friendly activities like our Archaeology Quest and Field Lab.
URL:https://sandiegoarchaeology.org/event/story-time-with-an-archaeologist-2/2026-07-23/
LOCATION:San Diego Archaeological Center\, 16666 San Pasqual Valley Road\, Escondido\, CA\, 92027\, United States
CATEGORIES:Kids Dig Archaeology,SDAC Events
ATTACH;FMTTYPE=image/png:https://sandiegoarchaeology.org/wp-content/uploads/2024/06/Storytime-10am.png
ORGANIZER;CN="San Diego Archaeological Center":MAILTO:aniesley@sandiegoarchaeology.org
END:VEVENT
BEGIN:VEVENT
DTSTART;TZID=America/Los_Angeles:20260725T100000
DTEND;TZID=America/Los_Angeles:20260725T140000
DTSTAMP:20260423T045300
CREATED:20251210T231909Z
LAST-MODIFIED:20260203T230004Z
UID:10002645-1784973600-1784988000@sandiegoarchaeology.org
SUMMARY:North County Archery Club
DESCRIPTION:The San Diego Archaeological Center is hosting the North County Archery Club on the last Saturday of each month. All ages and skill levels are welcome\, with gear available first-come-first-served. Archers are invited to explore the museum and learn about the history of San Diego. \nCost: $15\, SDAC Members Free \n 
URL:https://sandiegoarchaeology.org/event/north-county-archery-club-3/2026-07-25/
LOCATION:San Diego Archaeological Center\, 16666 San Pasqual Valley Road\, Escondido\, CA\, 92027\, United States
CATEGORIES:SDAC Events
ORGANIZER;CN="San Diego Archaeological Center":MAILTO:aniesley@sandiegoarchaeology.org
END:VEVENT
BEGIN:VEVENT
DTSTART;TZID=America/Los_Angeles:20260729T100000
DTEND;TZID=America/Los_Angeles:20260729T160000
DTSTAMP:20260423T045300
CREATED:20250107T213824Z
LAST-MODIFIED:20251119T000831Z
UID:10000502-1785319200-1785340800@sandiegoarchaeology.org
SUMMARY:Senior Wednesdays
DESCRIPTION:Seniors 65+ can enjoy free admission to the Center on Wednesdays. Discover the science of archaeology through our interactive Archaeology 101 exhibit\, explore the cultural periods of San Diego\, and uncover the Lives and Lifestyles on Block 112: The Untold Story of San Diego’s Working Class.
URL:https://sandiegoarchaeology.org/event/senior-wednesdays-2/2026-07-29/
LOCATION:San Diego Archaeological Center\, 16666 San Pasqual Valley Road\, Escondido\, CA\, 92027\, United States
CATEGORIES:SDAC Events
ORGANIZER;CN="San Diego Archaeological Center":MAILTO:aniesley@sandiegoarchaeology.org
END:VEVENT
BEGIN:VEVENT
DTSTART;TZID=America/Los_Angeles:20260730T100000
DTEND;TZID=America/Los_Angeles:20260730T110000
DTSTAMP:20260423T045300
CREATED:20250702T211549Z
LAST-MODIFIED:20260212T000726Z
UID:10000764-1785405600-1785409200@sandiegoarchaeology.org
SUMMARY:Story Time with an Archaeologist
DESCRIPTION:Join us on select Thursday mornings for archaeology-themed story time at the Center. Stay afterwards to explore the museum with family-friendly activities like our Archaeology Quest and Field Lab.
URL:https://sandiegoarchaeology.org/event/story-time-with-an-archaeologist-2/2026-07-30/
LOCATION:San Diego Archaeological Center\, 16666 San Pasqual Valley Road\, Escondido\, CA\, 92027\, United States
CATEGORIES:Kids Dig Archaeology,SDAC Events
ATTACH;FMTTYPE=image/png:https://sandiegoarchaeology.org/wp-content/uploads/2024/06/Storytime-10am.png
ORGANIZER;CN="San Diego Archaeological Center":MAILTO:aniesley@sandiegoarchaeology.org
END:VEVENT
END:VCALENDAR