BEGIN:VCALENDAR
VERSION:2.0
PRODID:-//SAN DIEGO ARCHAEOLOGICAL CENTER - ECPv6.15.20//NONSGML v1.0//EN
CALSCALE:GREGORIAN
METHOD:PUBLISH
X-WR-CALNAME:SAN DIEGO ARCHAEOLOGICAL CENTER
X-ORIGINAL-URL:https://sandiegoarchaeology.org
X-WR-CALDESC:Events for SAN DIEGO ARCHAEOLOGICAL CENTER
REFRESH-INTERVAL;VALUE=DURATION:PT1H
X-Robots-Tag:noindex
X-PUBLISHED-TTL:PT1H
BEGIN:VTIMEZONE
TZID:America/Los_Angeles
BEGIN:DAYLIGHT
TZOFFSETFROM:-0800
TZOFFSETTO:-0700
TZNAME:PDT
DTSTART:20260308T100000
END:DAYLIGHT
BEGIN:STANDARD
TZOFFSETFROM:-0700
TZOFFSETTO:-0800
TZNAME:PST
DTSTART:20261101T090000
END:STANDARD
BEGIN:DAYLIGHT
TZOFFSETFROM:-0800
TZOFFSETTO:-0700
TZNAME:PDT
DTSTART:20270314T100000
END:DAYLIGHT
BEGIN:STANDARD
TZOFFSETFROM:-0700
TZOFFSETTO:-0800
TZNAME:PST
DTSTART:20271107T090000
END:STANDARD
BEGIN:DAYLIGHT
TZOFFSETFROM:-0800
TZOFFSETTO:-0700
TZNAME:PDT
DTSTART:20280312T100000
END:DAYLIGHT
BEGIN:STANDARD
TZOFFSETFROM:-0700
TZOFFSETTO:-0800
TZNAME:PST
DTSTART:20281105T090000
END:STANDARD
END:VTIMEZONE
BEGIN:VEVENT
DTSTART;TZID=America/Los_Angeles:20270701T100000
DTEND;TZID=America/Los_Angeles:20270701T110000
DTSTAMP:20260423T212144
CREATED:20250702T211549Z
LAST-MODIFIED:20260212T000726Z
UID:10000812-1814436000-1814439600@sandiegoarchaeology.org
SUMMARY:Story Time with an Archaeologist
DESCRIPTION:Join us on select Thursday mornings for archaeology-themed story time at the Center. Stay afterwards to explore the museum with family-friendly activities like our Archaeology Quest and Field Lab.
URL:https://sandiegoarchaeology.org/event/story-time-with-an-archaeologist-2/2027-07-01/
LOCATION:San Diego Archaeological Center\, 16666 San Pasqual Valley Road\, Escondido\, CA\, 92027\, United States
CATEGORIES:Kids Dig Archaeology,SDAC Events
ATTACH;FMTTYPE=image/png:https://sandiegoarchaeology.org/wp-content/uploads/2024/06/Storytime-10am.png
ORGANIZER;CN="San Diego Archaeological Center":MAILTO:aniesley@sandiegoarchaeology.org
END:VEVENT
BEGIN:VEVENT
DTSTART;TZID=America/Los_Angeles:20270707T100000
DTEND;TZID=America/Los_Angeles:20270707T160000
DTSTAMP:20260423T212144
CREATED:20250107T213824Z
LAST-MODIFIED:20251119T000831Z
UID:10000551-1814954400-1814976000@sandiegoarchaeology.org
SUMMARY:Senior Wednesdays
DESCRIPTION:Seniors 65+ can enjoy free admission to the Center on Wednesdays. Discover the science of archaeology through our interactive Archaeology 101 exhibit\, explore the cultural periods of San Diego\, and uncover the Lives and Lifestyles on Block 112: The Untold Story of San Diego’s Working Class.
URL:https://sandiegoarchaeology.org/event/senior-wednesdays-2/2027-07-07/
LOCATION:San Diego Archaeological Center\, 16666 San Pasqual Valley Road\, Escondido\, CA\, 92027\, United States
CATEGORIES:SDAC Events
ORGANIZER;CN="San Diego Archaeological Center":MAILTO:aniesley@sandiegoarchaeology.org
END:VEVENT
BEGIN:VEVENT
DTSTART;TZID=America/Los_Angeles:20270708T100000
DTEND;TZID=America/Los_Angeles:20270708T110000
DTSTAMP:20260423T212144
CREATED:20250702T211549Z
LAST-MODIFIED:20260212T000726Z
UID:10000813-1815040800-1815044400@sandiegoarchaeology.org
SUMMARY:Story Time with an Archaeologist
DESCRIPTION:Join us on select Thursday mornings for archaeology-themed story time at the Center. Stay afterwards to explore the museum with family-friendly activities like our Archaeology Quest and Field Lab.
URL:https://sandiegoarchaeology.org/event/story-time-with-an-archaeologist-2/2027-07-08/
LOCATION:San Diego Archaeological Center\, 16666 San Pasqual Valley Road\, Escondido\, CA\, 92027\, United States
CATEGORIES:Kids Dig Archaeology,SDAC Events
ATTACH;FMTTYPE=image/png:https://sandiegoarchaeology.org/wp-content/uploads/2024/06/Storytime-10am.png
ORGANIZER;CN="San Diego Archaeological Center":MAILTO:aniesley@sandiegoarchaeology.org
END:VEVENT
BEGIN:VEVENT
DTSTART;TZID=America/Los_Angeles:20270710T100000
DTEND;TZID=America/Los_Angeles:20270710T130000
DTSTAMP:20260423T212144
CREATED:20240928T160049Z
LAST-MODIFIED:20260423T170006Z
UID:10002137-1815213600-1815224400@sandiegoarchaeology.org
SUMMARY:Art with an Archaeologist
DESCRIPTION:Free admission for kids on select Saturdays! Join us for family-friendly activities in our classroom\, where you can create your own art with an archaeologist\, become a junior archaeologist with our miniature excavation units\, and curl up with a book on our cozy reading rug. Families can also explore the museum on an Archaeology Quest and check out our Excavation Station and Field Lab. \nKids 12 & under: Free; Adults: $5 (includes museum admission)
URL:https://sandiegoarchaeology.org/event/art-with-an-archaeologist-3/2027-07-10/
LOCATION:San Diego Archaeological Center\, 16666 San Pasqual Valley Road\, Escondido\, CA\, 92027\, United States
CATEGORIES:Kids Dig Archaeology,SDAC Events
ATTACH;FMTTYPE=image/png:https://sandiegoarchaeology.org/wp-content/uploads/2024/06/Art-with-an-Archaeologist-rev.png
ORGANIZER;CN="San Diego Archaeological Center":MAILTO:aniesley@sandiegoarchaeology.org
END:VEVENT
BEGIN:VEVENT
DTSTART;TZID=America/Los_Angeles:20270714T100000
DTEND;TZID=America/Los_Angeles:20270714T160000
DTSTAMP:20260423T212144
CREATED:20250107T213824Z
LAST-MODIFIED:20251119T000831Z
UID:10000552-1815559200-1815580800@sandiegoarchaeology.org
SUMMARY:Senior Wednesdays
DESCRIPTION:Seniors 65+ can enjoy free admission to the Center on Wednesdays. Discover the science of archaeology through our interactive Archaeology 101 exhibit\, explore the cultural periods of San Diego\, and uncover the Lives and Lifestyles on Block 112: The Untold Story of San Diego’s Working Class.
URL:https://sandiegoarchaeology.org/event/senior-wednesdays-2/2027-07-14/
LOCATION:San Diego Archaeological Center\, 16666 San Pasqual Valley Road\, Escondido\, CA\, 92027\, United States
CATEGORIES:SDAC Events
ORGANIZER;CN="San Diego Archaeological Center":MAILTO:aniesley@sandiegoarchaeology.org
END:VEVENT
BEGIN:VEVENT
DTSTART;TZID=America/Los_Angeles:20270715T100000
DTEND;TZID=America/Los_Angeles:20270715T110000
DTSTAMP:20260423T212144
CREATED:20250702T211549Z
LAST-MODIFIED:20260212T000726Z
UID:10000814-1815645600-1815649200@sandiegoarchaeology.org
SUMMARY:Story Time with an Archaeologist
DESCRIPTION:Join us on select Thursday mornings for archaeology-themed story time at the Center. Stay afterwards to explore the museum with family-friendly activities like our Archaeology Quest and Field Lab.
URL:https://sandiegoarchaeology.org/event/story-time-with-an-archaeologist-2/2027-07-15/
LOCATION:San Diego Archaeological Center\, 16666 San Pasqual Valley Road\, Escondido\, CA\, 92027\, United States
CATEGORIES:Kids Dig Archaeology,SDAC Events
ATTACH;FMTTYPE=image/png:https://sandiegoarchaeology.org/wp-content/uploads/2024/06/Storytime-10am.png
ORGANIZER;CN="San Diego Archaeological Center":MAILTO:aniesley@sandiegoarchaeology.org
END:VEVENT
BEGIN:VEVENT
DTSTART;TZID=America/Los_Angeles:20270721T100000
DTEND;TZID=America/Los_Angeles:20270721T160000
DTSTAMP:20260423T212144
CREATED:20250107T213824Z
LAST-MODIFIED:20251119T000831Z
UID:10000553-1816164000-1816185600@sandiegoarchaeology.org
SUMMARY:Senior Wednesdays
DESCRIPTION:Seniors 65+ can enjoy free admission to the Center on Wednesdays. Discover the science of archaeology through our interactive Archaeology 101 exhibit\, explore the cultural periods of San Diego\, and uncover the Lives and Lifestyles on Block 112: The Untold Story of San Diego’s Working Class.
URL:https://sandiegoarchaeology.org/event/senior-wednesdays-2/2027-07-21/
LOCATION:San Diego Archaeological Center\, 16666 San Pasqual Valley Road\, Escondido\, CA\, 92027\, United States
CATEGORIES:SDAC Events
ORGANIZER;CN="San Diego Archaeological Center":MAILTO:aniesley@sandiegoarchaeology.org
END:VEVENT
BEGIN:VEVENT
DTSTART;TZID=America/Los_Angeles:20270722T100000
DTEND;TZID=America/Los_Angeles:20270722T110000
DTSTAMP:20260423T212144
CREATED:20250702T211549Z
LAST-MODIFIED:20260212T000726Z
UID:10000815-1816250400-1816254000@sandiegoarchaeology.org
SUMMARY:Story Time with an Archaeologist
DESCRIPTION:Join us on select Thursday mornings for archaeology-themed story time at the Center. Stay afterwards to explore the museum with family-friendly activities like our Archaeology Quest and Field Lab.
URL:https://sandiegoarchaeology.org/event/story-time-with-an-archaeologist-2/2027-07-22/
LOCATION:San Diego Archaeological Center\, 16666 San Pasqual Valley Road\, Escondido\, CA\, 92027\, United States
CATEGORIES:Kids Dig Archaeology,SDAC Events
ATTACH;FMTTYPE=image/png:https://sandiegoarchaeology.org/wp-content/uploads/2024/06/Storytime-10am.png
ORGANIZER;CN="San Diego Archaeological Center":MAILTO:aniesley@sandiegoarchaeology.org
END:VEVENT
BEGIN:VEVENT
DTSTART;TZID=America/Los_Angeles:20270728T100000
DTEND;TZID=America/Los_Angeles:20270728T160000
DTSTAMP:20260423T212144
CREATED:20250107T213824Z
LAST-MODIFIED:20251119T000831Z
UID:10000554-1816768800-1816790400@sandiegoarchaeology.org
SUMMARY:Senior Wednesdays
DESCRIPTION:Seniors 65+ can enjoy free admission to the Center on Wednesdays. Discover the science of archaeology through our interactive Archaeology 101 exhibit\, explore the cultural periods of San Diego\, and uncover the Lives and Lifestyles on Block 112: The Untold Story of San Diego’s Working Class.
URL:https://sandiegoarchaeology.org/event/senior-wednesdays-2/2027-07-28/
LOCATION:San Diego Archaeological Center\, 16666 San Pasqual Valley Road\, Escondido\, CA\, 92027\, United States
CATEGORIES:SDAC Events
ORGANIZER;CN="San Diego Archaeological Center":MAILTO:aniesley@sandiegoarchaeology.org
END:VEVENT
BEGIN:VEVENT
DTSTART;TZID=America/Los_Angeles:20270729T100000
DTEND;TZID=America/Los_Angeles:20270729T110000
DTSTAMP:20260423T212145
CREATED:20250702T211549Z
LAST-MODIFIED:20260212T000726Z
UID:10000816-1816855200-1816858800@sandiegoarchaeology.org
SUMMARY:Story Time with an Archaeologist
DESCRIPTION:Join us on select Thursday mornings for archaeology-themed story time at the Center. Stay afterwards to explore the museum with family-friendly activities like our Archaeology Quest and Field Lab.
URL:https://sandiegoarchaeology.org/event/story-time-with-an-archaeologist-2/2027-07-29/
LOCATION:San Diego Archaeological Center\, 16666 San Pasqual Valley Road\, Escondido\, CA\, 92027\, United States
CATEGORIES:Kids Dig Archaeology,SDAC Events
ATTACH;FMTTYPE=image/png:https://sandiegoarchaeology.org/wp-content/uploads/2024/06/Storytime-10am.png
ORGANIZER;CN="San Diego Archaeological Center":MAILTO:aniesley@sandiegoarchaeology.org
END:VEVENT
BEGIN:VEVENT
DTSTART;TZID=America/Los_Angeles:20270731T100000
DTEND;TZID=America/Los_Angeles:20270731T140000
DTSTAMP:20260423T212145
CREATED:20251210T231909Z
LAST-MODIFIED:20260203T230004Z
UID:10002657-1817028000-1817042400@sandiegoarchaeology.org
SUMMARY:North County Archery Club
DESCRIPTION:The San Diego Archaeological Center is hosting the North County Archery Club on the last Saturday of each month. All ages and skill levels are welcome\, with gear available first-come-first-served. Archers are invited to explore the museum and learn about the history of San Diego. \nCost: $15\, SDAC Members Free \n 
URL:https://sandiegoarchaeology.org/event/north-county-archery-club-3/2027-07-31/
LOCATION:San Diego Archaeological Center\, 16666 San Pasqual Valley Road\, Escondido\, CA\, 92027\, United States
CATEGORIES:SDAC Events
ORGANIZER;CN="San Diego Archaeological Center":MAILTO:aniesley@sandiegoarchaeology.org
END:VEVENT
END:VCALENDAR