BEGIN:VCALENDAR
VERSION:2.0
PRODID:-//SAN DIEGO ARCHAEOLOGICAL CENTER - ECPv6.15.20//NONSGML v1.0//EN
CALSCALE:GREGORIAN
METHOD:PUBLISH
X-ORIGINAL-URL:https://sandiegoarchaeology.org
X-WR-CALDESC:Events for SAN DIEGO ARCHAEOLOGICAL CENTER
REFRESH-INTERVAL;VALUE=DURATION:PT1H
X-Robots-Tag:noindex
X-PUBLISHED-TTL:PT1H
BEGIN:VTIMEZONE
TZID:America/Los_Angeles
BEGIN:DAYLIGHT
TZOFFSETFROM:-0800
TZOFFSETTO:-0700
TZNAME:PDT
DTSTART:20230312T100000
END:DAYLIGHT
BEGIN:STANDARD
TZOFFSETFROM:-0700
TZOFFSETTO:-0800
TZNAME:PST
DTSTART:20231105T090000
END:STANDARD
BEGIN:DAYLIGHT
TZOFFSETFROM:-0800
TZOFFSETTO:-0700
TZNAME:PDT
DTSTART:20240310T100000
END:DAYLIGHT
BEGIN:STANDARD
TZOFFSETFROM:-0700
TZOFFSETTO:-0800
TZNAME:PST
DTSTART:20241103T090000
END:STANDARD
BEGIN:DAYLIGHT
TZOFFSETFROM:-0800
TZOFFSETTO:-0700
TZNAME:PDT
DTSTART:20250309T100000
END:DAYLIGHT
BEGIN:STANDARD
TZOFFSETFROM:-0700
TZOFFSETTO:-0800
TZNAME:PST
DTSTART:20251102T090000
END:STANDARD
END:VTIMEZONE
BEGIN:VEVENT
DTSTART;TZID=America/Los_Angeles:20241214T100000
DTEND;TZID=America/Los_Angeles:20241214T130000
DTSTAMP:20260423T062518
CREATED:20240921T155130Z
LAST-MODIFIED:20241214T170904Z
UID:10000406-1734170400-1734181200@sandiegoarchaeology.org
SUMMARY:Ancient Echoes: Ice Age Pigments - Handprint Edition
DESCRIPTION:Have you already taken Pints & Pigments*? Ready to step up your Pleistocene rock art skills to the next level? Put on your dirty painting clothes and come to the SDAC for this all-ages outdoor art event where we’ll be spraying\, blowing\, and flinging our favorite ancient pigments like an Ice Age Jackson Pollock! \nAll art materials will be provided. Tickets include coffee\, tea\, and light refreshments. Note: Child tickets do not include the use of traditional pigments (modern acrylic paint will be used instead).\n*Prior participation in our Pints & Pigments workshop is not required. \nAbout Ancient Echoes\nIn our Ancient Echoes series\, we look back into the archaeological record at the origins of many of our favorite things and breaking the conceptions of their modernity. Have you ever wondered about the roots of mead\, chocolate\, or beer? What about the importance of art\, dance\, and music to Ice Age hunter-gatherers? Ancient Echoes explores these topics and more\, offering an interactive experience aimed at connecting us back with our deep past. \nCost: $35; SDAC Members $25; Kids (12 & under) $15 \nRegistration is closed. Limited tickets available at door.
URL:https://sandiegoarchaeology.org/event/ancient-echoes-handprint/
LOCATION:San Diego Archaeological Center\, 16666 San Pasqual Valley Road\, Escondido\, CA\, 92027\, United States
CATEGORIES:Kids Dig Archaeology,SDAC Events,Trekking Club
ATTACH;FMTTYPE=image/png:https://sandiegoarchaeology.org/wp-content/uploads/2024/09/Handprints-Banner.png
ORGANIZER;CN="San Diego Archaeological Center":MAILTO:aniesley@sandiegoarchaeology.org
END:VEVENT
BEGIN:VEVENT
DTSTART;TZID=America/Los_Angeles:20241207T103000
DTEND;TZID=America/Los_Angeles:20241207T130000
DTSTAMP:20260423T062518
CREATED:20241123T174828Z
LAST-MODIFIED:20241204T183812Z
UID:10000419-1733567400-1733576400@sandiegoarchaeology.org
SUMMARY:Sip & Sketch Holiday Art Class - CANCELED
DESCRIPTION:This event has been CANCELED – Sip\, sketch\, and color at our holiday art class with archaeological illustrator Donna Walker. Learn how to draw the native plant Toyon Berry\, also known as California Holly\, then color your drawing with Prismacolor\, an oil-based color pencil that blends and looks like a watercolor painting when you’ve finished. You’ll learn techniques that will give your objects depth and definition – gone will be the flat-looking images\, yours will look 3-D! Then turn your drawing into a personalized holiday card for friends and family! \nAll art supplies will be provided. Tickets include drinks (alcoholic and non-alcoholic options available) and light refreshments. This event is 21+. \nCost: $35; SDAC Members $30
URL:https://sandiegoarchaeology.org/event/holiday-art-class/
LOCATION:San Diego Archaeological Center\, 16666 San Pasqual Valley Road\, Escondido\, CA\, 92027\, United States
CATEGORIES:SDAC Events,Trekking Club
ORGANIZER;CN="San Diego Archaeological Center":MAILTO:aniesley@sandiegoarchaeology.org
END:VEVENT
BEGIN:VEVENT
DTSTART;TZID=America/Los_Angeles:20241109T150000
DTEND;TZID=America/Los_Angeles:20241109T183000
DTSTAMP:20260423T062518
CREATED:20240921T152007Z
LAST-MODIFIED:20241106T001205Z
UID:10000405-1731164400-1731177000@sandiegoarchaeology.org
SUMMARY:Ancient Echoes: 10\,000 Years of Beer
DESCRIPTION:Come join the San Diego Archaeological Center and celebrate San Diego Beer Week at BattleMage Brewing with a free presentation delving into the murky\, storied archaeological past of our favorite malted beverage. From ancient Sumerian hymns to Egyptian tombs\, to the secretive monasteries of old Bavaria\, we’ll uncover how archaeological findings\, such as brewing tools and ancient recipes\, reveal beer’s influence on culture\, economy\, and social life throughout history. Presentations start at 3:30 PM and 5:30 PM. \nAbout Ancient Echoes\nIn our adult friendly Ancient Echoes series\, we look back into the archaeological record at the origins of many of our favorite things and breaking the conceptions of their modernity. Have you ever wondered about the roots of mead\, chocolate\, or beer? What about the importance of art\, dance\, and music to Ice Age hunter-gatherers? Ancient Echoes explores these topics and more\, offering an interactive experience aimed at connecting us back with our deep past.
URL:https://sandiegoarchaeology.org/event/ancient-echoes-beer/
LOCATION:BattleMage Brewing Company\, 2870 Scott St #102\, Vista\, CA\, 92081\, United States
CATEGORIES:SDAC Events,Trekking Club
ATTACH;FMTTYPE=image/png:https://sandiegoarchaeology.org/wp-content/uploads/2024/09/10000-Years-of-Beer-Banner.png
ORGANIZER;CN="San Diego Archaeological Center":MAILTO:aniesley@sandiegoarchaeology.org
END:VEVENT
BEGIN:VEVENT
DTSTART;TZID=America/Los_Angeles:20241102T090000
DTEND;TZID=America/Los_Angeles:20241102T160000
DTSTAMP:20260423T062518
CREATED:20240928T165424Z
LAST-MODIFIED:20240928T165610Z
UID:10000408-1730538000-1730563200@sandiegoarchaeology.org
SUMMARY:Archaeology Day
DESCRIPTION:Join the Colorado Desert Archaeological Society for Archaeology Day at the Anza-Borrego Desert State Park Visitor Center.  Events include local indigenous artists\, exhibits\, paddle-anvil pottery making and rock painting activities for kids\, video “field trips” to La Rumarosa in Baja and Morteros Trail in Blair Valley\, guided tours of the Begole Archaeology Research Lab and Library\, and in-person field trips to Mine Wash Village and  Blair Valley cultural sites. \nView Archaeology Day Flyer \nThis event is hosted by the Colorado Desert Archaeological Society. For more information\, questions\, and registration\, please contact the event organizer.
URL:https://sandiegoarchaeology.org/event/archaeology-day/
LOCATION:Anza-Borrego Desert State Park Visitor Center\, 200 Palm Canyon Dr\, Borrego Springs\, CA\, 92004\, United States
CATEGORIES:Kids Dig Archaeology,Other Events of Interest,Trekking Club
END:VEVENT
BEGIN:VEVENT
DTSTART;TZID=America/Los_Angeles:20241026T140000
DTEND;TZID=America/Los_Angeles:20241026T230000
DTSTAMP:20260423T062518
CREATED:20241018T215553Z
LAST-MODIFIED:20241018T215738Z
UID:10000414-1729951200-1729983600@sandiegoarchaeology.org
SUMMARY:Julian Natural Wonderfest
DESCRIPTION:Join the Volcan Mountain Foundation for the Julian Natural Wonderfest\, a day of fun\, education\, wildlife\, science\, wonder\, preservation and dark sky appreciation for the whole family! Free event — community sponsored! This afternoon and evening gathering at Menghini Winery will include a late night astronomy star party\, wildlife ambassador encounters\, games and activities for families\, presentations of music and art\, and outreach booths from land preservation and other local nature-focused organizations\, food vendors and access to the winery tasting room adjacent to the event venue. Free parking convenient to the event grounds.
URL:https://sandiegoarchaeology.org/event/julian-natural-wonderfest/
LOCATION:Menghini Winery\, 1150 Julian Orchards Dr.\, Julian\, CA\, 92036\, United States
CATEGORIES:Kids Dig Archaeology,Other Events of Interest,Trekking Club
ATTACH;FMTTYPE=image/png:https://sandiegoarchaeology.org/wp-content/uploads/2024/10/2024-Wonderfest-Banner.png
ORGANIZER;CN="Volcan Mountain Foundation":MAILTO:info@volcanmt.org
END:VEVENT
BEGIN:VEVENT
DTSTART;TZID=America/Los_Angeles:20240921T120000
DTEND;TZID=America/Los_Angeles:20240921T160000
DTSTAMP:20260423T062518
CREATED:20240731T014333Z
LAST-MODIFIED:20240823T175451Z
UID:10000002-1726920000-1726934400@sandiegoarchaeology.org
SUMMARY:Save Our Heritage Organization: Warner-Carrillo Ranch House Tour
DESCRIPTION:Built in 1857 by Vincenta Carrillo\, a prominent early Californio woman rancher\, the adobe served as the Butterfield Stage Stop from 1858 until the beginning of the Civil War in 1861. As California’s first regular overland transcontinental stage connection with St. Louis\, this pioneering stage route ran along the Missouri Trail. The trail was the most southerly and only all-weather route to California. Built directly beside the emigrant trail\, it figured prominently in the settler’s diaries as their first glimpse of the promised land\, the first well-watered valley to be encountered after crossing the Great Southwestern Deserts. The historic setting has changed very little from the time of the great western migration and presents a rare opportunity to experience the past. \nThe adobe maintains a high degree of integrity including a great deal of its historic fabric including the original fireplace mantle\, much woodwork\, vigas (ceiling beams) and remains of its muslin ceiling cloths. \nTrained and knowledgeable docent educators lead the guided tour. \nLearn more about its history and restoration before your visit. \nOpen Year Round\nSaturday • Sunday • 12-4pm\nClosed Christmas eve and Christmas day\, New Year’s eve and New Year’s day\nHouse Tours are 45-60 minutes in length\nPlease note: The last tour of the day begins at 3:45pm \nPURCHASE TICKETS\nIn Person Warner-Carrillo Ranch House\n29181 San Felipe Road\, Warner Springs CA 92086 \nAdmission\n$5 Adults\n$4 Seniors (65 & older) & Children (ages 6-12)\nFree for children & under \nThis event is hosted by the Save Our Heritage Organization. For more information\, questions\, and registration\, please contact the event organizer.
URL:https://sandiegoarchaeology.org/event/save-our-heritage-organization-warner-carrillo-ranch-house-tour/
LOCATION:Warner Carillo Ranch House\, 29181 San Felipe Road\, Warner Springs\, CA 9208\, CA\, 92086\, United States
CATEGORIES:Other Events of Interest,Trekking Club
ORGANIZER;CN="San Diego Archaeological Center":MAILTO:aniesley@sandiegoarchaeology.org
END:VEVENT
BEGIN:VEVENT
DTSTART;TZID=America/Los_Angeles:20240921T100000
DTEND;TZID=America/Los_Angeles:20240921T130000
DTSTAMP:20260423T062518
CREATED:20240904T170653Z
LAST-MODIFIED:20240921T161658Z
UID:10000401-1726912800-1726923600@sandiegoarchaeology.org
SUMMARY:Ancient Echoes: Pints & Pigments
DESCRIPTION:In this installment of our Ancient Echoes\, you’ll make art the ancient way! Using natural pigments and a little human creativity\, you’ll produce a one-of-a-kind paleolithic art piece (no cave required). \nAll art materials will be provided. Tickets include two drinks per person (alcoholic and non-alcoholic options available). This event is 21+. \nAbout Ancient Echoes\nIn our adult friendly Ancient Echoes series\, we look back into the archaeological record at the origins of many of our favorite things and breaking the conceptions of their modernity. Have you ever wondered about the roots of mead\, chocolate\, or beer? What about the importance of art\, dance\, and music to Ice Age hunter-gatherers? Ancient Echoes explores these topics and more\, offering an interactive experience aimed at connecting us back with our deep past. \nCost: $40; SDAC Members $35 \nOnline Registration is closed. Please pay at door. \nPlease note: Tickets are non-refundable. If you are unable to attend\, your ticket(s) will be converted into a tax-deductible donation. \n 
URL:https://sandiegoarchaeology.org/event/pints-pigments/
LOCATION:San Diego Archaeological Center\, 16666 San Pasqual Valley Road\, Escondido\, CA\, 92027\, United States
CATEGORIES:SDAC Events,Trekking Club
ATTACH;FMTTYPE=image/png:https://sandiegoarchaeology.org/wp-content/uploads/2024/09/Ancient-Echos-Pints-and-Pigments-Fall-2024.png
ORGANIZER;CN="San Diego Archaeological Center":MAILTO:aniesley@sandiegoarchaeology.org
END:VEVENT
BEGIN:VEVENT
DTSTART;TZID=America/Los_Angeles:20240830T093000
DTEND;TZID=America/Los_Angeles:20240830T110000
DTSTAMP:20260423T062518
CREATED:20240731T021429Z
LAST-MODIFIED:20240823T191325Z
UID:10000004-1725010200-1725015600@sandiegoarchaeology.org
SUMMARY:San Dieguito River Valley Conservancy: Walk N Talk - Lake Hodges Piedras Pintadas Trailhead
DESCRIPTION:Join the San Dieguito River Valley Conservancy for a fun and exciting hike on the new Walk N Talk day\, the last Friday of each month. \nGet ready to explore the beautiful interpretive trails\, enjoy the fresh air\, and connect with nature. This event is perfect for hikers of all levels\, so grab your friends and family and come join us for a memorable day outdoors. Don’t miss out on this opportunity to challenge yourself and experience the beauty of the great outdoors! \nThis event is hosted by the San Dieguito River Valley Conservancy. For more information\, questions\, and registration\, please contact the event organizer.
URL:https://sandiegoarchaeology.org/event/san-dieguito-river-valley-conservancy-walk-n-talk-lake-hodges-piedras-pintadas-trailhead/
LOCATION:Bernardo Bay Staging Area\, W Bernardo Dr\, San Diego\, 92127\, United States
CATEGORIES:Other Events of Interest,Trekking Club
ORGANIZER;CN="San Diego River Conservancy":MAILTO:sdrvc@sdrvc.org
END:VEVENT
BEGIN:VEVENT
DTSTART;TZID=America/Los_Angeles:20240818T073000
DTEND;TZID=America/Los_Angeles:20240818T090000
DTSTAMP:20260423T062518
CREATED:20240731T022118Z
LAST-MODIFIED:20240731T022225Z
UID:10000005-1723966200-1723971600@sandiegoarchaeology.org
SUMMARY:Save Our Heritage Organization: Marston House Architecture Tour
DESCRIPTION:Tour starts at the Marston House Museum Shop in the carriage house. \nTake a walk on the architectural side with a 90-minute guided tour of the 1905 Marston House Museum inside and out. The San Diego firm of Hebbard & Gill designed the inviting English Arts & Crafts mansion with fluid indoor-outdoor connections. Irving Gill\, who soon became San Diego’s pioneering Modernist\, created many of its design features and innovative conveniences. This tour was curated for SOHO by Erik Hanson\, a leading authority on Gill and contributor to the book Irving Gill and the Architecture of Reform by Thomas S. Hines. The story begins at the carriage house for the estate (now SOHO’s Marston House Museum Shop)\, then circles around the house in its Balboa Park and formal garden setting. Inside and out\, architectural and construction details and period materials are highlighted\, and include the Marston family’s public and private rooms. Managed by SOHO for the City of San Diego\, this property is listed on the National Register of Historic Places. \nThe museum is wheelchair accessible on the first floor only; several exterior portions of the tour are not wheelchair accessible. \nThis event is hosted by the Save Our Heritage Organization. For more information\, questions\, and registration\, please contact the event organizer.
URL:https://sandiegoarchaeology.org/event/save-our-heritage-organization-marston-house-architecture-tour/
LOCATION:Marston House Museum\, 3525 7th Ave\, San Diego\, CA\, 92103\, United States
CATEGORIES:Other Events of Interest,Trekking Club
END:VEVENT
BEGIN:VEVENT
DTSTART;TZID=America/Los_Angeles:20240803T030000
DTEND;TZID=America/Los_Angeles:20240803T040000
DTSTAMP:20260423T062518
CREATED:20240822T004939Z
LAST-MODIFIED:20240823T192733Z
UID:10000042-1722654000-1722657600@sandiegoarchaeology.org
SUMMARY:Nature Collective: San Elijo Lagoon Discovery Tour
DESCRIPTION:Discover the beauty of San Elijo Lagoon with the Nature Collective: where fresh water and saltwater meet and mix\, migratory and resident birds share a sanctuary\, and many animals find a home. This guided tour will inspire all to watch and listen for various birds that rest in – and fly across – the salt marsh and mudflats. No matter the season\, you can enjoy\, photograph\, and identify a host of native plants. The Nature Center Loop Trail is accessible\, providing fun for all. Volunteer Emmy Garnica leads your nature experience. \nThis event is hosted by the Nature Collective. For more information\, questions\, and registration\, please contact the event organizer. \n 
URL:https://sandiegoarchaeology.org/event/nature-collective-san-elijo-lagoon-discovery-tour/
LOCATION:San Elijo Lagoon\, 2710 Manchester Ave\, Cardiff-by-the-Sea\, CA\, 92007\, United States
CATEGORIES:Other Events of Interest,Trekking Club
END:VEVENT
BEGIN:VEVENT
DTSTART;TZID=America/Los_Angeles:20240726T020000
DTEND;TZID=America/Los_Angeles:20240726T043000
DTSTAMP:20260423T062518
CREATED:20240822T004930Z
LAST-MODIFIED:20240823T193005Z
UID:10000040-1721959200-1721968200@sandiegoarchaeology.org
SUMMARY:San Dieguito River Valley Conservancy: Walk N' Talk at Bernardo Mountain Lake View Trail
DESCRIPTION:Join the San Dieguito River Valley Conservancy for the first hike of the 8th year of the Walk N Talk Coast to Crest Trail Challenge! Lace up your hiking boots and get ready to explore stunning trails with fellow nature enthusiasts\, while staying active\, soaking up some sunshine\, and making new friends along the trails. Don’t miss out on this opportunity to embark on a memorable outdoor adventure! Feel free to enjoy the hike with us\, as a group\, or complete the challenge hikes in any order on your own schedule! Remember to send your 5 selfies at the completion of your challenge to sdrvc@sdrvc.org to receive your exclusive patch designed by Canyon Crest Academy students\, as well as a certificate of completion! \nThis event is hosted by the San Dieguito River Valley Conservancy. For more information\, questions\, and registration\, please contact the event organizer.
URL:https://sandiegoarchaeology.org/event/san-dieguito-river-valley-conservancy-walk-n-talk-at-bernardo-mountain-lake-view-trail/
LOCATION:CA
CATEGORIES:Other Events of Interest,Trekking Club
ORGANIZER;CN="San Dieguito River Valley Conservancy":MAILTO:sdrvc@sdrvc.org
END:VEVENT
BEGIN:VEVENT
DTSTART;TZID=America/Los_Angeles:20240721T063000
DTEND;TZID=America/Los_Angeles:20240721T073000
DTSTAMP:20260423T062518
CREATED:20240822T004853Z
LAST-MODIFIED:20240823T193410Z
UID:10000031-1721543400-1721547000@sandiegoarchaeology.org
SUMMARY:Save Our Heritage Organization: Marston House Garden Tour
DESCRIPTION:Tour starts at the Marston House Museum Shop in the carriage house. \nWith its uniquely California interpretation of the English Romantic and Arts & Crafts period landscape designs\, this tour is a must for garden lovers. The garden tour takes you on an easy walk through two and a half acres of the estate beginning with the first plantings and landscape plan by nationally recognized landscape architect Samuel Parsons\, Jr.\, and George Cooke in 1905 to the 1928 introduction of a formal garden. \nSeveral portions of the garden tour are not wheelchair accessible. \nThis event is hosted by the Save Our Heritage Organization. For more information\, questions\, and registration\, please contact the event organizer.
URL:https://sandiegoarchaeology.org/event/save-our-heritage-organization-marston-house-garden-tour/
LOCATION:CA
CATEGORIES:Other Events of Interest,Trekking Club
END:VEVENT
BEGIN:VEVENT
DTSTART;TZID=America/Los_Angeles:20240720T090000
DTEND;TZID=America/Los_Angeles:20240720T120000
DTSTAMP:20260423T062518
CREATED:20240822T004910Z
LAST-MODIFIED:20240824T174425Z
UID:10000034-1721466000-1721476800@sandiegoarchaeology.org
SUMMARY:Historic Archery at the Center
DESCRIPTION:We’re stringing our bows for a spot of archery right here at the San Diego Archaeological Center! \nShoot some rounds\, make some new friends\,  and learn about how different cultures around the world crafted\, hunted\, and fought with bows and arrows. We’ll be showcasing handmade traditional bows\, arrows\, quivers\, and cordage\, and demonstrating how to craft them out of natural materials. \nNo previous experience required. Please bring your own gear if possible. A limited amount of gear will be available to borrow – first come\, first served. \nFamily-friendly range time: 9 AM to 10 AM\nAdults only: 10 AM to 12 PM \nCost: $10 (includes museum admission); SDAC Members Free
URL:https://sandiegoarchaeology.org/event/historic-archery-at-the-center/
LOCATION:San Diego Archaeological Center\, 16666 San Pasqual Valley Road\, Escondido\, CA\, 92027\, United States
CATEGORIES:SDAC Events,Trekking Club
ATTACH;FMTTYPE=image/png:https://sandiegoarchaeology.org/wp-content/uploads/2024/08/Archery-July_Calendar-Banner.png
ORGANIZER;CN="San Diego Archaeological Center":MAILTO:aniesley@sandiegoarchaeology.org
END:VEVENT
BEGIN:VEVENT
DTSTART;TZID=America/Los_Angeles:20240718T110000
DTEND;TZID=America/Los_Angeles:20240718T120000
DTSTAMP:20260423T062518
CREATED:20240822T004941Z
LAST-MODIFIED:20240823T193728Z
UID:10000043-1721300400-1721304000@sandiegoarchaeology.org
SUMMARY:Escondido Creek Conservancy: Conservation Conversation - San Diego Geology
DESCRIPTION:The rocks\, mountains\, faults\, and fossils found in San Diego County make it one of California’s most interesting and diverse geological hot spots. San Diego County’s geology nearly matches the region’s biodiversity! Join Richard Halsey\, director of the California Chaparral Institute\, as he shares why our region’s geology shouldn’t be taken for granite! \nThis event is hosted by the Escondido Creek Conservancy. For more information\, questions\, and registration\, please contact the event organizer.
URL:https://sandiegoarchaeology.org/event/escondido-creek-conservancy-conservation-conversation-san-diego-geology/
LOCATION:CA
CATEGORIES:Other Events of Interest,Trekking Club
END:VEVENT
END:VCALENDAR