BEGIN:VCALENDAR
VERSION:2.0
PRODID:-//SAN DIEGO ARCHAEOLOGICAL CENTER - ECPv6.15.20//NONSGML v1.0//EN
CALSCALE:GREGORIAN
METHOD:PUBLISH
X-ORIGINAL-URL:https://sandiegoarchaeology.org
X-WR-CALDESC:Events for SAN DIEGO ARCHAEOLOGICAL CENTER
REFRESH-INTERVAL;VALUE=DURATION:PT1H
X-Robots-Tag:noindex
X-PUBLISHED-TTL:PT1H
BEGIN:VTIMEZONE
TZID:America/Los_Angeles
BEGIN:DAYLIGHT
TZOFFSETFROM:-0800
TZOFFSETTO:-0700
TZNAME:PDT
DTSTART:20180311T100000
END:DAYLIGHT
BEGIN:STANDARD
TZOFFSETFROM:-0700
TZOFFSETTO:-0800
TZNAME:PST
DTSTART:20181104T090000
END:STANDARD
BEGIN:DAYLIGHT
TZOFFSETFROM:-0800
TZOFFSETTO:-0700
TZNAME:PDT
DTSTART:20190310T100000
END:DAYLIGHT
BEGIN:STANDARD
TZOFFSETFROM:-0700
TZOFFSETTO:-0800
TZNAME:PST
DTSTART:20191103T090000
END:STANDARD
BEGIN:DAYLIGHT
TZOFFSETFROM:-0800
TZOFFSETTO:-0700
TZNAME:PDT
DTSTART:20200308T100000
END:DAYLIGHT
BEGIN:STANDARD
TZOFFSETFROM:-0700
TZOFFSETTO:-0800
TZNAME:PST
DTSTART:20201101T090000
END:STANDARD
BEGIN:DAYLIGHT
TZOFFSETFROM:-0800
TZOFFSETTO:-0700
TZNAME:PDT
DTSTART:20210314T100000
END:DAYLIGHT
BEGIN:STANDARD
TZOFFSETFROM:-0700
TZOFFSETTO:-0800
TZNAME:PST
DTSTART:20211107T090000
END:STANDARD
END:VTIMEZONE
BEGIN:VEVENT
DTSTART;TZID=America/Los_Angeles:20200507T113000
DTEND;TZID=America/Los_Angeles:20200507T130000
DTSTAMP:20260425T112000
CREATED:20240822T004751Z
LAST-MODIFIED:20240822T004751Z
UID:10000012-1588851000-1588856400@sandiegoarchaeology.org
SUMMARY:Animal Bones and Teeth
DESCRIPTION:Zooarchaeologists seek to answer questions about the human past using animal remains from the archaeological record. These researchers explore what people ate\, what environments were like\, the movements of animals across landscapes\, relationships between people and animals\, and more. In this talk Gillian Wong will dive into what it means to be a zooarchaeologist and how animal remains can be used to address several key questions in our understanding of the human past. She will draw specifically from her PhD work that uses the remains of micro-mammals\, like rodents and insectivores\, from Langmahdhalde\, an archaeological site in southwestern Germany\, to reconstruct climates and environments during the stone age. What kind of vegetation existed during this time and how cold was it? But more importantly\, what implications does all this have for human settlement of the region? \nAbout the Presenter \nGillian Wong is a PhD student in archaeology at the University of Tuebingen in Germany. Her specialty is zooarchaeology\, or animal (faunal) remains in the archaeological record. She is primarily interested in using animal remains to explore how large-scale changes in climate affected prehistoric hunter-gatherers at the local level. Currently\, she is the zooarchaeologist for a project in southwestern Germany that is excavating one of the first Magdalenian (~15\,000 years before present) sites to be discovered in the region since the 1970s. She has a Bachelor’s degree in Anthropology from the University of California\, Davis and a Master’s degree in Anthropology from the University of Utah. When she’s not doing archaeology\, Gillian enjoys hiking with her dog and husband\, swimming\, and reading. \nDate: Thursday\, May 7\, 2020\nTime: 6:30 – 8 PM\nLocation: San Diego Archaeological Center\nCost: Included with paid museum admission ($2); Members Free
URL:https://sandiegoarchaeology.org/event/animal-bones-and-teeth/
LOCATION:CA
END:VEVENT
BEGIN:VEVENT
DTSTART;TZID=America/Los_Angeles:20200208T030000
DTEND;TZID=America/Los_Angeles:20200208T050000
DTSTAMP:20260425T112000
CREATED:20240822T004750Z
LAST-MODIFIED:20240822T004750Z
UID:10000011-1581130800-1581138000@sandiegoarchaeology.org
SUMMARY:Shrouded Heritage
DESCRIPTION:Ten years ago\, Thomas Holm read Scott O’Dell’s novel Island of the Blue Dolphins with his fourth-grade daughter. That experience led to him to research California’s indigenous mariners\, including the “Nicoleño” of San Nicolas Island\, which is the real setting of O’Dell’s book. That ten year journey\, from elementary school field trip\, to claims of improprieties\, to the enactment of new preservation laws\, will be addressed by Holm as he presents his new book entitled\, Shrouded Heritage: Island of the Blue Dolphins. \nHolm sets out to learn the truth about California’s ancient island-dwelling People\, especially the real-life woman fictionalized as Karana in Scott O’Dell’s beloved novel Island of the Blue Dolphins. That endearing soul became the last of her kind after witnessing the bloody massacre of her tribe. She then suffered 18 years of isolation on her cold and merciless island. This investigation of her life and the legacy of her People inadvertently triggers a battle among academics and Indigenous Peoples with world-wide implications. Woven together within this saga are data from church records\, court papers\, ship logs\, and dozens of other historic and “scientific” documents. Likewise\, and with equal reverence\, included are oral accounts\, traditional songs\, and religious beliefs of tribal elders. This uniquely inclusive approach provides the source of new information about the real “Island of the Blue Dolphins” and its remarkable heritage. Also included in Holm’s presentation will be exclusive photos of unique artifacts\, archeological excavations and extraordinary scenery from San Nicolas Island. \nAbout the Author \nThomas Holm is an author\, archaeological researcher\, environmental activist\, and long-distance paddler.  His research has focused on the ancient maritime cultures of the Southern California Bight\, including those of the Channel Islands.  He teaches Marine Archaeology and Preservation at California State University\, San Marcos and has made numerous solo passages on a stand up paddleboard from the mainland to the Channel Islands to research early oceanic trade routes. \nSigned copies of Holm’s book will be available for purchase and proceeds will help establish the M/V Conception Memorial Garden on Santa Cruz Island to honor 34 people recently killed during a boat fire. \nDate: Saturday\, February 8\, 2020\nTime: 11 AM\nLocation: San Diego Archaeological Center\nCost: $2 (museum admission included; pay at door); Members Free
URL:https://sandiegoarchaeology.org/event/shrouded-heritage/
LOCATION:CA
END:VEVENT
BEGIN:VEVENT
DTSTART;TZID=America/Los_Angeles:20191109T040000
DTEND;TZID=America/Los_Angeles:20191109T070000
DTSTAMP:20260425T112000
CREATED:20240822T004748Z
LAST-MODIFIED:20240822T004748Z
UID:10000010-1573272000-1573282800@sandiegoarchaeology.org
SUMMARY:A Life in San Diego Archaeology
DESCRIPTION:Join the Center for a reception and presentation by local archaeologist\, professor\, and author Dr. G.Timothy Gross. Gross volunteered on his first archaeological projects as a high school student in 1968\, and although he has worked outside San Diego\, he has been involved in local archaeology ever since. In this talk he will reflect on the changes that have happened in the last 50 years in how archaeology has been done and by whom. He will look at what we have learned and what ideas we have discarded\, and he will address the ever-changing political climate of local archaeology. A tour of the Center will be offered following the presentation. \nDate: Saturday\, November 9\, 2019\nTime: 12 PM to 3 PM (Presentation at 1 PM)\nLocation: San Diego Archaeological Center\nCost: Free
URL:https://sandiegoarchaeology.org/event/a-life-in-san-diego-archaeology/
LOCATION:CA
END:VEVENT
BEGIN:VEVENT
DTSTART;TZID=America/Los_Angeles:20190608T040000
DTEND;TZID=America/Los_Angeles:20190608T060000
DTSTAMP:20260425T112000
CREATED:20240822T004747Z
LAST-MODIFIED:20240822T004747Z
UID:10000009-1559966400-1559973600@sandiegoarchaeology.org
SUMMARY:2nd Sat: The Impossible Railroad
DESCRIPTION:In the early 1900s\, San Diego was a growing and thriving city\, but with no rail transportation eastward. Spearheaded by John D. Spreckels\, with his persistence and money\, a railroad was constructed that engineers warned would be impossible to build. Starting in San Diego\, the “Impossible Railroad” snaked through brutal mountain and desert terrain to connect with the transcontinental Southern Pacific in El Centro. It took 12 challenging years to build\, but the 1919 completion was widely celebrated. This November is the 100th anniversary of the completion of the San Diego and Arizona Railway which still operates along parts of its 148-mile route. Author Reena Deutsch will give an account of the line’s dramatic history through vintage photos and gripping narration. \nAbout the Author \nAfter stumbling upon old railroad tracks in our local desert\, Dr. Reena Deutsch researched the colorful history of John Spreckels’ San Diego and Arizona (Eastern) Railway and has given dozens of lectures and wrote a book on it. Prior to retirement\, Dr. Deutsch was a UCSD medical researcher. She currently serves as Board member for the Anza-Borrego Desert Natural History Association and Balboa Park’s San Diego Model Railroad Museum. This year\, she is collaborating with the Pacific Southwest Railway Museum Association to celebrate the 100th anniversary of the completion of the San Diego and Arizona Railway. \nDate: Saturday\, June 8\, 2019\nTime: 11 AM\nLocation: San Diego Archaeological Center\nCost: Free
URL:https://sandiegoarchaeology.org/event/2nd-sat-the-impossible-railroad/
LOCATION:CA
END:VEVENT
BEGIN:VEVENT
DTSTART;TZID=America/Los_Angeles:20190511T040000
DTEND;TZID=America/Los_Angeles:20190511T060000
DTSTAMP:20260425T112000
CREATED:20240822T004745Z
LAST-MODIFIED:20240822T004745Z
UID:10000008-1557547200-1557554400@sandiegoarchaeology.org
SUMMARY:2nd Sat: Murder and Mayhem
DESCRIPTION:Early twentieth-century San Diego was growing fast\, and the officers sworn to protect the city encountered more than their fair share of wily lawbreakers. From a shootout with a lone gunman in Mission Hills to gunfights with a gang of bank robbers that involved enthusiastic bystanders hoping to assist\, detectives and patrolmen alike tried to maintain the peace. They encountered unexpected bodies\, confronted car thieves and pursued criminals through neighboring states and into Mexico. Join author Steve Willard as he unearths stories directly from the case files of the early San Diego Police Department. \nAbout the Author \nA San Diego resident since 1977\, author Steve Willard joined the SDPD in 1985 and has worked patrol\, crime prevention/public affairs\, the detective bureau\, the Traffic Division and management. He became a charter member of the San Diego Police Museum in 1997 and is the historian of the San Diego Police Officers Association. A reoccurring columnist in two law enforcement periodicals\, Steve has authored three books on SDPD history and has consulted on a number of other historical projects. \nDate: Saturday\, May 11\, 2019\nTime: 11 AM\nLocation: San Diego Archaeological Center\nCost: Free
URL:https://sandiegoarchaeology.org/event/2nd-sat-murder-and-mayhem/
LOCATION:CA
END:VEVENT
BEGIN:VEVENT
DTSTART;TZID=America/Los_Angeles:20190323T060000
DTEND;TZID=America/Los_Angeles:20190323T080000
DTSTAMP:20260425T112000
CREATED:20240822T004744Z
LAST-MODIFIED:20240822T004744Z
UID:10000007-1553320800-1553328000@sandiegoarchaeology.org
SUMMARY:Archaeology of the Coronados Islands
DESCRIPTION:Location: San Diego Archaeological Center\nCost: Free\nDespite their attractiveness to early human migrants and maritime foragers\, small islands often are overlooked in archaeological and historical ecological investigations. Along Alta and Baja California\, the Channel Islands and Isla Cedros have been the focus of extensive and intensive archaeological investigations. Even with the wealth of data from islands to the north and south\, the Coronados Islands\, a small set of four islands off the northwestern Baja California coast\, have been the subject of very little scientific archaeological research. Joseph McCain will present his findings after an initial field season was completed in 2016. This research produced the first radiometric dates from the Coronados Islands\, built an initial settlement chronology and occupational history\, identified several prehistoric sites with high research potential\, and laid the foundation for future archaeological and historical ecological studies of the island group.
URL:https://sandiegoarchaeology.org/event/archaeology-of-the-coronados-islands/
LOCATION:CA
END:VEVENT
BEGIN:VEVENT
DTSTART;TZID=America/Los_Angeles:20190202T050000
DTEND;TZID=America/Los_Angeles:20190202T070000
DTSTAMP:20260425T112000
CREATED:20240822T004739Z
LAST-MODIFIED:20240822T004739Z
UID:10000006-1549083600-1549090800@sandiegoarchaeology.org
SUMMARY:Members Only: By Land and By Sea
DESCRIPTION:Location: San Diego Archaeological Center\nCost: Free\nCenter members are invited to a preview of the new exhibit\, By Land and By Sea\, which explores theories about who\, when\, and how early peoples came into the New World and into Southern California. Enjoy food and drink in the museum hall\, hear a Curator Talk on the featured exhibit\, and explore the museum with our new Cuseum web tour app.
URL:https://sandiegoarchaeology.org/event/members-only-by-land-and-by-sea/
LOCATION:CA
END:VEVENT
END:VCALENDAR