BEGIN:VCALENDAR
VERSION:2.0
PRODID:-//SAN DIEGO ARCHAEOLOGICAL CENTER - ECPv6.15.20//NONSGML v1.0//EN
CALSCALE:GREGORIAN
METHOD:PUBLISH
X-WR-CALNAME:SAN DIEGO ARCHAEOLOGICAL CENTER
X-ORIGINAL-URL:https://sandiegoarchaeology.org
X-WR-CALDESC:Events for SAN DIEGO ARCHAEOLOGICAL CENTER
REFRESH-INTERVAL;VALUE=DURATION:PT1H
X-Robots-Tag:noindex
X-PUBLISHED-TTL:PT1H
BEGIN:VTIMEZONE
TZID:America/Los_Angeles
BEGIN:DAYLIGHT
TZOFFSETFROM:-0800
TZOFFSETTO:-0700
TZNAME:PDT
DTSTART:20230312T100000
END:DAYLIGHT
BEGIN:STANDARD
TZOFFSETFROM:-0700
TZOFFSETTO:-0800
TZNAME:PST
DTSTART:20231105T090000
END:STANDARD
BEGIN:DAYLIGHT
TZOFFSETFROM:-0800
TZOFFSETTO:-0700
TZNAME:PDT
DTSTART:20240310T100000
END:DAYLIGHT
BEGIN:STANDARD
TZOFFSETFROM:-0700
TZOFFSETTO:-0800
TZNAME:PST
DTSTART:20241103T090000
END:STANDARD
BEGIN:DAYLIGHT
TZOFFSETFROM:-0800
TZOFFSETTO:-0700
TZNAME:PDT
DTSTART:20250309T100000
END:DAYLIGHT
BEGIN:STANDARD
TZOFFSETFROM:-0700
TZOFFSETTO:-0800
TZNAME:PST
DTSTART:20251102T090000
END:STANDARD
END:VTIMEZONE
BEGIN:VEVENT
DTSTART;TZID=America/Los_Angeles:20240127T030000
DTEND;TZID=America/Los_Angeles:20240127T050000
DTSTAMP:20260424T162730
CREATED:20240822T004808Z
LAST-MODIFIED:20240822T004808Z
UID:10000016-1706324400-1706331600@sandiegoarchaeology.org
SUMMARY:Members Only: Deep Sky IMAX Screening
DESCRIPTION:SDAC Members are invited to visit Balboa Park’s Fleet Science Center for a free screening of their Deep Sky IMAX documentary on the James Webb Telescope and its discoveries. Join us afterwards for a luncheon to meet other members\, discuss the telescope incredible images\, and wonder at recent advances in the sciences. \nDate: Saturday\, January 27\, 2024\nTime: 11 AM to 1 PM (Film Screening: 11 AM; Lunch: 12 PM)\nLocation: Fleet Science Center\nCost: Free \n\nAbout the Fleet Science Center \nThe Fleet Science Center is on a mission to realize a San Diego where everyone is connected by the power of science to create a better future. They are a community-focused countywide organization that collaborates with educators\, scientific organizations\, community leaders and champions of a-ha moments.
URL:https://sandiegoarchaeology.org/event/members-only-deep-sky-imax-screening/
LOCATION:CA
END:VEVENT
END:VCALENDAR