BEGIN:VCALENDAR
VERSION:2.0
PRODID:-//SAN DIEGO ARCHAEOLOGICAL CENTER - ECPv6.15.20//NONSGML v1.0//EN
CALSCALE:GREGORIAN
METHOD:PUBLISH
X-ORIGINAL-URL:https://sandiegoarchaeology.org
X-WR-CALDESC:Events for SAN DIEGO ARCHAEOLOGICAL CENTER
REFRESH-INTERVAL;VALUE=DURATION:PT1H
X-Robots-Tag:noindex
X-PUBLISHED-TTL:PT1H
BEGIN:VTIMEZONE
TZID:America/Los_Angeles
BEGIN:DAYLIGHT
TZOFFSETFROM:-0800
TZOFFSETTO:-0700
TZNAME:PDT
DTSTART:20240310T100000
END:DAYLIGHT
BEGIN:STANDARD
TZOFFSETFROM:-0700
TZOFFSETTO:-0800
TZNAME:PST
DTSTART:20241103T090000
END:STANDARD
BEGIN:DAYLIGHT
TZOFFSETFROM:-0800
TZOFFSETTO:-0700
TZNAME:PDT
DTSTART:20250309T100000
END:DAYLIGHT
BEGIN:STANDARD
TZOFFSETFROM:-0700
TZOFFSETTO:-0800
TZNAME:PST
DTSTART:20251102T090000
END:STANDARD
BEGIN:DAYLIGHT
TZOFFSETFROM:-0800
TZOFFSETTO:-0700
TZNAME:PDT
DTSTART:20260308T100000
END:DAYLIGHT
BEGIN:STANDARD
TZOFFSETFROM:-0700
TZOFFSETTO:-0800
TZNAME:PST
DTSTART:20261101T090000
END:STANDARD
END:VTIMEZONE
BEGIN:VEVENT
DTSTART;TZID=America/Los_Angeles:20250702T100000
DTEND;TZID=America/Los_Angeles:20250702T160000
DTSTAMP:20260423T143610
CREATED:20250107T213824Z
LAST-MODIFIED:20251119T000831Z
UID:10002228-1751450400-1751472000@sandiegoarchaeology.org
SUMMARY:Senior Wednesdays
DESCRIPTION:Seniors 65+ can enjoy free admission to the Center on Wednesdays. Discover the science of archaeology through our interactive Archaeology 101 exhibit\, explore the cultural periods of San Diego\, and uncover the Lives and Lifestyles on Block 112: The Untold Story of San Diego’s Working Class.
URL:https://sandiegoarchaeology.org/event/senior-wednesdays-2/2025-07-02/
LOCATION:San Diego Archaeological Center\, 16666 San Pasqual Valley Road\, Escondido\, CA\, 92027\, United States
CATEGORIES:SDAC Events
ORGANIZER;CN="San Diego Archaeological Center":MAILTO:aniesley@sandiegoarchaeology.org
END:VEVENT
BEGIN:VEVENT
DTSTART;TZID=America/Los_Angeles:20250703T100000
DTEND;TZID=America/Los_Angeles:20250703T110000
DTSTAMP:20260423T143610
CREATED:20250702T211549Z
LAST-MODIFIED:20260212T000726Z
UID:10000708-1751536800-1751540400@sandiegoarchaeology.org
SUMMARY:Story Time with an Archaeologist
DESCRIPTION:Join us on select Thursday mornings for archaeology-themed story time at the Center. Stay afterwards to explore the museum with family-friendly activities like our Archaeology Quest and Field Lab.
URL:https://sandiegoarchaeology.org/event/story-time-with-an-archaeologist-2/2025-07-03/
LOCATION:San Diego Archaeological Center\, 16666 San Pasqual Valley Road\, Escondido\, CA\, 92027\, United States
CATEGORIES:Kids Dig Archaeology,SDAC Events
ATTACH;FMTTYPE=image/png:https://sandiegoarchaeology.org/wp-content/uploads/2024/06/Storytime-10am.png
ORGANIZER;CN="San Diego Archaeological Center":MAILTO:aniesley@sandiegoarchaeology.org
END:VEVENT
BEGIN:VEVENT
DTSTART;VALUE=DATE:20250704
DTEND;VALUE=DATE:20250705
DTSTAMP:20260423T143610
CREATED:20250702T171221Z
LAST-MODIFIED:20250702T171303Z
UID:10002183-1751587200-1751673599@sandiegoarchaeology.org
SUMMARY:MUSEUM CLOSED for Independence Day
DESCRIPTION:
URL:https://sandiegoarchaeology.org/event/closed-for-independence-day/
LOCATION:San Diego Archaeological Center\, 16666 San Pasqual Valley Road\, Escondido\, CA\, 92027\, United States
CATEGORIES:SDAC Events
ORGANIZER;CN="San Diego Archaeological Center":MAILTO:aniesley@sandiegoarchaeology.org
END:VEVENT
BEGIN:VEVENT
DTSTART;TZID=America/Los_Angeles:20250705T090000
DTEND;TZID=America/Los_Angeles:20250705T130000
DTSTAMP:20260423T143610
CREATED:20250430T182124Z
LAST-MODIFIED:20250502T165929Z
UID:10002023-1751706000-1751720400@sandiegoarchaeology.org
SUMMARY:Historic Archery Day
DESCRIPTION:We’re stringing our bows for a spot of archery featuring fresh hay bale targets right here at the San Diego Archaeological Center! Shoot some rounds and learn about how different cultures around the world crafted\, hunted\, and fought with bows and arrows. \nThis event is family friendly. Kids will enjoy a supervised range at the front of the museum all to themselves\, with an adults-only range for more powerful bows in the back. \nNo previous experience required. Please bring your own gear if possible. A limited amount of gear will be available to borrow – first come\, first served. \nCost: $15; SDAC Members Free
URL:https://sandiegoarchaeology.org/event/historic-archery-day/
LOCATION:San Diego Archaeological Center\, 16666 San Pasqual Valley Road\, Escondido\, CA\, 92027\, United States
CATEGORIES:SDAC Events
ATTACH;FMTTYPE=image/png:https://sandiegoarchaeology.org/wp-content/uploads/2025/04/Archery-Banner.png
ORGANIZER;CN="San Diego Archaeological Center":MAILTO:aniesley@sandiegoarchaeology.org
END:VEVENT
BEGIN:VEVENT
DTSTART;VALUE=DATE:20250709
DTEND;VALUE=DATE:20250713
DTSTAMP:20260423T143610
CREATED:20251007T222028Z
LAST-MODIFIED:20251007T222709Z
UID:10002570-1752019200-1752364799@sandiegoarchaeology.org
SUMMARY:Museum Temporarily Closed for Construction
DESCRIPTION:Join us for pop-up programming throughout San Diego County this summer.
URL:https://sandiegoarchaeology.org/event/museum-temporarily-closed-for-construction-2-2/2025-07-09/
LOCATION:San Diego Archaeological Center\, 16666 San Pasqual Valley Road\, Escondido\, CA\, 92027\, United States
CATEGORIES:SDAC Events
ORGANIZER;CN="San Diego Archaeological Center":MAILTO:aniesley@sandiegoarchaeology.org
END:VEVENT
BEGIN:VEVENT
DTSTART;TZID=America/Los_Angeles:20250710T120000
DTEND;TZID=America/Los_Angeles:20250710T130000
DTSTAMP:20260423T143610
CREATED:20250709T170547Z
LAST-MODIFIED:20250709T171709Z
UID:10002479-1752148800-1752152400@sandiegoarchaeology.org
SUMMARY:Clay Pinch Pots & Free Summer Lunch at College-Rolando Library
DESCRIPTION:Join us at the College-Rolando Library to Create air-dry clay pinch pots while learning about ceramic as the first synthetic material and why it is appreciated by both artists and archaeologists. \nFree Summer Lunch at San Diego Public Library is offered Monday-Friday from 12-1 PM.  Lunch can only be served to youth ages 0-18. In addition to providing summer lunch for youth\, San Diego Public Library aims to bridge the summer learning gap by hosting enrichment programs\, provide access to community resources and inform families of opportunities. For more information\, please contact the College-Rolando Library.
URL:https://sandiegoarchaeology.org/event/clay-pinch-pots-free-summer-lunch-at-college-rolando-library/
LOCATION:College-Rolando Library\, 6600 Montezuma Road\, San Diego\, 92115\, United States
CATEGORIES:Other Events of Interest
END:VEVENT
BEGIN:VEVENT
DTSTART;VALUE=DATE:20250716
DTEND;VALUE=DATE:20250720
DTSTAMP:20260423T143610
CREATED:20251007T222028Z
LAST-MODIFIED:20251007T222709Z
UID:10002597-1752624000-1752969599@sandiegoarchaeology.org
SUMMARY:Museum Temporarily Closed for Construction
DESCRIPTION:Join us for pop-up programming throughout San Diego County this summer.
URL:https://sandiegoarchaeology.org/event/museum-temporarily-closed-for-construction-2-2/2025-07-16/
LOCATION:San Diego Archaeological Center\, 16666 San Pasqual Valley Road\, Escondido\, CA\, 92027\, United States
CATEGORIES:SDAC Events
ORGANIZER;CN="San Diego Archaeological Center":MAILTO:aniesley@sandiegoarchaeology.org
END:VEVENT
BEGIN:VEVENT
DTSTART;TZID=America/Los_Angeles:20250716T160000
DTEND;TZID=America/Los_Angeles:20250716T170000
DTSTAMP:20260423T143610
CREATED:20250709T173444Z
LAST-MODIFIED:20250709T173444Z
UID:10002480-1752681600-1752685200@sandiegoarchaeology.org
SUMMARY:Kid's Crafts: Pinch Pots at Mountain View/Beckwourth Library
DESCRIPTION:Join us as we make clay pinch pots at the Mountain View/Beckwourth Library. Everything will be provided free of charge. For more information\, contact the Mountain View/Beckwourth Library.
URL:https://sandiegoarchaeology.org/event/kids-crafts-pinch-pots-at-mountain-view-beckwourth-library/
LOCATION:Mountain View/Beckwourth Library\, 721 San Pasqual St\, San Diego\, CA\, 92113\, United States
CATEGORIES:Other Events of Interest
ORGANIZER;CN="Mountain View/Beckwourth Library":MAILTO:bwstaff@sandiego.gov
END:VEVENT
BEGIN:VEVENT
DTSTART;TZID=America/Los_Angeles:20250719T170000
DTEND;TZID=America/Los_Angeles:20250719T193000
DTSTAMP:20260423T143610
CREATED:20250703T183326Z
LAST-MODIFIED:20250703T183326Z
UID:10002235-1752944400-1752953400@sandiegoarchaeology.org
SUMMARY:Science & Engineering Night at the Children's Museum of Discovery
DESCRIPTION:Join us for family-friendly archaeological activities at the Children’s Museum of Discovery’s Science & Engineering Night in Escondido. Step into a world of hands-on exploration and discovery during a special evening packed with interactive activity booths\, live science demos\, and fun for the whole family! \nThrough hands-on activity booths and an endless amount of fun\, children will learn about: \n\n\nScience of fires with the Escondido Fire Department\nRobotics and coding with Magikid Robotics Lab\n​Physics of soccer with Soccer Shots​​\nArchaeology with San Diego Archaeological Center\nBiomedicine with ACROBiosystems\nArtifact discovery with San Diego History Center\n​Dry ice sublimation\n​Electrical engineering circuit art​\nCoding\n+ more!\n\nPlus\, you won’t want to miss learning about kinesiology through dance with Lovely Leaps Dance Studio. Fill up with a quick bite from The Go Go Truck and Ice World Frozen Desserts for hand-crafted ice cream. \nFor more information and tickets\, please contact the Children’s Museum of Discovery.
URL:https://sandiegoarchaeology.org/event/science-engineering-night-at-the-childrens-museum-of-discovery/
LOCATION:Children’s Museum of Discovery\, 320 North Broadway\, Escondido\, CA\, 92025\, United States
CATEGORIES:Other Events of Interest
END:VEVENT
BEGIN:VEVENT
DTSTART;VALUE=DATE:20250723
DTEND;VALUE=DATE:20250727
DTSTAMP:20260423T143610
CREATED:20251007T222028Z
LAST-MODIFIED:20251007T222709Z
UID:10002598-1753228800-1753574399@sandiegoarchaeology.org
SUMMARY:Museum Temporarily Closed for Construction
DESCRIPTION:Join us for pop-up programming throughout San Diego County this summer.
URL:https://sandiegoarchaeology.org/event/museum-temporarily-closed-for-construction-2-2/2025-07-23/
LOCATION:San Diego Archaeological Center\, 16666 San Pasqual Valley Road\, Escondido\, CA\, 92027\, United States
CATEGORIES:SDAC Events
ORGANIZER;CN="San Diego Archaeological Center":MAILTO:aniesley@sandiegoarchaeology.org
END:VEVENT
BEGIN:VEVENT
DTSTART;TZID=America/Los_Angeles:20250724T150000
DTEND;TZID=America/Los_Angeles:20250724T173000
DTSTAMP:20260423T143610
CREATED:20250705T153649Z
LAST-MODIFIED:20250705T162430Z
UID:10002236-1753369200-1753378200@sandiegoarchaeology.org
SUMMARY:Clay Pinch Pots at Scripps/Miramar Ranch Library
DESCRIPTION:Discover the art and resiliency of pottery with our Clay Pinch Pot activity at the Scripps/Miramar Ranch Library! Learners of all ages will see how archaeologists study ceramics\, then get hands-on by shaping and decorating their own mini clay creation to take home. Registration required. For more information\, please contact the Scripps/Miramar Ranch Library.
URL:https://sandiegoarchaeology.org/event/clay-pinch-pots-at-scripps-miramar-ranch-library/
LOCATION:Scripps/Miramar Ranch Library\, 10301 Scripps Lake Drive\, San Diego\, CA\, 92131\, United States
CATEGORIES:Other Events of Interest
ORGANIZER;CN="Scripps/Miramar Ranch Library":MAILTO:srstaff@sandiego.gov
END:VEVENT
BEGIN:VEVENT
DTSTART;VALUE=DATE:20250730
DTEND;VALUE=DATE:20250803
DTSTAMP:20260423T143610
CREATED:20251007T222028Z
LAST-MODIFIED:20251007T222709Z
UID:10002599-1753833600-1754179199@sandiegoarchaeology.org
SUMMARY:Museum Temporarily Closed for Construction
DESCRIPTION:Join us for pop-up programming throughout San Diego County this summer.
URL:https://sandiegoarchaeology.org/event/museum-temporarily-closed-for-construction-2-2/2025-07-30/
LOCATION:San Diego Archaeological Center\, 16666 San Pasqual Valley Road\, Escondido\, CA\, 92027\, United States
CATEGORIES:SDAC Events
ORGANIZER;CN="San Diego Archaeological Center":MAILTO:aniesley@sandiegoarchaeology.org
END:VEVENT
BEGIN:VEVENT
DTSTART;TZID=America/Los_Angeles:20250731T103000
DTEND;TZID=America/Los_Angeles:20250731T113000
DTSTAMP:20260423T143610
CREATED:20250705T162943Z
LAST-MODIFIED:20250709T174027Z
UID:10002237-1753957800-1753961400@sandiegoarchaeology.org
SUMMARY:Archaeology Pinch Pots at Encinitas Library
DESCRIPTION:Join us at the Encinitas Library for pinch pots with clay impressions. Families will learn about archeologists\, how they love to study pottery\, and make their very own pinch pot! Limit one per child. While supplies lasts! For more information\, please contact the Encinitas Library.
URL:https://sandiegoarchaeology.org/event/archaeology-pinch-pots-at-encinitas-library/
LOCATION:Encinitas Library\, 540 Cornish Drive\, Encinitas\, CA\, 92024\, United States
CATEGORIES:Other Events of Interest
ORGANIZER;CN="Encinitas Library":MAILTO:encinitaslibrary@sdcounty.ca.gov
END:VEVENT
END:VCALENDAR