BEGIN:VCALENDAR
VERSION:2.0
PRODID:-//SAN DIEGO ARCHAEOLOGICAL CENTER - ECPv6.15.20//NONSGML v1.0//EN
CALSCALE:GREGORIAN
METHOD:PUBLISH
X-ORIGINAL-URL:https://sandiegoarchaeology.org
X-WR-CALDESC:Events for SAN DIEGO ARCHAEOLOGICAL CENTER
REFRESH-INTERVAL;VALUE=DURATION:PT1H
X-Robots-Tag:noindex
X-PUBLISHED-TTL:PT1H
BEGIN:VTIMEZONE
TZID:America/Los_Angeles
BEGIN:DAYLIGHT
TZOFFSETFROM:-0800
TZOFFSETTO:-0700
TZNAME:PDT
DTSTART:20240310T100000
END:DAYLIGHT
BEGIN:STANDARD
TZOFFSETFROM:-0700
TZOFFSETTO:-0800
TZNAME:PST
DTSTART:20241103T090000
END:STANDARD
BEGIN:DAYLIGHT
TZOFFSETFROM:-0800
TZOFFSETTO:-0700
TZNAME:PDT
DTSTART:20250309T100000
END:DAYLIGHT
BEGIN:STANDARD
TZOFFSETFROM:-0700
TZOFFSETTO:-0800
TZNAME:PST
DTSTART:20251102T090000
END:STANDARD
BEGIN:DAYLIGHT
TZOFFSETFROM:-0800
TZOFFSETTO:-0700
TZNAME:PDT
DTSTART:20260308T100000
END:DAYLIGHT
BEGIN:STANDARD
TZOFFSETFROM:-0700
TZOFFSETTO:-0800
TZNAME:PST
DTSTART:20261101T090000
END:STANDARD
END:VTIMEZONE
BEGIN:VEVENT
DTSTART;VALUE=DATE:20251029
DTEND;VALUE=DATE:20251102
DTSTAMP:20260423T084829
CREATED:20251007T222028Z
LAST-MODIFIED:20251007T222709Z
UID:10002573-1761696000-1762041599@sandiegoarchaeology.org
SUMMARY:Museum Temporarily Closed for Construction
DESCRIPTION:Join us for pop-up programming throughout San Diego County this summer.
URL:https://sandiegoarchaeology.org/event/museum-temporarily-closed-for-construction-2-2/2025-10-29/
LOCATION:San Diego Archaeological Center\, 16666 San Pasqual Valley Road\, Escondido\, CA\, 92027\, United States
CATEGORIES:SDAC Events
ORGANIZER;CN="San Diego Archaeological Center":MAILTO:aniesley@sandiegoarchaeology.org
END:VEVENT
BEGIN:VEVENT
DTSTART;VALUE=DATE:20251105
DTEND;VALUE=DATE:20251109
DTSTAMP:20260423T084829
CREATED:20251007T222028Z
LAST-MODIFIED:20251007T222709Z
UID:10002593-1762300800-1762646399@sandiegoarchaeology.org
SUMMARY:Museum Temporarily Closed for Construction
DESCRIPTION:Join us for pop-up programming throughout San Diego County this summer.
URL:https://sandiegoarchaeology.org/event/museum-temporarily-closed-for-construction-2-2/2025-11-05/
LOCATION:San Diego Archaeological Center\, 16666 San Pasqual Valley Road\, Escondido\, CA\, 92027\, United States
CATEGORIES:SDAC Events
ORGANIZER;CN="San Diego Archaeological Center":MAILTO:aniesley@sandiegoarchaeology.org
END:VEVENT
BEGIN:VEVENT
DTSTART;TZID=America/Los_Angeles:20251108T090000
DTEND;TZID=America/Los_Angeles:20251108T153000
DTSTAMP:20260423T084829
CREATED:20250820T172412Z
LAST-MODIFIED:20250920T171556Z
UID:10002510-1762592400-1762615800@sandiegoarchaeology.org
SUMMARY:Archaeology Day at Anza-Borrego Desert State Park
DESCRIPTION:Join us at the Colorado Desert Archaeological Society’s Archaeology Day at the Anza-Borrego Desert State Park Visitor Center. Events include Cahuilla Birdsingers and Dancers\, basket weaving demonstrations\, storytelling\, tours of the Begole Archaeology Research Lab\, exhibits\, and in-person field trips to Mine Wash Village and Blair Valley cultural sites. \nView Archaeology Day Flyer \nThis event is hosted by the Colorado Desert Archaeological Society. For more information\, questions\, and registration\, please contact the event organizer.
URL:https://sandiegoarchaeology.org/event/archaeology-day-at-anza-borrego-desert-state-park/
LOCATION:Anza-Borrego Desert State Park Visitor Center\, 200 Palm Canyon Dr\, Borrego Springs\, CA\, 92004\, United States
CATEGORIES:Other Events of Interest
END:VEVENT
BEGIN:VEVENT
DTSTART;VALUE=DATE:20251112
DTEND;VALUE=DATE:20251115
DTSTAMP:20260423T084829
CREATED:20251007T223232Z
LAST-MODIFIED:20251007T223232Z
UID:10002610-1762905600-1763164799@sandiegoarchaeology.org
SUMMARY:Museum Closed
DESCRIPTION:
URL:https://sandiegoarchaeology.org/event/museum-closed-2/
LOCATION:San Diego Archaeological Center\, 16666 San Pasqual Valley Road\, Escondido\, CA\, 92027\, United States
CATEGORIES:SDAC Events
ORGANIZER;CN="San Diego Archaeological Center":MAILTO:aniesley@sandiegoarchaeology.org
END:VEVENT
BEGIN:VEVENT
DTSTART;TZID=America/Los_Angeles:20251115T100000
DTEND;TZID=America/Los_Angeles:20251115T140000
DTSTAMP:20260423T084829
CREATED:20251007T223302Z
LAST-MODIFIED:20251113T190636Z
UID:10002586-1763200800-1763215200@sandiegoarchaeology.org
SUMMARY:Museum Reopening Open House
DESCRIPTION:To celebrate our museum reopening\, join us rain or shine for a free open house with hands-on activities\, a lecture\, and light refreshments. In addition to viewing our upgraded facilities\, be the first to see our new and revitalized exhibits\, including the debut of Kumeyaay Cosmology on loan from the Imperial Valley Desert Museum. This immersive exhibit explores the Kumeyaay people’s relationship with the seasons\, stars\, and celestial events.  \nEvent Schedule\n10 AM: Museum opens\n10:30 AM – 11 AM: Opening ceremony\n11 AM – 1 PM: Hands-on activities\n1 PM – 2 PM: Fact or Fiction: Hollywood\, Hoaxes\, and Hearsay Lecture \n 
URL:https://sandiegoarchaeology.org/event/museum-reopening-open-house/
LOCATION:San Diego Archaeological Center\, 16666 San Pasqual Valley Road\, Escondido\, CA\, 92027\, United States
CATEGORIES:SDAC Events
ORGANIZER;CN="San Diego Archaeological Center":MAILTO:aniesley@sandiegoarchaeology.org
END:VEVENT
BEGIN:VEVENT
DTSTART;TZID=America/Los_Angeles:20251115T130000
DTEND;TZID=America/Los_Angeles:20251115T140000
DTSTAMP:20260423T084829
CREATED:20251108T183121Z
LAST-MODIFIED:20251108T183316Z
UID:10002615-1763211600-1763215200@sandiegoarchaeology.org
SUMMARY:Pseudoscience Lecture: Fact or Fiction? Hoaxes\, Hearsay\, and Hollywood
DESCRIPTION:This lecture stems from one of the Center’s recent exhibits which investigates our irrational fascination with fantastical stories and ideas about human history. Public Archaeology Director Adam Niesley will explore the scientific evidence (or lack thereof) for commonly held archaeological beliefs and how conspiracies develop.
URL:https://sandiegoarchaeology.org/event/pseudoscience-lecture-fact-or-fiction-hoaxes-hearsay-and-hollywood/
LOCATION:San Diego Archaeological Center\, 16666 San Pasqual Valley Road\, Escondido\, CA\, 92027\, United States
CATEGORIES:SDAC Events
ORGANIZER;CN="San Diego Archaeological Center":MAILTO:aniesley@sandiegoarchaeology.org
END:VEVENT
BEGIN:VEVENT
DTSTART;TZID=America/Los_Angeles:20251119T100000
DTEND;TZID=America/Los_Angeles:20251119T160000
DTSTAMP:20260423T084829
CREATED:20250107T213824Z
LAST-MODIFIED:20251119T000831Z
UID:10000466-1763546400-1763568000@sandiegoarchaeology.org
SUMMARY:Senior Wednesdays
DESCRIPTION:Seniors 65+ can enjoy free admission to the Center on Wednesdays. Discover the science of archaeology through our interactive Archaeology 101 exhibit\, explore the cultural periods of San Diego\, and uncover the Lives and Lifestyles on Block 112: The Untold Story of San Diego’s Working Class.
URL:https://sandiegoarchaeology.org/event/senior-wednesdays-2/2025-11-19/
LOCATION:San Diego Archaeological Center\, 16666 San Pasqual Valley Road\, Escondido\, CA\, 92027\, United States
CATEGORIES:SDAC Events
ORGANIZER;CN="San Diego Archaeological Center":MAILTO:aniesley@sandiegoarchaeology.org
END:VEVENT
BEGIN:VEVENT
DTSTART;TZID=America/Los_Angeles:20251120T100000
DTEND;TZID=America/Los_Angeles:20251120T110000
DTSTAMP:20260423T084829
CREATED:20250702T211549Z
LAST-MODIFIED:20260212T000726Z
UID:10000728-1763632800-1763636400@sandiegoarchaeology.org
SUMMARY:Story Time with an Archaeologist
DESCRIPTION:Join us on select Thursday mornings for archaeology-themed story time at the Center. Stay afterwards to explore the museum with family-friendly activities like our Archaeology Quest and Field Lab.
URL:https://sandiegoarchaeology.org/event/story-time-with-an-archaeologist-2/2025-11-20/
LOCATION:San Diego Archaeological Center\, 16666 San Pasqual Valley Road\, Escondido\, CA\, 92027\, United States
CATEGORIES:Kids Dig Archaeology,SDAC Events
ATTACH;FMTTYPE=image/png:https://sandiegoarchaeology.org/wp-content/uploads/2024/06/Storytime-10am.png
ORGANIZER;CN="San Diego Archaeological Center":MAILTO:aniesley@sandiegoarchaeology.org
END:VEVENT
BEGIN:VEVENT
DTSTART;TZID=America/Los_Angeles:20251124T100000
DTEND;TZID=America/Los_Angeles:20251124T143000
DTSTAMP:20260423T084829
CREATED:20250718T172636Z
LAST-MODIFIED:20250729T185555Z
UID:10002482-1763978400-1763994600@sandiegoarchaeology.org
SUMMARY:Fall Into Archaeology Day Camp
DESCRIPTION:Whether your child or grandchild is a budding archaeologist or just eager to experience the past in a whole new way\, our camp offers something for everyone. Get ready for a week filled with adventure\, discovery\, and endless fun! Space is limited to 30 campers per session. Sign up now and let the adventure begin! Our autumn day camp for elementary school students will take place the week of Thanksgiving. Choose individual days or choose them all! \nGrades: 2-7 \nSchedule:\nNovember 24 to 26 \nHours: 10 AM to 2:30 PM\nExtended care hours: Early drop-off (starting at 8:30 AM) and late pickup (ending at 4 PM) are available for an additional fee. \nFor pricing and registration\, see our Fall Into Archaeology Day Camp page.
URL:https://sandiegoarchaeology.org/event/fall-into-archaeology-day-camp-2/2025-11-24/
LOCATION:San Diego Archaeological Center\, 16666 San Pasqual Valley Road\, Escondido\, CA\, 92027\, United States
CATEGORIES:SDAC Events
ORGANIZER;CN="San Diego Archaeological Center":MAILTO:aniesley@sandiegoarchaeology.org
END:VEVENT
BEGIN:VEVENT
DTSTART;TZID=America/Los_Angeles:20251125T100000
DTEND;TZID=America/Los_Angeles:20251125T143000
DTSTAMP:20260423T084829
CREATED:20250718T172636Z
LAST-MODIFIED:20250729T185555Z
UID:10002483-1764064800-1764081000@sandiegoarchaeology.org
SUMMARY:Fall Into Archaeology Day Camp
DESCRIPTION:Whether your child or grandchild is a budding archaeologist or just eager to experience the past in a whole new way\, our camp offers something for everyone. Get ready for a week filled with adventure\, discovery\, and endless fun! Space is limited to 30 campers per session. Sign up now and let the adventure begin! Our autumn day camp for elementary school students will take place the week of Thanksgiving. Choose individual days or choose them all! \nGrades: 2-7 \nSchedule:\nNovember 24 to 26 \nHours: 10 AM to 2:30 PM\nExtended care hours: Early drop-off (starting at 8:30 AM) and late pickup (ending at 4 PM) are available for an additional fee. \nFor pricing and registration\, see our Fall Into Archaeology Day Camp page.
URL:https://sandiegoarchaeology.org/event/fall-into-archaeology-day-camp-2/2025-11-25/
LOCATION:San Diego Archaeological Center\, 16666 San Pasqual Valley Road\, Escondido\, CA\, 92027\, United States
CATEGORIES:SDAC Events
ORGANIZER;CN="San Diego Archaeological Center":MAILTO:aniesley@sandiegoarchaeology.org
END:VEVENT
BEGIN:VEVENT
DTSTART;TZID=America/Los_Angeles:20251126T100000
DTEND;TZID=America/Los_Angeles:20251126T143000
DTSTAMP:20260423T084829
CREATED:20250718T172636Z
LAST-MODIFIED:20250729T185555Z
UID:10002485-1764151200-1764167400@sandiegoarchaeology.org
SUMMARY:Fall Into Archaeology Day Camp
DESCRIPTION:Whether your child or grandchild is a budding archaeologist or just eager to experience the past in a whole new way\, our camp offers something for everyone. Get ready for a week filled with adventure\, discovery\, and endless fun! Space is limited to 30 campers per session. Sign up now and let the adventure begin! Our autumn day camp for elementary school students will take place the week of Thanksgiving. Choose individual days or choose them all! \nGrades: 2-7 \nSchedule:\nNovember 24 to 26 \nHours: 10 AM to 2:30 PM\nExtended care hours: Early drop-off (starting at 8:30 AM) and late pickup (ending at 4 PM) are available for an additional fee. \nFor pricing and registration\, see our Fall Into Archaeology Day Camp page.
URL:https://sandiegoarchaeology.org/event/fall-into-archaeology-day-camp-2/2025-11-26/
LOCATION:San Diego Archaeological Center\, 16666 San Pasqual Valley Road\, Escondido\, CA\, 92027\, United States
CATEGORIES:SDAC Events
ORGANIZER;CN="San Diego Archaeological Center":MAILTO:aniesley@sandiegoarchaeology.org
END:VEVENT
BEGIN:VEVENT
DTSTART;TZID=America/Los_Angeles:20251126T100000
DTEND;TZID=America/Los_Angeles:20251126T160000
DTSTAMP:20260423T084829
CREATED:20250107T213824Z
LAST-MODIFIED:20251119T000831Z
UID:10000467-1764151200-1764172800@sandiegoarchaeology.org
SUMMARY:Senior Wednesdays
DESCRIPTION:Seniors 65+ can enjoy free admission to the Center on Wednesdays. Discover the science of archaeology through our interactive Archaeology 101 exhibit\, explore the cultural periods of San Diego\, and uncover the Lives and Lifestyles on Block 112: The Untold Story of San Diego’s Working Class.
URL:https://sandiegoarchaeology.org/event/senior-wednesdays-2/2025-11-26/
LOCATION:San Diego Archaeological Center\, 16666 San Pasqual Valley Road\, Escondido\, CA\, 92027\, United States
CATEGORIES:SDAC Events
ORGANIZER;CN="San Diego Archaeological Center":MAILTO:aniesley@sandiegoarchaeology.org
END:VEVENT
BEGIN:VEVENT
DTSTART;VALUE=DATE:20251127
DTEND;VALUE=DATE:20251129
DTSTAMP:20260423T084829
CREATED:20251118T191247Z
LAST-MODIFIED:20251118T235509Z
UID:10002621-1764201600-1764374399@sandiegoarchaeology.org
SUMMARY:MUSEUM CLOSED
DESCRIPTION:
URL:https://sandiegoarchaeology.org/event/museum-closed-3/
LOCATION:San Diego Archaeological Center\, 16666 San Pasqual Valley Road\, Escondido\, CA\, 92027\, United States
CATEGORIES:SDAC Events
ORGANIZER;CN="San Diego Archaeological Center":MAILTO:aniesley@sandiegoarchaeology.org
END:VEVENT
BEGIN:VEVENT
DTSTART;TZID=America/Los_Angeles:20251129T090000
DTEND;TZID=America/Los_Angeles:20251129T130000
DTSTAMP:20260423T084829
CREATED:20250814T230337Z
LAST-MODIFIED:20251204T210331Z
UID:10002511-1764406800-1764421200@sandiegoarchaeology.org
SUMMARY:North County Archery Club
DESCRIPTION:The San Diego Archaeological Center is hosting the North County Archery Club on the last Saturday of each month. All ages and skill levels are welcome\, with gear available first-come-first-served. Archers are invited to explore the museum and learn about the history of San Diego. \nCost: $15\, SDAC Members Free \n 
URL:https://sandiegoarchaeology.org/event/north-county-archery-club/
LOCATION:San Diego Archaeological Center\, 16666 San Pasqual Valley Road\, Escondido\, CA\, 92027\, United States
CATEGORIES:SDAC Events
ORGANIZER;CN="San Diego Archaeological Center":MAILTO:aniesley@sandiegoarchaeology.org
END:VEVENT
END:VCALENDAR