BEGIN:VCALENDAR
VERSION:2.0
PRODID:-//SAN DIEGO ARCHAEOLOGICAL CENTER - ECPv6.15.20//NONSGML v1.0//EN
CALSCALE:GREGORIAN
METHOD:PUBLISH
X-ORIGINAL-URL:https://sandiegoarchaeology.org
X-WR-CALDESC:Events for SAN DIEGO ARCHAEOLOGICAL CENTER
REFRESH-INTERVAL;VALUE=DURATION:PT1H
X-Robots-Tag:noindex
X-PUBLISHED-TTL:PT1H
BEGIN:VTIMEZONE
TZID:America/Los_Angeles
BEGIN:DAYLIGHT
TZOFFSETFROM:-0800
TZOFFSETTO:-0700
TZNAME:PDT
DTSTART:20250309T100000
END:DAYLIGHT
BEGIN:STANDARD
TZOFFSETFROM:-0700
TZOFFSETTO:-0800
TZNAME:PST
DTSTART:20251102T090000
END:STANDARD
BEGIN:DAYLIGHT
TZOFFSETFROM:-0800
TZOFFSETTO:-0700
TZNAME:PDT
DTSTART:20260308T100000
END:DAYLIGHT
BEGIN:STANDARD
TZOFFSETFROM:-0700
TZOFFSETTO:-0800
TZNAME:PST
DTSTART:20261101T090000
END:STANDARD
BEGIN:DAYLIGHT
TZOFFSETFROM:-0800
TZOFFSETTO:-0700
TZNAME:PDT
DTSTART:20270314T100000
END:DAYLIGHT
BEGIN:STANDARD
TZOFFSETFROM:-0700
TZOFFSETTO:-0800
TZNAME:PST
DTSTART:20271107T090000
END:STANDARD
END:VTIMEZONE
BEGIN:VEVENT
DTSTART;TZID=America/Los_Angeles:20260603T100000
DTEND;TZID=America/Los_Angeles:20260603T160000
DTSTAMP:20260423T045430
CREATED:20250107T213824Z
LAST-MODIFIED:20251119T000831Z
UID:10000494-1780480800-1780502400@sandiegoarchaeology.org
SUMMARY:Senior Wednesdays
DESCRIPTION:Seniors 65+ can enjoy free admission to the Center on Wednesdays. Discover the science of archaeology through our interactive Archaeology 101 exhibit\, explore the cultural periods of San Diego\, and uncover the Lives and Lifestyles on Block 112: The Untold Story of San Diego’s Working Class.
URL:https://sandiegoarchaeology.org/event/senior-wednesdays-2/2026-06-03/
LOCATION:San Diego Archaeological Center\, 16666 San Pasqual Valley Road\, Escondido\, CA\, 92027\, United States
CATEGORIES:SDAC Events
ORGANIZER;CN="San Diego Archaeological Center":MAILTO:aniesley@sandiegoarchaeology.org
END:VEVENT
BEGIN:VEVENT
DTSTART;TZID=America/Los_Angeles:20260604T100000
DTEND;TZID=America/Los_Angeles:20260604T110000
DTSTAMP:20260423T045430
CREATED:20250702T211549Z
LAST-MODIFIED:20260212T000726Z
UID:10000756-1780567200-1780570800@sandiegoarchaeology.org
SUMMARY:Story Time with an Archaeologist
DESCRIPTION:Join us on select Thursday mornings for archaeology-themed story time at the Center. Stay afterwards to explore the museum with family-friendly activities like our Archaeology Quest and Field Lab.
URL:https://sandiegoarchaeology.org/event/story-time-with-an-archaeologist-2/2026-06-04/
LOCATION:San Diego Archaeological Center\, 16666 San Pasqual Valley Road\, Escondido\, CA\, 92027\, United States
CATEGORIES:Kids Dig Archaeology,SDAC Events
ATTACH;FMTTYPE=image/png:https://sandiegoarchaeology.org/wp-content/uploads/2024/06/Storytime-10am.png
ORGANIZER;CN="San Diego Archaeological Center":MAILTO:aniesley@sandiegoarchaeology.org
END:VEVENT
BEGIN:VEVENT
DTSTART;TZID=America/Los_Angeles:20260610T100000
DTEND;TZID=America/Los_Angeles:20260610T160000
DTSTAMP:20260423T045430
CREATED:20250107T213824Z
LAST-MODIFIED:20251119T000831Z
UID:10000495-1781085600-1781107200@sandiegoarchaeology.org
SUMMARY:Senior Wednesdays
DESCRIPTION:Seniors 65+ can enjoy free admission to the Center on Wednesdays. Discover the science of archaeology through our interactive Archaeology 101 exhibit\, explore the cultural periods of San Diego\, and uncover the Lives and Lifestyles on Block 112: The Untold Story of San Diego’s Working Class.
URL:https://sandiegoarchaeology.org/event/senior-wednesdays-2/2026-06-10/
LOCATION:San Diego Archaeological Center\, 16666 San Pasqual Valley Road\, Escondido\, CA\, 92027\, United States
CATEGORIES:SDAC Events
ORGANIZER;CN="San Diego Archaeological Center":MAILTO:aniesley@sandiegoarchaeology.org
END:VEVENT
BEGIN:VEVENT
DTSTART;TZID=America/Los_Angeles:20260611T100000
DTEND;TZID=America/Los_Angeles:20260611T110000
DTSTAMP:20260423T045430
CREATED:20250702T211549Z
LAST-MODIFIED:20260212T000726Z
UID:10000757-1781172000-1781175600@sandiegoarchaeology.org
SUMMARY:Story Time with an Archaeologist
DESCRIPTION:Join us on select Thursday mornings for archaeology-themed story time at the Center. Stay afterwards to explore the museum with family-friendly activities like our Archaeology Quest and Field Lab.
URL:https://sandiegoarchaeology.org/event/story-time-with-an-archaeologist-2/2026-06-11/
LOCATION:San Diego Archaeological Center\, 16666 San Pasqual Valley Road\, Escondido\, CA\, 92027\, United States
CATEGORIES:Kids Dig Archaeology,SDAC Events
ATTACH;FMTTYPE=image/png:https://sandiegoarchaeology.org/wp-content/uploads/2024/06/Storytime-10am.png
ORGANIZER;CN="San Diego Archaeological Center":MAILTO:aniesley@sandiegoarchaeology.org
END:VEVENT
BEGIN:VEVENT
DTSTART;TZID=America/Los_Angeles:20260613T100000
DTEND;TZID=America/Los_Angeles:20260613T130000
DTSTAMP:20260423T045430
CREATED:20240928T160049Z
LAST-MODIFIED:20260211T233535Z
UID:10002124-1781344800-1781355600@sandiegoarchaeology.org
SUMMARY:Art with an Archaeologist
DESCRIPTION:Free admission for kids on select Saturdays! Join us for family-friendly activities in our classroom\, where you can create your own art with an archaeologist\, become a junior archaeologist with our miniature excavation units\, and curl up with a book on our cozy reading rug. Families can also explore the museum on an Archaeology Quest and check out our Excavation Station and Field Lab. \nKids 12 & under: Free; Adults: $5 (includes museum admission)
URL:https://sandiegoarchaeology.org/event/art-with-an-archaeologist-3/2026-06-13/
LOCATION:San Diego Archaeological Center\, 16666 San Pasqual Valley Road\, Escondido\, CA\, 92027\, United States
CATEGORIES:Kids Dig Archaeology,SDAC Events
ATTACH;FMTTYPE=image/png:https://sandiegoarchaeology.org/wp-content/uploads/2024/06/Art-with-an-Archaeologist-rev.png
ORGANIZER;CN="San Diego Archaeological Center":MAILTO:aniesley@sandiegoarchaeology.org
END:VEVENT
BEGIN:VEVENT
DTSTART;TZID=America/Los_Angeles:20260615T100000
DTEND;TZID=America/Los_Angeles:20260615T143000
DTSTAMP:20260423T045430
CREATED:20260211T233310Z
LAST-MODIFIED:20260211T233310Z
UID:10002946-1781517600-1781533800@sandiegoarchaeology.org
SUMMARY:Archaeology Summer Camp
DESCRIPTION:We are excited to announce our summer day camp! Whether your child or grandchild is a budding archaeologist or just eager to experience the past in a whole new way\, our camp offers something for everyone. Get ready for a week filled with adventure\, discovery\, and endless fun as we explore the pyramids\, the Ice Age\, and the early California landscape. With our a la carte style day camp\, you can choose individual days or choose them all! Space is limited to 30 campers. \nLearn More and Register
URL:https://sandiegoarchaeology.org/event/archaeology-summer-camp-2/2026-06-15/
LOCATION:San Diego Archaeological Center\, 16666 San Pasqual Valley Road\, Escondido\, CA\, 92027\, United States
CATEGORIES:SDAC Events
ORGANIZER;CN="San Diego Archaeological Center":MAILTO:aniesley@sandiegoarchaeology.org
END:VEVENT
BEGIN:VEVENT
DTSTART;TZID=America/Los_Angeles:20260616T100000
DTEND;TZID=America/Los_Angeles:20260616T143000
DTSTAMP:20260423T045430
CREATED:20260211T233310Z
LAST-MODIFIED:20260211T233310Z
UID:10002947-1781604000-1781620200@sandiegoarchaeology.org
SUMMARY:Archaeology Summer Camp
DESCRIPTION:We are excited to announce our summer day camp! Whether your child or grandchild is a budding archaeologist or just eager to experience the past in a whole new way\, our camp offers something for everyone. Get ready for a week filled with adventure\, discovery\, and endless fun as we explore the pyramids\, the Ice Age\, and the early California landscape. With our a la carte style day camp\, you can choose individual days or choose them all! Space is limited to 30 campers. \nLearn More and Register
URL:https://sandiegoarchaeology.org/event/archaeology-summer-camp-2/2026-06-16/
LOCATION:San Diego Archaeological Center\, 16666 San Pasqual Valley Road\, Escondido\, CA\, 92027\, United States
CATEGORIES:SDAC Events
ORGANIZER;CN="San Diego Archaeological Center":MAILTO:aniesley@sandiegoarchaeology.org
END:VEVENT
BEGIN:VEVENT
DTSTART;TZID=America/Los_Angeles:20260617T100000
DTEND;TZID=America/Los_Angeles:20260617T143000
DTSTAMP:20260423T045430
CREATED:20260211T233310Z
LAST-MODIFIED:20260211T233310Z
UID:10002948-1781690400-1781706600@sandiegoarchaeology.org
SUMMARY:Archaeology Summer Camp
DESCRIPTION:We are excited to announce our summer day camp! Whether your child or grandchild is a budding archaeologist or just eager to experience the past in a whole new way\, our camp offers something for everyone. Get ready for a week filled with adventure\, discovery\, and endless fun as we explore the pyramids\, the Ice Age\, and the early California landscape. With our a la carte style day camp\, you can choose individual days or choose them all! Space is limited to 30 campers. \nLearn More and Register
URL:https://sandiegoarchaeology.org/event/archaeology-summer-camp-2/2026-06-17/
LOCATION:San Diego Archaeological Center\, 16666 San Pasqual Valley Road\, Escondido\, CA\, 92027\, United States
CATEGORIES:SDAC Events
ORGANIZER;CN="San Diego Archaeological Center":MAILTO:aniesley@sandiegoarchaeology.org
END:VEVENT
BEGIN:VEVENT
DTSTART;TZID=America/Los_Angeles:20260617T100000
DTEND;TZID=America/Los_Angeles:20260617T160000
DTSTAMP:20260423T045430
CREATED:20250107T213824Z
LAST-MODIFIED:20251119T000831Z
UID:10000496-1781690400-1781712000@sandiegoarchaeology.org
SUMMARY:Senior Wednesdays
DESCRIPTION:Seniors 65+ can enjoy free admission to the Center on Wednesdays. Discover the science of archaeology through our interactive Archaeology 101 exhibit\, explore the cultural periods of San Diego\, and uncover the Lives and Lifestyles on Block 112: The Untold Story of San Diego’s Working Class.
URL:https://sandiegoarchaeology.org/event/senior-wednesdays-2/2026-06-17/
LOCATION:San Diego Archaeological Center\, 16666 San Pasqual Valley Road\, Escondido\, CA\, 92027\, United States
CATEGORIES:SDAC Events
ORGANIZER;CN="San Diego Archaeological Center":MAILTO:aniesley@sandiegoarchaeology.org
END:VEVENT
BEGIN:VEVENT
DTSTART;TZID=America/Los_Angeles:20260618T100000
DTEND;TZID=America/Los_Angeles:20260618T143000
DTSTAMP:20260423T045430
CREATED:20260211T233310Z
LAST-MODIFIED:20260211T233310Z
UID:10002949-1781776800-1781793000@sandiegoarchaeology.org
SUMMARY:Archaeology Summer Camp
DESCRIPTION:We are excited to announce our summer day camp! Whether your child or grandchild is a budding archaeologist or just eager to experience the past in a whole new way\, our camp offers something for everyone. Get ready for a week filled with adventure\, discovery\, and endless fun as we explore the pyramids\, the Ice Age\, and the early California landscape. With our a la carte style day camp\, you can choose individual days or choose them all! Space is limited to 30 campers. \nLearn More and Register
URL:https://sandiegoarchaeology.org/event/archaeology-summer-camp-2/2026-06-18/
LOCATION:San Diego Archaeological Center\, 16666 San Pasqual Valley Road\, Escondido\, CA\, 92027\, United States
CATEGORIES:SDAC Events
ORGANIZER;CN="San Diego Archaeological Center":MAILTO:aniesley@sandiegoarchaeology.org
END:VEVENT
BEGIN:VEVENT
DTSTART;TZID=America/Los_Angeles:20260619T100000
DTEND;TZID=America/Los_Angeles:20260619T143000
DTSTAMP:20260423T045430
CREATED:20260211T233310Z
LAST-MODIFIED:20260211T233310Z
UID:10002950-1781863200-1781879400@sandiegoarchaeology.org
SUMMARY:Archaeology Summer Camp
DESCRIPTION:We are excited to announce our summer day camp! Whether your child or grandchild is a budding archaeologist or just eager to experience the past in a whole new way\, our camp offers something for everyone. Get ready for a week filled with adventure\, discovery\, and endless fun as we explore the pyramids\, the Ice Age\, and the early California landscape. With our a la carte style day camp\, you can choose individual days or choose them all! Space is limited to 30 campers. \nLearn More and Register
URL:https://sandiegoarchaeology.org/event/archaeology-summer-camp-2/2026-06-19/
LOCATION:San Diego Archaeological Center\, 16666 San Pasqual Valley Road\, Escondido\, CA\, 92027\, United States
CATEGORIES:SDAC Events
ORGANIZER;CN="San Diego Archaeological Center":MAILTO:aniesley@sandiegoarchaeology.org
END:VEVENT
BEGIN:VEVENT
DTSTART;TZID=America/Los_Angeles:20260624T100000
DTEND;TZID=America/Los_Angeles:20260624T160000
DTSTAMP:20260423T045430
CREATED:20250107T213824Z
LAST-MODIFIED:20251119T000831Z
UID:10000497-1782295200-1782316800@sandiegoarchaeology.org
SUMMARY:Senior Wednesdays
DESCRIPTION:Seniors 65+ can enjoy free admission to the Center on Wednesdays. Discover the science of archaeology through our interactive Archaeology 101 exhibit\, explore the cultural periods of San Diego\, and uncover the Lives and Lifestyles on Block 112: The Untold Story of San Diego’s Working Class.
URL:https://sandiegoarchaeology.org/event/senior-wednesdays-2/2026-06-24/
LOCATION:San Diego Archaeological Center\, 16666 San Pasqual Valley Road\, Escondido\, CA\, 92027\, United States
CATEGORIES:SDAC Events
ORGANIZER;CN="San Diego Archaeological Center":MAILTO:aniesley@sandiegoarchaeology.org
END:VEVENT
BEGIN:VEVENT
DTSTART;TZID=America/Los_Angeles:20260625T100000
DTEND;TZID=America/Los_Angeles:20260625T110000
DTSTAMP:20260423T045430
CREATED:20250702T211549Z
LAST-MODIFIED:20260212T000726Z
UID:10000759-1782381600-1782385200@sandiegoarchaeology.org
SUMMARY:Story Time with an Archaeologist
DESCRIPTION:Join us on select Thursday mornings for archaeology-themed story time at the Center. Stay afterwards to explore the museum with family-friendly activities like our Archaeology Quest and Field Lab.
URL:https://sandiegoarchaeology.org/event/story-time-with-an-archaeologist-2/2026-06-25/
LOCATION:San Diego Archaeological Center\, 16666 San Pasqual Valley Road\, Escondido\, CA\, 92027\, United States
CATEGORIES:Kids Dig Archaeology,SDAC Events
ATTACH;FMTTYPE=image/png:https://sandiegoarchaeology.org/wp-content/uploads/2024/06/Storytime-10am.png
ORGANIZER;CN="San Diego Archaeological Center":MAILTO:aniesley@sandiegoarchaeology.org
END:VEVENT
BEGIN:VEVENT
DTSTART;TZID=America/Los_Angeles:20260627T100000
DTEND;TZID=America/Los_Angeles:20260627T140000
DTSTAMP:20260423T045430
CREATED:20251210T231909Z
LAST-MODIFIED:20260203T230004Z
UID:10002644-1782554400-1782568800@sandiegoarchaeology.org
SUMMARY:North County Archery Club
DESCRIPTION:The San Diego Archaeological Center is hosting the North County Archery Club on the last Saturday of each month. All ages and skill levels are welcome\, with gear available first-come-first-served. Archers are invited to explore the museum and learn about the history of San Diego. \nCost: $15\, SDAC Members Free \n 
URL:https://sandiegoarchaeology.org/event/north-county-archery-club-3/2026-06-27/
LOCATION:San Diego Archaeological Center\, 16666 San Pasqual Valley Road\, Escondido\, CA\, 92027\, United States
CATEGORIES:SDAC Events
ORGANIZER;CN="San Diego Archaeological Center":MAILTO:aniesley@sandiegoarchaeology.org
END:VEVENT
END:VCALENDAR