BEGIN:VCALENDAR
VERSION:2.0
PRODID:-//SAN DIEGO ARCHAEOLOGICAL CENTER - ECPv6.15.20//NONSGML v1.0//EN
CALSCALE:GREGORIAN
METHOD:PUBLISH
X-ORIGINAL-URL:https://sandiegoarchaeology.org
X-WR-CALDESC:Events for SAN DIEGO ARCHAEOLOGICAL CENTER
REFRESH-INTERVAL;VALUE=DURATION:PT1H
X-Robots-Tag:noindex
X-PUBLISHED-TTL:PT1H
BEGIN:VTIMEZONE
TZID:America/Los_Angeles
BEGIN:DAYLIGHT
TZOFFSETFROM:-0800
TZOFFSETTO:-0700
TZNAME:PDT
DTSTART:20230312T100000
END:DAYLIGHT
BEGIN:STANDARD
TZOFFSETFROM:-0700
TZOFFSETTO:-0800
TZNAME:PST
DTSTART:20231105T090000
END:STANDARD
BEGIN:DAYLIGHT
TZOFFSETFROM:-0800
TZOFFSETTO:-0700
TZNAME:PDT
DTSTART:20240310T100000
END:DAYLIGHT
BEGIN:STANDARD
TZOFFSETFROM:-0700
TZOFFSETTO:-0800
TZNAME:PST
DTSTART:20241103T090000
END:STANDARD
BEGIN:DAYLIGHT
TZOFFSETFROM:-0800
TZOFFSETTO:-0700
TZNAME:PDT
DTSTART:20250309T100000
END:DAYLIGHT
BEGIN:STANDARD
TZOFFSETFROM:-0700
TZOFFSETTO:-0800
TZNAME:PST
DTSTART:20251102T090000
END:STANDARD
BEGIN:DAYLIGHT
TZOFFSETFROM:-0800
TZOFFSETTO:-0700
TZNAME:PDT
DTSTART:20260308T100000
END:DAYLIGHT
BEGIN:STANDARD
TZOFFSETFROM:-0700
TZOFFSETTO:-0800
TZNAME:PST
DTSTART:20261101T090000
END:STANDARD
END:VTIMEZONE
BEGIN:VEVENT
DTSTART;TZID=America/Los_Angeles:20250719T170000
DTEND;TZID=America/Los_Angeles:20250719T193000
DTSTAMP:20260423T103213
CREATED:20250703T183326Z
LAST-MODIFIED:20250703T183326Z
UID:10002235-1752944400-1752953400@sandiegoarchaeology.org
SUMMARY:Science & Engineering Night at the Children's Museum of Discovery
DESCRIPTION:Join us for family-friendly archaeological activities at the Children’s Museum of Discovery’s Science & Engineering Night in Escondido. Step into a world of hands-on exploration and discovery during a special evening packed with interactive activity booths\, live science demos\, and fun for the whole family! \nThrough hands-on activity booths and an endless amount of fun\, children will learn about: \n\n\nScience of fires with the Escondido Fire Department\nRobotics and coding with Magikid Robotics Lab\n​Physics of soccer with Soccer Shots​​\nArchaeology with San Diego Archaeological Center\nBiomedicine with ACROBiosystems\nArtifact discovery with San Diego History Center\n​Dry ice sublimation\n​Electrical engineering circuit art​\nCoding\n+ more!\n\nPlus\, you won’t want to miss learning about kinesiology through dance with Lovely Leaps Dance Studio. Fill up with a quick bite from The Go Go Truck and Ice World Frozen Desserts for hand-crafted ice cream. \nFor more information and tickets\, please contact the Children’s Museum of Discovery.
URL:https://sandiegoarchaeology.org/event/science-engineering-night-at-the-childrens-museum-of-discovery/
LOCATION:Children’s Museum of Discovery\, 320 North Broadway\, Escondido\, CA\, 92025\, United States
CATEGORIES:Other Events of Interest
END:VEVENT
BEGIN:VEVENT
DTSTART;TZID=America/Los_Angeles:20240810T100000
DTEND;TZID=America/Los_Angeles:20240810T123000
DTSTAMP:20260423T103213
CREATED:20240822T004923Z
LAST-MODIFIED:20240823T192146Z
UID:10000037-1723284000-1723293000@sandiegoarchaeology.org
SUMMARY:San Diego Children's Discovery Museum: Science & Engineering Night
DESCRIPTION:Join the San Diego Children’s Discovery Museum for an after-hours event and watch the Museum transform to host hands-on activity booths featuring science\, technology\, reading\, engineering\, art\, and math (STREAM)! Through hands-on activity booths and an endless amount of fun\, children will learn about: \n\n\n\nAnimals and biodiversity with Biology Through Art\nAerodynamics with Fleet Science Center\nPhysics of golf with San Diego Pop Up Mini Golf\nHands-on ocean science with Ocean Connectors\nArchaeology with San Diego Archeological Center\nSatellites with Sally Ride Science Program\nScience of scent\nElectrical engineering with Snap Circuits\nNano Materials\n\nPlus\, you won’t want to miss a special dry ice presentation by Science Guys of San Diego! Conducting science experiments is hard work! Be sure to enjoy the food truck\, Taco Spot and Cabetos Pops for a sweet treat. \nThis event is hosted by the San Diego Children’s Discovery Museum. For more information\, questions\, and registration\, please contact the event organizer.
URL:https://sandiegoarchaeology.org/event/san-diego-childrens-discovery-museum-science-engineering-night/
LOCATION:Children’s Museum of Discovery\, 320 North Broadway\, Escondido\, CA\, 92025\, United States
CATEGORIES:Kids Dig Archaeology,Other Events of Interest
END:VEVENT
END:VCALENDAR