BEGIN:VCALENDAR
VERSION:2.0
PRODID:-//SAN DIEGO ARCHAEOLOGICAL CENTER - ECPv6.15.20//NONSGML v1.0//EN
CALSCALE:GREGORIAN
METHOD:PUBLISH
X-ORIGINAL-URL:https://sandiegoarchaeology.org
X-WR-CALDESC:Events for SAN DIEGO ARCHAEOLOGICAL CENTER
REFRESH-INTERVAL;VALUE=DURATION:PT1H
X-Robots-Tag:noindex
X-PUBLISHED-TTL:PT1H
BEGIN:VTIMEZONE
TZID:America/Los_Angeles
BEGIN:DAYLIGHT
TZOFFSETFROM:-0800
TZOFFSETTO:-0700
TZNAME:PDT
DTSTART:20240310T100000
END:DAYLIGHT
BEGIN:STANDARD
TZOFFSETFROM:-0700
TZOFFSETTO:-0800
TZNAME:PST
DTSTART:20241103T090000
END:STANDARD
BEGIN:DAYLIGHT
TZOFFSETFROM:-0800
TZOFFSETTO:-0700
TZNAME:PDT
DTSTART:20250309T100000
END:DAYLIGHT
BEGIN:STANDARD
TZOFFSETFROM:-0700
TZOFFSETTO:-0800
TZNAME:PST
DTSTART:20251102T090000
END:STANDARD
BEGIN:DAYLIGHT
TZOFFSETFROM:-0800
TZOFFSETTO:-0700
TZNAME:PDT
DTSTART:20260308T100000
END:DAYLIGHT
BEGIN:STANDARD
TZOFFSETFROM:-0700
TZOFFSETTO:-0800
TZNAME:PST
DTSTART:20261101T090000
END:STANDARD
END:VTIMEZONE
BEGIN:VEVENT
DTSTART;TZID=America/Los_Angeles:20251018T100000
DTEND;TZID=America/Los_Angeles:20251018T150000
DTSTAMP:20260424T044948
CREATED:20240928T175601Z
LAST-MODIFIED:20250820T183609Z
UID:10000409-1760781600-1760799600@sandiegoarchaeology.org
SUMMARY:Arch in the Park
DESCRIPTION:Join us at the San Diego County Archaeological Society’s annual Arch in the Park event. Their goal is to educate the public about archaeology\, and to provide information on various career and volunteer opportunities with local archaeological companies\, museums\, universities\, and organizations. Typically\, more than 30 vendors take part in Arch in the Park. Arch in the Park is ideal for students and budding archaeologists to network\, as well as family fun. \nThis event is hosted by the San Diego County Archaeological Society. For more information\, questions\, and registration\, please contact the event organizer.
URL:https://sandiegoarchaeology.org/event/arch-in-the-park/
LOCATION:Los Penasquitos Ranch House\, 12122 Canyonside Park Drive\, San Diego\, CA\, 92129\, United States
CATEGORIES:Other Events of Interest
ORGANIZER;CN="San Diego County Archaeological Society":MAILTO:info@sdcas.org
END:VEVENT
END:VCALENDAR