BEGIN:VCALENDAR
VERSION:2.0
PRODID:-//SAN DIEGO ARCHAEOLOGICAL CENTER - ECPv6.15.20//NONSGML v1.0//EN
CALSCALE:GREGORIAN
METHOD:PUBLISH
X-ORIGINAL-URL:https://sandiegoarchaeology.org
X-WR-CALDESC:Events for SAN DIEGO ARCHAEOLOGICAL CENTER
REFRESH-INTERVAL;VALUE=DURATION:PT1H
X-Robots-Tag:noindex
X-PUBLISHED-TTL:PT1H
BEGIN:VTIMEZONE
TZID:America/Los_Angeles
BEGIN:DAYLIGHT
TZOFFSETFROM:-0800
TZOFFSETTO:-0700
TZNAME:PDT
DTSTART:20240310T100000
END:DAYLIGHT
BEGIN:STANDARD
TZOFFSETFROM:-0700
TZOFFSETTO:-0800
TZNAME:PST
DTSTART:20241103T090000
END:STANDARD
BEGIN:DAYLIGHT
TZOFFSETFROM:-0800
TZOFFSETTO:-0700
TZNAME:PDT
DTSTART:20250309T100000
END:DAYLIGHT
BEGIN:STANDARD
TZOFFSETFROM:-0700
TZOFFSETTO:-0800
TZNAME:PST
DTSTART:20251102T090000
END:STANDARD
BEGIN:DAYLIGHT
TZOFFSETFROM:-0800
TZOFFSETTO:-0700
TZNAME:PDT
DTSTART:20260308T100000
END:DAYLIGHT
BEGIN:STANDARD
TZOFFSETFROM:-0700
TZOFFSETTO:-0800
TZNAME:PST
DTSTART:20261101T090000
END:STANDARD
END:VTIMEZONE
BEGIN:VEVENT
DTSTART;TZID=America/Los_Angeles:20250411T173000
DTEND;TZID=America/Los_Angeles:20250411T193000
DTSTAMP:20260423T113515
CREATED:20250403T170540Z
LAST-MODIFIED:20250409T230030Z
UID:10002017-1744392600-1744399800@sandiegoarchaeology.org
SUMMARY:Member Exclusive: Bayside Trail Guided Walk at Cabrillo National Monument
DESCRIPTION:SDAC Members are invited to join the Cabrillo National Monument Foundation for an exclusive\, guided moonlight walk along Cabrillo National Monument’s Bayside Trail against the backdrop of the night sky\, downtown\, the bay\, Coronado Island and the Pacific Ocean. Witness the majestic Old Point Loma Lighthouse illuminated at night\, enjoy a complimentary cup of hot cocoa\, and take a stroll under the moonlit sky after hours in this exclusive member experience. \nCurrent SDAC membership and RSVP are required. Must RSVP by April 9. Space is limited to 30 members. No pets permitted. Wear walking shoes and warm clothes. Bring water and a flashlight.
URL:https://sandiegoarchaeology.org/event/members-only-moonlight-walk-lighthouse-experience/
LOCATION:Cabrillo National Monument\, 1800 Cabrillo Monument Dr\, San Diego\, CA\, 92106\, United States
CATEGORIES:SDAC Events
ATTACH;FMTTYPE=image/png:https://sandiegoarchaeology.org/wp-content/uploads/2025/04/Bayside-Walk-21.png
ORGANIZER;CN="San Diego Archaeological Center":MAILTO:aniesley@sandiegoarchaeology.org
END:VEVENT
END:VCALENDAR